PDS_VERSION_ID = PDS3
/* FILE DATA ELEMENTS */
RECORD_TYPE = STREAM
/* POINTERS TO DATA OBJECTS */
^COMPRESSED_FILE = "HC587_0000_P13.JP2"
/* IDENTIFICATION DATA ELEMENTS */
DATA_SET_ID = "MEX-M-HRSC-5-REFDR-MAPPROJECTED-V3.0"
DATA_SET_NAME = "MARS EXPRESS HRSC MAP PROJECTED REFDR V3.0"
DETECTOR_ID = MEX_HRSC_P1
EVENT_TYPE = "MARS-REGIONAL-STEREO-Vo-Ot"
INSTRUMENT_HOST_ID = MEX
INSTRUMENT_HOST_NAME = "MARS EXPRESS"
INSTRUMENT_ID = HRSC
INSTRUMENT_NAME = "HIGH RESOLUTION STEREO CAMERA"
MISSION_NAME = "MARS EXPRESS"
MISSION_PHASE_NAME = ME_Phase_29
PROCESSING_LEVEL_ID = 3
PRODUCT_CREATION_TIME = 2016-10-28T15:11:46.000Z
PRODUCT_ID = "HC587_0000_P13.JP2"
RELEASE_ID = 0119
REVISION_ID = 0000
/* QUALITY DATA ELEMENTS */
DATA_QUALITY_ID = 1
DATA_QUALITY_DESC = "Data calculated based on original SPICE kernels"
/* TIME DATA ELEMENTS */
SPACECRAFT_CLOCK_START_COUNT = "1/0333593264.08263"
SPACECRAFT_CLOCK_STOP_COUNT = "1/0333593578.31979"
START_TIME = 2013-11-27T00:49:13.795Z
STOP_TIME = 2013-11-27T00:52:28.949Z
/* ORBITAL DATA ELEMENTS */
ASCENDING_NODE_LONGITUDE = 337.46
MAXIMUM_RESOLUTION = 45.4
FOOTPRINT_POINT_LATITUDE = (-3.08104,-3.09978,-3.11907,-3.139, -3.15958,-3.10609,-2.74374,-2.27156, -1.90275,-1.52512,-1.14316,-0.952214, -0.759375,-0.565874,-0.372684,-0.177167 ,0.0185214,0.213598,0.411364,0.609519, 0.806674,1.10736,1.3078,1.51033,1.71257 ,1.9163,2.12115,2.32542,2.53232,2.73882 ,2.94069,3.15177,3.46832,3.67783, 3.99553,4.20742,4.42203,4.63638,4.85312 ,5.06947,5.28794,5.50633,5.72667,5.947, 6.16936,6.50392,6.72817,6.95401,7.00184 ,7.02107,7.0418,7.05692,7.0701,7.08971, 7.1023,7.11427,7.12584,7.1465,6.91959, 6.69455,6.46971,6.24603,5.91299,5.69145 ,5.47216,5.25253,5.03525,4.81718, 4.60192,4.27943,4.06619,3.85321,3.64194 ,3.42968,3.22057,2.90687,2.69987,2.3903 ,2.18571,1.87862,1.67603,1.3723,1.17168 ,0.87111,0.672694,0.473806,0.177911, -0.0186007,-0.21474,-0.409149,-0.603324 ,-0.797025,-0.988556,-1.18048,-1.372, -1.75103,-2.12775,-2.50133,-2.86958, -3.08104)
FOOTPRINT_POINT_LONGITUDE = (142.482,142.179,141.871,141.558, 141.241,140.753,140.732,140.722,140.7, 140.685,140.67,140.662,140.654,140.646, 140.637,140.629,140.621,140.612,140.603 ,140.594,140.584,140.571,140.562, 140.552,140.543,140.533,140.524,140.514 ,140.504,140.493,140.476,140.468, 140.453,140.441,140.423,140.411,140.399 ,140.386,140.374,140.362,140.349, 140.336,140.323,140.309,140.296,140.275 ,140.261,140.247,140.594,140.861, 141.177,141.411,141.619,141.928,142.133 ,142.336,142.538,142.922,142.918, 142.915,142.911,142.907,142.901,142.898 ,142.894,142.891,142.887,142.884, 142.881,142.876,142.872,142.869,142.866 ,142.863,142.86,142.855,142.852,142.848 ,142.845,142.841,142.838,142.834, 142.831,142.827,142.824,142.822,142.818 ,142.815,142.812,142.81,142.807,142.804 ,142.802,142.8,142.797,142.792,142.787, 142.783,142.779,142.482)
ORBIT_NUMBER = 12587
ORBITAL_ECCENTRICITY = 0.578
ORBITAL_INCLINATION = 86.88
ORBITAL_SEMIMAJOR_AXIS = 8825.21
PERIAPSIS_ALTITUDE = 334.23
PERIAPSIS_ARGUMENT_ANGLE = 327.04
PERIAPSIS_TIME = 2013-11-27T00:40:47.000Z
SPACECRAFT_ORIENTATION = (0.0,1.0,0.0)
^MEX_ORIENTATION_DESC = "MEX_ORIENTATION_DESC.TXT"
SPACECRAFT_POINTING_MODE = ACROSSTRACK
^MEX_POINTING_DESC = "MEX_POINTING_DESC.TXT"
RIGHT_ASCENSION = -1e+32
DECLINATION = -1e+32
OFFSET_ANGLE = 1.8
SPACECRAFT_SOLAR_DISTANCE = 2.48225e+08
TARGET_NAME = MARS
/* CAMERA DATA ELEMENTS */
DETECTOR_TEMPERATURE = 17.5549
FOCAL_PLANE_TEMPERATURE = 7.9716
INST_CMPRS_NAME = "DISCRETE COSINE TRANSFORMATION (DCT)"
INST_CMPRS_RATIO = 8.62188
INST_CMPRS_QUALITY = 0
INST_CMPRS_QUANTZ_TBL_ID = 0
INSTRUMENT_TEMPERATURE = 11.8457
LENS_TEMPERATURE = 8.5833
MACROPIXEL_SIZE = 2
MISSING_FRAMES = 0
PIXEL_SUBSAMPLING_FLAG = N
SIGNAL_CHAIN_ID = 3
/* RADIOMETRIC DATA ELEMENTS */
BANDWIDTH = 174.0
CENTER_FILTER_WAVELENGTH = 675.0
RADIANCE_OFFSET = 2.18171
RADIANCE_SCALING_FACTOR = 0.0191138
REFLECTANCE_SCALING_FACTOR = 0.000633471
MEX:REFLECTANCE_OFFSET = 0.0723062
/* IMAGE OBJECT DEFINITIONS */
OBJECT = IMAGE
  INTERCHANGE_FORMAT = BINARY
  LINES = 12146
  LINE_SAMPLES = 3035
  SAMPLE_TYPE = UNSIGNED_INTEGER
  SAMPLE_BITS = 8
  BANDS = 1
  BAND_STORAGE_TYPE = BAND_SEQUENTIAL
  MAXIMUM = 255
  MEAN = 121.971
  MINIMUM = 1
  STANDARD_DEVIATION = 13.5923
END_OBJECT = IMAGE
/* MAP OBJECT DEFINITIONS */
OBJECT = IMAGE_MAP_PROJECTION
  ^DATA_SET_MAP_PROJECTION_CATALOG= "DSMAP.CAT"
  A_AXIS_RADIUS = 3396.0
  B_AXIS_RADIUS = 3396.0
  C_AXIS_RADIUS = 3396.0
  CENTER_LATITUDE = 0.0
  CENTER_LONGITUDE = 142.0
  COORDINATE_SYSTEM_NAME = PLANETOGRAPHIC
  COORDINATE_SYSTEM_TYPE = "BODY-FIXED ROTATING"
  EASTERNMOST_LONGITUDE = 142.922
  FIRST_STANDARD_PARALLEL = "N/A"
  LINE_FIRST_PIXEL = 1
  LINE_LAST_PIXEL = 12146
  LINE_PROJECTION_OFFSET = 8422.75
  MAP_PROJECTION_ROTATION = 0.0
  MAP_PROJECTION_TYPE = SINUSOIDAL
  MAP_RESOLUTION = 1185.42760773333
  MAP_SCALE = 0.05
  MAXIMUM_LATITUDE = 7.1465
  MINIMUM_LATITUDE = -3.15958
  POSITIVE_LONGITUDE_DIRECTION = EAST
  REFERENCE_LATITUDE = "N/A"
  REFERENCE_LONGITUDE = "N/A"
  SAMPLE_FIRST_PIXEL = 1
  SAMPLE_LAST_PIXEL = 3035
  SAMPLE_PROJECTION_OFFSET = 2052.25
  SECOND_STANDARD_PARALLEL = "N/A"
  WESTERNMOST_LONGITUDE = 140.247
END_OBJECT = IMAGE_MAP_PROJECTION
/* The JPEG2000 image data file associated with this label. */
OBJECT = COMPRESSED_FILE
  FILE_NAME = "HC587_0000_P13.JP2"
  RECORD_TYPE = UNDEFINED
  FILE_RECORDS = UNK
  ENCODING_TYPE = "JP2"
  INTERCHANGE_FORMAT = BINARY
  UNCOMPRESSED_FILE_NAME = "HC587_0000_P13.IMG"
  REQUIRED_STORAGE_BYTES = "36887390"
  ^DESCRIPTION = "JP2INFO.TXT"
END_OBJECT = COMPRESSED_FILE
END
