PDS_VERSION_ID = PDS3
/* FILE DATA ELEMENTS */
RECORD_TYPE = STREAM
/* POINTERS TO DATA OBJECTS */
^COMPRESSED_FILE = "HC587_0000_S23.JP2"
/* IDENTIFICATION DATA ELEMENTS */
DATA_SET_ID = "MEX-M-HRSC-5-REFDR-MAPPROJECTED-V3.0"
DATA_SET_NAME = "MARS EXPRESS HRSC MAP PROJECTED REFDR V3.0"
DETECTOR_ID = MEX_HRSC_S2
EVENT_TYPE = "MARS-REGIONAL-STEREO-Vo-Ot"
INSTRUMENT_HOST_ID = MEX
INSTRUMENT_HOST_NAME = "MARS EXPRESS"
INSTRUMENT_ID = HRSC
INSTRUMENT_NAME = "HIGH RESOLUTION STEREO CAMERA"
MISSION_NAME = "MARS EXPRESS"
MISSION_PHASE_NAME = ME_Phase_29
PROCESSING_LEVEL_ID = 3
PRODUCT_CREATION_TIME = 2016-10-28T15:11:46.000Z
PRODUCT_ID = "HC587_0000_S23.JP2"
RELEASE_ID = 0119
REVISION_ID = 0000
/* QUALITY DATA ELEMENTS */
DATA_QUALITY_ID = 1
DATA_QUALITY_DESC = "Data calculated based on original SPICE kernels"
/* TIME DATA ELEMENTS */
SPACECRAFT_CLOCK_START_COUNT = "1/0333593264.08263"
SPACECRAFT_CLOCK_STOP_COUNT = "1/0333593578.31979"
START_TIME = 2013-11-27T00:47:48.651Z
STOP_TIME = 2013-11-27T00:50:30.296Z
/* ORBITAL DATA ELEMENTS */
ASCENDING_NODE_LONGITUDE = 337.46
MAXIMUM_RESOLUTION = 20.8
FOOTPRINT_POINT_LATITUDE = (-3.19784,-3.17747,-3.15612,-3.13373, -3.11019,-3.08554,-3.0429,-2.85727, -2.49566,-2.30994,-2.11709,-1.92973, -1.74413,-1.55274,-1.36273,-1.07768, -0.887896,-0.598942,-0.405263,-0.212516 ,-0.0191687,0.17747,0.374757,0.669704, 0.869058,1.16823,1.36813,1.67045,1.9749 ,2.17796,2.48696,2.69339,2.90008, 3.21544,3.53141,3.84965,4.06334,4.38396 ,4.60067,4.81712,5.03368,5.25311, 5.47302,5.69261,5.91532,6.13855,6.47466 ,6.70105,6.92735,7.15585,7.15537, 7.13713,7.1213,7.11036,7.0913,7.07274, 7.05584,6.93272,6.70495,6.36517,6.13929 ,5.80376,5.58006,5.35981,5.13927, 4.91882,4.70195,4.48491,4.16042,3.94666 ,3.73266,3.51982,3.31004,3.09943, 2.78414,2.57732,2.36948,2.0592,1.75274, 1.54835,1.34508,1.14492,0.944547, 0.744362,0.544597,0.347572,0.0521915, -0.242543,-0.435794,-0.629605,-0.823557 ,-1.11219,-1.39757,-1.5879,-1.87246, -2.05935,-2.24647,-2.52852,-2.90234, -3.19784)
FOOTPRINT_POINT_LONGITUDE = (142.567,142.293,142.014,141.729,141.44 ,141.145,140.837,140.829,140.824, 140.819,140.807,140.8,140.795,140.787, 140.78,140.771,140.764,140.755,140.748, 140.741,140.734,140.727,140.72,140.709, 140.701,140.69,140.683,140.671,140.659, 140.651,140.638,140.63,140.621,140.606, 140.592,140.577,140.567,140.552,140.542 ,140.532,140.521,140.511,140.5,140.489, 140.479,140.467,140.45,140.439,140.427, 140.415,140.675,140.98,141.28,141.485, 141.847,142.203,142.553,142.715,142.714 ,142.712,142.711,142.709,142.708, 142.707,142.706,142.705,142.704,142.703 ,142.701,142.7,142.699,142.698,142.697, 142.696,142.694,142.693,142.692,142.691 ,142.689,142.688,142.687,142.686, 142.685,142.684,142.683,142.682,142.68, 142.678,142.677,142.676,142.675,142.674 ,142.672,142.671,142.669,142.668, 142.667,142.666,142.665,142.567)
ORBIT_NUMBER = 12587
ORBITAL_ECCENTRICITY = 0.578
ORBITAL_INCLINATION = 86.88
ORBITAL_SEMIMAJOR_AXIS = 8825.21
PERIAPSIS_ALTITUDE = 334.23
PERIAPSIS_ARGUMENT_ANGLE = 327.04
PERIAPSIS_TIME = 2013-11-27T00:40:47.000Z
SPACECRAFT_ORIENTATION = (0.0,1.0,0.0)
^MEX_ORIENTATION_DESC = "MEX_ORIENTATION_DESC.TXT"
SPACECRAFT_POINTING_MODE = ACROSSTRACK
^MEX_POINTING_DESC = "MEX_POINTING_DESC.TXT"
RIGHT_ASCENSION = -1e+32
DECLINATION = -1e+32
OFFSET_ANGLE = 1.8
SPACECRAFT_SOLAR_DISTANCE = 2.48225e+08
TARGET_NAME = MARS
/* CAMERA DATA ELEMENTS */
DETECTOR_TEMPERATURE = 18.3705
FOCAL_PLANE_TEMPERATURE = 7.9716
INST_CMPRS_NAME = "DISCRETE COSINE TRANSFORMATION (DCT)"
INST_CMPRS_RATIO = 7.93377
INST_CMPRS_QUALITY = 0
INST_CMPRS_QUANTZ_TBL_ID = 0
INSTRUMENT_TEMPERATURE = 11.8457
LENS_TEMPERATURE = 8.5833
MACROPIXEL_SIZE = 1
MISSING_FRAMES = 0
PIXEL_SUBSAMPLING_FLAG = N
SIGNAL_CHAIN_ID = 1
/* RADIOMETRIC DATA ELEMENTS */
BANDWIDTH = 178.0
CENTER_FILTER_WAVELENGTH = 679.0
RADIANCE_OFFSET = 2.18948
RADIANCE_SCALING_FACTOR = 0.0193189
REFLECTANCE_SCALING_FACTOR = 0.000630385
MEX:REFLECTANCE_OFFSET = 0.0714436
/* IMAGE OBJECT DEFINITIONS */
OBJECT = IMAGE
  INTERCHANGE_FORMAT = BINARY
  LINES = 24292
  LINE_SAMPLES = 6069
  SAMPLE_TYPE = UNSIGNED_INTEGER
  SAMPLE_BITS = 8
  BANDS = 1
  BAND_STORAGE_TYPE = BAND_SEQUENTIAL
  MAXIMUM = 255
  MEAN = 125.915
  MINIMUM = 1
  STANDARD_DEVIATION = 15.2305
END_OBJECT = IMAGE
/* MAP OBJECT DEFINITIONS */
OBJECT = IMAGE_MAP_PROJECTION
  ^DATA_SET_MAP_PROJECTION_CATALOG= "DSMAP.CAT"
  A_AXIS_RADIUS = 3396.0
  B_AXIS_RADIUS = 3396.0
  C_AXIS_RADIUS = 3396.0
  CENTER_LATITUDE = 0.0
  CENTER_LONGITUDE = 142.0
  COORDINATE_SYSTEM_NAME = PLANETOGRAPHIC
  COORDINATE_SYSTEM_TYPE = "BODY-FIXED ROTATING"
  EASTERNMOST_LONGITUDE = 142.715
  FIRST_STANDARD_PARALLEL = "N/A"
  LINE_FIRST_PIXEL = 1
  LINE_LAST_PIXEL = 24292
  LINE_PROJECTION_OFFSET = 16846.0
  MAP_PROJECTION_ROTATION = 0.0
  MAP_PROJECTION_TYPE = SINUSOIDAL
  MAP_RESOLUTION = 2370.85521546667
  MAP_SCALE = 0.025
  MAXIMUM_LATITUDE = 7.15585
  MINIMUM_LATITUDE = -3.19784
  POSITIVE_LONGITUDE_DIRECTION = EAST
  REFERENCE_LATITUDE = "N/A"
  REFERENCE_LONGITUDE = "N/A"
  SAMPLE_FIRST_PIXEL = 1
  SAMPLE_LAST_PIXEL = 6069
  SAMPLE_PROJECTION_OFFSET = 4105.0
  SECOND_STANDARD_PARALLEL = "N/A"
  WESTERNMOST_LONGITUDE = 140.415
END_OBJECT = IMAGE_MAP_PROJECTION
/* The JPEG2000 image data file associated with this label. */
OBJECT = COMPRESSED_FILE
  FILE_NAME = "HC587_0000_S23.JP2"
  RECORD_TYPE = UNDEFINED
  FILE_RECORDS = UNK
  ENCODING_TYPE = "JP2"
  INTERCHANGE_FORMAT = BINARY
  UNCOMPRESSED_FILE_NAME = "HC587_0000_S23.IMG"
  REQUIRED_STORAGE_BYTES = "147458493"
  ^DESCRIPTION = "JP2INFO.TXT"
END_OBJECT = COMPRESSED_FILE
END
