PDS_VERSION_ID = PDS3
/* FILE DATA ELEMENTS */
RECORD_TYPE = STREAM
/* POINTERS TO DATA OBJECTS */
^COMPRESSED_FILE = "HC593_0000_BL3.JP2"
/* IDENTIFICATION DATA ELEMENTS */
DATA_SET_ID = "MEX-M-HRSC-5-REFDR-MAPPROJECTED-V3.0"
DATA_SET_NAME = "MARS EXPRESS HRSC MAP PROJECTED REFDR V3.0"
DETECTOR_ID = MEX_HRSC_BLUE
EVENT_TYPE = "MARS-LOCAL-STEREO-Vo-Te"
INSTRUMENT_HOST_ID = MEX
INSTRUMENT_HOST_NAME = "MARS EXPRESS"
INSTRUMENT_ID = HRSC
INSTRUMENT_NAME = "HIGH RESOLUTION STEREO CAMERA"
MISSION_NAME = "MARS EXPRESS"
MISSION_PHASE_NAME = ME_Phase_29
PROCESSING_LEVEL_ID = 3
PRODUCT_CREATION_TIME = 2016-10-28T15:11:46.000Z
PRODUCT_ID = "HC593_0000_BL3.JP2"
RELEASE_ID = 0119
REVISION_ID = 0000
/* QUALITY DATA ELEMENTS */
DATA_QUALITY_ID = 1
DATA_QUALITY_DESC = "Data calculated based on original SPICE kernels"
/* TIME DATA ELEMENTS */
SPACECRAFT_CLOCK_START_COUNT = "1/0333743874.09026"
SPACECRAFT_CLOCK_STOP_COUNT = "1/0333744019.42345"
START_TIME = 2013-11-28T18:38:23.807Z
STOP_TIME = 2013-11-28T18:39:42.722Z
/* ORBITAL DATA ELEMENTS */
ASCENDING_NODE_LONGITUDE = 337.35
MAXIMUM_RESOLUTION = 107.6
FOOTPRINT_POINT_LATITUDE = (-26.5263,-26.5256,-26.5251,-26.5239, -26.5226,-26.5209,-26.5185,-26.4177, -26.3176,-26.1675,-26.0174,-25.8674, -25.7174,-25.6174,-25.5175,-25.4175, -25.3175,-25.1676,-25.0178,-24.9179, -24.818,-24.6682,-24.5683,-24.4685, -24.3687,-24.2689,-24.1691,-24.0693, -23.9696,-23.82,-23.7203,-23.5707, -23.471,-23.3714,-23.2717,-23.1721, -23.0725,-22.9729,-22.8733,-22.724, -22.6245,-22.4753,-22.3758,-22.2763, -22.1769,-22.0775,-21.9781,-21.8788, -21.7795,-21.5809,-21.432,-21.3921, -21.3929,-21.3934,-21.3939,-21.3939, -21.3941,-21.495,-21.644,-21.7434, -21.8429,-21.9921,-22.0916,-22.2409, -22.3405,-22.44,-22.5395,-22.6391, -22.7887,-22.8885,-22.9881,-23.0877, -23.2372,-23.3868,-23.4866,-23.5864, -23.6862,-23.836,-23.9359,-24.0357, -24.1856,-24.3355,-24.4354,-24.5354, -24.6356,-24.7859,-24.8861,-25.036, -25.1362,-25.2865,-25.5355,-25.6354, -25.7856,-25.8857,-25.9858,-26.086, -26.1861,-26.2863,-26.3865,-26.5263)
FOOTPRINT_POINT_LONGITUDE = (250.969,250.774,250.653,250.457, 250.286,250.091,249.858,249.771,249.772 ,249.773,249.774,249.775,249.775, 249.776,249.777,249.777,249.778,249.778 ,249.779,249.779,249.78,249.78,249.781, 249.781,249.781,249.782,249.782,249.782 ,249.782,249.782,249.783,249.783, 249.783,249.783,249.783,249.783,249.783 ,249.783,249.783,249.783,249.783, 249.783,249.782,249.782,249.782,249.782 ,249.782,249.781,249.781,249.781,249.78 ,249.989,250.174,250.309,250.531, 250.716,250.937,251.092,251.091,251.091 ,251.09,251.089,251.089,251.088,251.087 ,251.087,251.087,251.086,251.085, 251.084,251.084,251.084,251.083,251.082 ,251.082,251.081,251.08,251.08,251.079, 251.078,251.078,251.077,251.076,251.076 ,251.075,251.073,251.072,251.072, 251.071,251.07,251.07,251.07,251.069, 251.068,251.068,251.067,251.066,251.066 ,251.065,250.969)
ORBIT_NUMBER = 12593
ORBITAL_ECCENTRICITY = 0.578
ORBITAL_INCLINATION = 86.88
ORBITAL_SEMIMAJOR_AXIS = 8828.39
PERIAPSIS_ALTITUDE = 332.99
PERIAPSIS_ARGUMENT_ANGLE = 325.97
PERIAPSIS_TIME = 2013-11-28T18:36:35.000Z
SPACECRAFT_ORIENTATION = (0.0,1.0,0.0)
^MEX_ORIENTATION_DESC = "MEX_ORIENTATION_DESC.TXT"
SPACECRAFT_POINTING_MODE = ACROSSTRACK
^MEX_POINTING_DESC = "MEX_POINTING_DESC.TXT"
RIGHT_ASCENSION = -1e+32
DECLINATION = -1e+32
OFFSET_ANGLE = 0.1
SPACECRAFT_SOLAR_DISTANCE = 2.48318e+08
TARGET_NAME = MARS
/* CAMERA DATA ELEMENTS */
DETECTOR_TEMPERATURE = 18.1666
FOCAL_PLANE_TEMPERATURE = 7.9716
INST_CMPRS_NAME = "DISCRETE COSINE TRANSFORMATION (DCT)"
INST_CMPRS_RATIO = 7.33137
INST_CMPRS_QUALITY = 0
INST_CMPRS_QUANTZ_TBL_ID = 0
INSTRUMENT_TEMPERATURE = 11.234
LENS_TEMPERATURE = 8.5833
MACROPIXEL_SIZE = 8
MISSING_FRAMES = 0
PIXEL_SUBSAMPLING_FLAG = N
SIGNAL_CHAIN_ID = 2
/* RADIOMETRIC DATA ELEMENTS */
BANDWIDTH = 76.0
CENTER_FILTER_WAVELENGTH = 444.0
RADIANCE_OFFSET = 0.103575
RADIANCE_SCALING_FACTOR = 0.00175394
REFLECTANCE_SCALING_FACTOR = 0.000111119
MEX:REFLECTANCE_OFFSET = 0.00656187
/* IMAGE OBJECT DEFINITIONS */
OBJECT = IMAGE
  INTERCHANGE_FORMAT = BINARY
  LINES = 3033
  LINE_SAMPLES = 792
  SAMPLE_TYPE = UNSIGNED_INTEGER
  SAMPLE_BITS = 8
  BANDS = 1
  BAND_STORAGE_TYPE = BAND_SEQUENTIAL
  MAXIMUM = 255
  MEAN = 107.799
  MINIMUM = 1
  STANDARD_DEVIATION = 16.2778
END_OBJECT = IMAGE
/* MAP OBJECT DEFINITIONS */
OBJECT = IMAGE_MAP_PROJECTION
  ^DATA_SET_MAP_PROJECTION_CATALOG= "DSMAP.CAT"
  A_AXIS_RADIUS = 3396.0
  B_AXIS_RADIUS = 3396.0
  C_AXIS_RADIUS = 3396.0
  CENTER_LATITUDE = 0.0
  CENTER_LONGITUDE = 250.0
  COORDINATE_SYSTEM_NAME = PLANETOGRAPHIC
  COORDINATE_SYSTEM_TYPE = "BODY-FIXED ROTATING"
  EASTERNMOST_LONGITUDE = 251.092
  FIRST_STANDARD_PARALLEL = "N/A"
  LINE_FIRST_PIXEL = 1
  LINE_LAST_PIXEL = 3033
  LINE_PROJECTION_OFFSET = -12683.3125
  MAP_PROJECTION_ROTATION = 0.0
  MAP_PROJECTION_TYPE = SINUSOIDAL
  MAP_RESOLUTION = 592.713803866667
  MAP_SCALE = 0.1
  MAXIMUM_LATITUDE = -21.3921
  MINIMUM_LATITUDE = -26.5263
  POSITIVE_LONGITUDE_DIRECTION = EAST
  REFERENCE_LATITUDE = "N/A"
  REFERENCE_LONGITUDE = "N/A"
  SAMPLE_FIRST_PIXEL = 1
  SAMPLE_LAST_PIXEL = 792
  SAMPLE_PROJECTION_OFFSET = 163.5625
  SECOND_STANDARD_PARALLEL = "N/A"
  WESTERNMOST_LONGITUDE = 249.771
END_OBJECT = IMAGE_MAP_PROJECTION
/* The JPEG2000 image data file associated with this label. */
OBJECT = COMPRESSED_FILE
  FILE_NAME = "HC593_0000_BL3.JP2"
  RECORD_TYPE = UNDEFINED
  FILE_RECORDS = UNK
  ENCODING_TYPE = "JP2"
  INTERCHANGE_FORMAT = BINARY
  UNCOMPRESSED_FILE_NAME = "HC593_0000_BL3.IMG"
  REQUIRED_STORAGE_BYTES = "2419560"
  ^DESCRIPTION = "JP2INFO.TXT"
END_OBJECT = COMPRESSED_FILE
END
