PDS_VERSION_ID = PDS3
/* FILE DATA ELEMENTS */
RECORD_TYPE = STREAM
/* POINTERS TO DATA OBJECTS */
^COMPRESSED_FILE = "HC598_0017_GR3.JP2"
/* IDENTIFICATION DATA ELEMENTS */
DATA_SET_ID = "MEX-M-HRSC-5-REFDR-MAPPROJECTED-V3.0"
DATA_SET_NAME = "MARS EXPRESS HRSC MAP PROJECTED REFDR V3.0"
DETECTOR_ID = MEX_HRSC_GREEN
EVENT_TYPE = "MARS-REGIONAL-MAPPING-Te-Im-Fl"
INSTRUMENT_HOST_ID = MEX
INSTRUMENT_HOST_NAME = "MARS EXPRESS"
INSTRUMENT_ID = HRSC
INSTRUMENT_NAME = "HIGH RESOLUTION STEREO CAMERA"
MISSION_NAME = "MARS EXPRESS"
MISSION_PHASE_NAME = ME_Phase_29
PROCESSING_LEVEL_ID = 3
PRODUCT_CREATION_TIME = 2016-10-28T15:11:46.000Z
PRODUCT_ID = "HC598_0017_GR3.JP2"
RELEASE_ID = 0119
REVISION_ID = 0000
/* QUALITY DATA ELEMENTS */
DATA_QUALITY_ID = 1
DATA_QUALITY_DESC = "Data calculated based on original SPICE kernels"
/* TIME DATA ELEMENTS */
SPACECRAFT_CLOCK_START_COUNT = "1/0333869688.08256"
SPACECRAFT_CLOCK_STOP_COUNT = "1/0333869961.17355"
START_TIME = 2013-11-30T05:35:29.945Z
STOP_TIME = 2013-11-30T05:38:47.396Z
/* ORBITAL DATA ELEMENTS */
ASCENDING_NODE_LONGITUDE = 337.25
MAXIMUM_RESOLUTION = 56
FOOTPRINT_POINT_LATITUDE = (-25.7013,-25.7007,-25.699,-25.6984, -25.4802,-25.2618,-25.0434,-24.8247, -24.6077,-24.2822,-23.9562,-23.739, -23.3052,-22.8715,-22.4909,-22.2333, -21.8466,-21.5892,-21.3321,-20.9466, -20.6898,-20.4333,-20.1767,-19.9207, -19.6651,-19.4097,-19.1544,-18.8996, -18.5175,-18.2632,-18.009,-17.7552, -17.5016,-17.2484,-16.9796,-16.727, -16.4746,-16.2179,-15.8311,-15.4442, -15.1854,-14.7911,-14.5276,-14.2644, -14.0016,-13.733,-13.3299,-13.237, -13.2344,-13.2297,-13.2266,-13.222, -13.4906,-13.7599,-14.0283,-14.2916, -14.5553,-14.8193,-15.214,-15.4722, -15.7306,-16.119,-16.378,-16.6307, -16.8836,-17.2793,-17.5331,-17.7874, -18.0416,-18.4248,-18.68,-19.0624, -19.3171,-19.5731,-19.8293,-20.0857, -20.3423,-20.5991,-20.856,-21.1133, -21.3709,-21.6291,-21.8872,-22.1455, -22.4039,-22.6626,-22.9067,-23.1237, -23.3409,-23.5583,-23.7758,-23.9935, -24.2113,-24.5381,-24.7561,-24.9743, -25.1925,-25.4111,-25.6297,-25.7013)
FOOTPRINT_POINT_LONGITUDE = (98.4008,97.9851,97.5555,97.2748, 97.2794,97.2856,97.2931,97.303,97.3012, 97.2998,97.3039,97.3067,97.3108,97.3179 ,97.3273,97.3265,97.3295,97.3306, 97.3306,97.333,97.3346,97.3358,97.3389, 97.3393,97.3391,97.3386,97.3386,97.3378 ,97.3382,97.3372,97.3372,97.3366, 97.3362,97.3349,97.3336,97.3318,97.3309 ,97.3309,97.3226,97.3187,97.3231, 97.3168,97.3137,97.3107,97.3072,97.303, 97.2974,97.5719,97.8147,98.2017,98.4921 ,98.8843,98.8818,98.8789,98.8754, 98.8726,98.8696,98.8666,98.8614,98.8581 ,98.855,98.85,98.8467,98.8435,98.8406, 98.8357,98.8323,98.8285,98.8252,98.8175 ,98.8136,98.8092,98.8074,98.8035, 98.7996,98.7958,98.792,98.7883,98.7847, 98.7808,98.7768,98.7717,98.7675,98.7631 ,98.7588,98.7545,98.7503,98.7468, 98.7428,98.7389,98.7349,98.7308,98.7268 ,98.7209,98.7168,98.7128,98.7088, 98.7043,98.6998,98.4008)
ORBIT_NUMBER = 12598
ORBITAL_ECCENTRICITY = 0.578
ORBITAL_INCLINATION = 86.89
ORBITAL_SEMIMAJOR_AXIS = 8824.97
PERIAPSIS_ALTITUDE = 332.65
PERIAPSIS_ARGUMENT_ANGLE = 325.13
PERIAPSIS_TIME = 2013-11-30T05:33:05.000Z
SPACECRAFT_ORIENTATION = (0.0,1.0,0.0)
^MEX_ORIENTATION_DESC = "MEX_ORIENTATION_DESC.TXT"
SPACECRAFT_POINTING_MODE = ACROSSTRACK
^MEX_POINTING_DESC = "MEX_POINTING_DESC.TXT"
RIGHT_ASCENSION = -1e+32
DECLINATION = -1e+32
OFFSET_ANGLE = 1.346
SPACECRAFT_SOLAR_DISTANCE = 2.48392e+08
TARGET_NAME = MARS
/* CAMERA DATA ELEMENTS */
DETECTOR_TEMPERATURE = 18.5744
FOCAL_PLANE_TEMPERATURE = 8.5833
INST_CMPRS_NAME = "DISCRETE COSINE TRANSFORMATION (DCT)"
INST_CMPRS_RATIO = 8.37531
INST_CMPRS_QUALITY = 0
INST_CMPRS_QUANTZ_TBL_ID = 0
INSTRUMENT_TEMPERATURE = 11.8457
LENS_TEMPERATURE = 8.7872
MACROPIXEL_SIZE = 4
MISSING_FRAMES = 2
PIXEL_SUBSAMPLING_FLAG = N
SIGNAL_CHAIN_ID = 2
/* RADIOMETRIC DATA ELEMENTS */
BANDWIDTH = 88.0
CENTER_FILTER_WAVELENGTH = 538.0
RADIANCE_OFFSET = 0.29353
RADIANCE_SCALING_FACTOR = 0.00402884
REFLECTANCE_SCALING_FACTOR = 0.000214016
MEX:REFLECTANCE_OFFSET = 0.0155926
/* IMAGE OBJECT DEFINITIONS */
OBJECT = IMAGE
  INTERCHANGE_FORMAT = BINARY
  LINES = 14800
  LINE_SAMPLES = 1967
  SAMPLE_TYPE = UNSIGNED_INTEGER
  SAMPLE_BITS = 8
  BANDS = 1
  BAND_STORAGE_TYPE = BAND_SEQUENTIAL
  MAXIMUM = 255
  MEAN = 111.889
  MINIMUM = 1
  STANDARD_DEVIATION = 25.5422
END_OBJECT = IMAGE
/* MAP OBJECT DEFINITIONS */
OBJECT = IMAGE_MAP_PROJECTION
  ^DATA_SET_MAP_PROJECTION_CATALOG= "DSMAP.CAT"
  A_AXIS_RADIUS = 3396.0
  B_AXIS_RADIUS = 3396.0
  C_AXIS_RADIUS = 3396.0
  CENTER_LATITUDE = 0.0
  CENTER_LONGITUDE = 98.0
  COORDINATE_SYSTEM_NAME = PLANETOGRAPHIC
  COORDINATE_SYSTEM_TYPE = "BODY-FIXED ROTATING"
  EASTERNMOST_LONGITUDE = 98.8843
  FIRST_STANDARD_PARALLEL = "N/A"
  LINE_FIRST_PIXEL = 1
  LINE_LAST_PIXEL = 14800
  LINE_PROJECTION_OFFSET = -15697.875
  MAP_PROJECTION_ROTATION = 0.0
  MAP_PROJECTION_TYPE = SINUSOIDAL
  MAP_RESOLUTION = 1185.42760773333
  MAP_SCALE = 0.05
  MAXIMUM_LATITUDE = -13.222
  MINIMUM_LATITUDE = -25.7013
  POSITIVE_LONGITUDE_DIRECTION = EAST
  REFERENCE_LATITUDE = "N/A"
  REFERENCE_LONGITUDE = "N/A"
  SAMPLE_FIRST_PIXEL = 1
  SAMPLE_LAST_PIXEL = 1967
  SAMPLE_PROJECTION_OFFSET = 954.875
  SECOND_STANDARD_PARALLEL = "N/A"
  WESTERNMOST_LONGITUDE = 97.2748
END_OBJECT = IMAGE_MAP_PROJECTION
/* The JPEG2000 image data file associated with this label. */
OBJECT = COMPRESSED_FILE
  FILE_NAME = "HC598_0017_GR3.JP2"
  RECORD_TYPE = UNDEFINED
  FILE_RECORDS = UNK
  ENCODING_TYPE = "JP2"
  INTERCHANGE_FORMAT = BINARY
  UNCOMPRESSED_FILE_NAME = "HC598_0017_GR3.IMG"
  REQUIRED_STORAGE_BYTES = "29131270"
  ^DESCRIPTION = "JP2INFO.TXT"
END_OBJECT = COMPRESSED_FILE
END
