PDS_VERSION_ID = PDS3
/* FILE DATA ELEMENTS */
RECORD_TYPE = STREAM
/* POINTERS TO DATA OBJECTS */
^COMPRESSED_FILE = "HC598_0017_S13.JP2"
/* IDENTIFICATION DATA ELEMENTS */
DATA_SET_ID = "MEX-M-HRSC-5-REFDR-MAPPROJECTED-V3.0"
DATA_SET_NAME = "MARS EXPRESS HRSC MAP PROJECTED REFDR V3.0"
DETECTOR_ID = MEX_HRSC_S1
EVENT_TYPE = "MARS-REGIONAL-MAPPING-Te-Im-Fl"
INSTRUMENT_HOST_ID = MEX
INSTRUMENT_HOST_NAME = "MARS EXPRESS"
INSTRUMENT_ID = HRSC
INSTRUMENT_NAME = "HIGH RESOLUTION STEREO CAMERA"
MISSION_NAME = "MARS EXPRESS"
MISSION_PHASE_NAME = ME_Phase_29
PROCESSING_LEVEL_ID = 3
PRODUCT_CREATION_TIME = 2016-10-28T15:11:46.000Z
PRODUCT_ID = "HC598_0017_S13.JP2"
RELEASE_ID = 0119
REVISION_ID = 0000
/* QUALITY DATA ELEMENTS */
DATA_QUALITY_ID = 1
DATA_QUALITY_DESC = "Data calculated based on original SPICE kernels"
/* TIME DATA ELEMENTS */
SPACECRAFT_CLOCK_START_COUNT = "1/0333869688.08256"
SPACECRAFT_CLOCK_STOP_COUNT = "1/0333869961.17355"
START_TIME = 2013-11-30T05:35:57.567Z
STOP_TIME = 2013-11-30T05:39:23.779Z
/* ORBITAL DATA ELEMENTS */
ASCENDING_NODE_LONGITUDE = 337.25
MAXIMUM_RESOLUTION = 30.4
FOOTPRINT_POINT_LATITUDE = (-25.656,-25.6702,-25.6845,-25.699, -25.7357,-25.5207,-25.1979,-24.8716, -24.5394,-24.2904,-24.0381,-23.7855, -23.5342,-23.1561,-22.7738,-22.5212, -22.2741,-22.0244,-21.7777,-21.5286, -21.1562,-20.9083,-20.5373,-20.2886, -19.9172,-19.6719,-19.4274,-19.1828, -18.9378,-18.5717,-18.3262,-18.0757, -17.7018,-17.4524,-17.204,-16.95, -16.6968,-16.3159,-16.0616,-15.8055, -15.55,-15.2873,-15.0298,-14.7674, -14.5053,-14.2457,-13.9827,-13.7169, -13.3184,-13.2561,-13.2253,-13.2078, -13.1855,-13.3014,-13.5655,-13.9681, -14.3596,-14.6218,-14.8847,-15.1448, -15.5324,-15.7907,-16.0489,-16.3022, -16.556,-16.9361,-17.1886,-17.4366, -17.6868,-17.9373,-18.1866,-18.4399, -18.688,-18.9214,-19.1747,-19.4153, -19.6618,-19.9087,-20.1558,-20.5265, -20.7737,-21.0218,-21.2706,-21.5217, -21.8968,-22.2728,-22.5237,-22.7747, -23.0256,-23.4042,-23.6568,-23.9101, -24.1638,-24.4168,-24.6552,-24.8677, -25.0807,-25.4014,-25.6156,-25.656)
FOOTPRINT_POINT_LONGITUDE = (98.309,98.0865,97.8603,97.6301,97.2416 ,97.2469,97.2554,97.2679,97.2656, 97.2645,97.2672,97.2704,97.2724,97.2769 ,97.2862,97.2902,97.2888,97.2903,97.289 ,97.2904,97.2915,97.2922,97.2927, 97.2947,97.2965,97.2958,97.2945,97.2936 ,97.2933,97.2919,97.2907,97.2901, 97.2881,97.2873,97.2855,97.2834,97.2808 ,97.2785,97.2766,97.2718,97.2668, 97.2685,97.2651,97.2614,97.2578,97.2524 ,97.248,97.2431,97.2362,97.6401,98.0695 ,98.3598,98.6943,98.9184,98.9152, 98.9092,98.9039,98.9002,98.8965,98.8925 ,98.8867,98.8829,98.879,98.8753,98.8714 ,98.866,98.8623,98.8587,98.8546,98.8505 ,98.8469,98.8412,98.8362,98.8358, 98.8294,98.827,98.8228,98.8187,98.8145, 98.8084,98.8045,98.8003,98.796,98.7909, 98.7841,98.7771,98.7724,98.7678,98.7633 ,98.7559,98.751,98.7459,98.7407,98.7359 ,98.731,98.7268,98.7225,98.7157,98.711, 98.309)
ORBIT_NUMBER = 12598
ORBITAL_ECCENTRICITY = 0.578
ORBITAL_INCLINATION = 86.89
ORBITAL_SEMIMAJOR_AXIS = 8824.97
PERIAPSIS_ALTITUDE = 332.65
PERIAPSIS_ARGUMENT_ANGLE = 325.13
PERIAPSIS_TIME = 2013-11-30T05:33:05.000Z
SPACECRAFT_ORIENTATION = (0.0,1.0,0.0)
^MEX_ORIENTATION_DESC = "MEX_ORIENTATION_DESC.TXT"
SPACECRAFT_POINTING_MODE = ACROSSTRACK
^MEX_POINTING_DESC = "MEX_POINTING_DESC.TXT"
RIGHT_ASCENSION = -1e+32
DECLINATION = -1e+32
OFFSET_ANGLE = 1.346
SPACECRAFT_SOLAR_DISTANCE = 2.48392e+08
TARGET_NAME = MARS
/* CAMERA DATA ELEMENTS */
DETECTOR_TEMPERATURE = 17.5549
FOCAL_PLANE_TEMPERATURE = 8.5833
INST_CMPRS_NAME = "DISCRETE COSINE TRANSFORMATION (DCT)"
INST_CMPRS_RATIO = 9.45902
INST_CMPRS_QUALITY = 0
INST_CMPRS_QUANTZ_TBL_ID = 0
INSTRUMENT_TEMPERATURE = 11.8457
LENS_TEMPERATURE = 8.7872
MACROPIXEL_SIZE = 2
MISSING_FRAMES = 0
PIXEL_SUBSAMPLING_FLAG = N
SIGNAL_CHAIN_ID = 1
/* RADIOMETRIC DATA ELEMENTS */
BANDWIDTH = 180.0
CENTER_FILTER_WAVELENGTH = 677.0
RADIANCE_OFFSET = 0.71069
RADIANCE_SCALING_FACTOR = 0.0130061
REFLECTANCE_SCALING_FACTOR = 0.000418666
MEX:REFLECTANCE_OFFSET = 0.0228771
/* IMAGE OBJECT DEFINITIONS */
OBJECT = IMAGE
  INTERCHANGE_FORMAT = BINARY
  LINES = 29599
  LINE_SAMPLES = 3934
  SAMPLE_TYPE = UNSIGNED_INTEGER
  SAMPLE_BITS = 8
  BANDS = 1
  BAND_STORAGE_TYPE = BAND_SEQUENTIAL
  MAXIMUM = 255
  MEAN = 99.875
  MINIMUM = 1
  STANDARD_DEVIATION = 23.0381
END_OBJECT = IMAGE
/* MAP OBJECT DEFINITIONS */
OBJECT = IMAGE_MAP_PROJECTION
  ^DATA_SET_MAP_PROJECTION_CATALOG= "DSMAP.CAT"
  A_AXIS_RADIUS = 3396.0
  B_AXIS_RADIUS = 3396.0
  C_AXIS_RADIUS = 3396.0
  CENTER_LATITUDE = 0.0
  CENTER_LONGITUDE = 98.0
  COORDINATE_SYSTEM_NAME = PLANETOGRAPHIC
  COORDINATE_SYSTEM_TYPE = "BODY-FIXED ROTATING"
  EASTERNMOST_LONGITUDE = 98.91840000000001
  FIRST_STANDARD_PARALLEL = "N/A"
  LINE_FIRST_PIXEL = 1
  LINE_LAST_PIXEL = 29599
  LINE_PROJECTION_OFFSET = -31395.25
  MAP_PROJECTION_ROTATION = 0.0
  MAP_PROJECTION_TYPE = SINUSOIDAL
  MAP_RESOLUTION = 2370.85521546667
  MAP_SCALE = 0.025
  MAXIMUM_LATITUDE = -13.1855
  MINIMUM_LATITUDE = -25.7357
  POSITIVE_LONGITUDE_DIRECTION = EAST
  REFERENCE_LATITUDE = "N/A"
  REFERENCE_LONGITUDE = "N/A"
  SAMPLE_FIRST_PIXEL = 1
  SAMPLE_LAST_PIXEL = 3934
  SAMPLE_PROJECTION_OFFSET = 1910.25
  SECOND_STANDARD_PARALLEL = "N/A"
  WESTERNMOST_LONGITUDE = 97.2362
END_OBJECT = IMAGE_MAP_PROJECTION
/* The JPEG2000 image data file associated with this label. */
OBJECT = COMPRESSED_FILE
  FILE_NAME = "HC598_0017_S13.JP2"
  RECORD_TYPE = UNDEFINED
  FILE_RECORDS = UNK
  ENCODING_TYPE = "JP2"
  INTERCHANGE_FORMAT = BINARY
  UNCOMPRESSED_FILE_NAME = "HC598_0017_S13.IMG"
  REQUIRED_STORAGE_BYTES = "116466070"
  ^DESCRIPTION = "JP2INFO.TXT"
END_OBJECT = COMPRESSED_FILE
END
