PDS_VERSION_ID = PDS3
/* FILE DATA ELEMENTS */
RECORD_TYPE = STREAM
/* POINTERS TO DATA OBJECTS */
^COMPRESSED_FILE = "HC600_0000_S13.JP2"
/* IDENTIFICATION DATA ELEMENTS */
DATA_SET_ID = "MEX-M-HRSC-5-REFDR-MAPPROJECTED-V3.0"
DATA_SET_NAME = "MARS EXPRESS HRSC MAP PROJECTED REFDR V3.0"
DETECTOR_ID = MEX_HRSC_S1
EVENT_TYPE = "MARS-REGIONAL-STEREO-Vo-Te"
INSTRUMENT_HOST_ID = MEX
INSTRUMENT_HOST_NAME = "MARS EXPRESS"
INSTRUMENT_ID = HRSC
INSTRUMENT_NAME = "HIGH RESOLUTION STEREO CAMERA"
MISSION_NAME = "MARS EXPRESS"
MISSION_PHASE_NAME = ME_Phase_29
PROCESSING_LEVEL_ID = 3
PRODUCT_CREATION_TIME = 2016-10-28T15:11:46.000Z
PRODUCT_ID = "HC600_0000_S13.JP2"
RELEASE_ID = 0119
REVISION_ID = 0000
/* QUALITY DATA ELEMENTS */
DATA_QUALITY_ID = 1
DATA_QUALITY_DESC = "Data calculated based on original SPICE kernels"
/* TIME DATA ELEMENTS */
SPACECRAFT_CLOCK_START_COUNT = "1/0333919961.07344"
SPACECRAFT_CLOCK_STOP_COUNT = "1/0333920148.29347"
START_TIME = 2013-11-30T19:33:46.934Z
STOP_TIME = 2013-11-30T19:35:51.029Z
/* ORBITAL DATA ELEMENTS */
ASCENDING_NODE_LONGITUDE = 337.21
MAXIMUM_RESOLUTION = 28.7
FOOTPRINT_POINT_LATITUDE = (-28.958,-28.9633,-28.9686,-28.9738, -28.9788,-28.9838,-28.9059,-28.7565, -28.533,-28.3838,-28.1605,-28.0111, -27.8628,-27.7141,-27.5665,-27.4176, -27.1923,-27.0425,-26.8932,-26.7435, -26.5926,-26.4435,-26.2943,-26.1458, -25.9244,-25.7047,-25.5552,-25.4059, -25.2595,-25.1138,-24.9668,-24.7464, -24.5997,-24.4532,-24.3066,-24.1599, -24.0133,-23.8671,-23.6478,-23.3863, -23.2123,-23.0382,-22.7771,-22.5164, -22.343,-22.1695,-21.9963,-21.8233, -21.5636,-21.3912,-21.2197,-21.2133, -21.199,-21.1861,-21.176,-21.1696, -21.3418,-21.5141,-21.6865,-21.8596, -22.0329,-22.2063,-22.3799,-22.5536, -22.7275,-22.9015,-23.0756,-23.2498, -23.4244,-23.6722,-23.8186,-23.9655, -24.1857,-24.406,-24.553,-24.7742, -24.9217,-25.0691,-25.2215,-25.3737, -25.6585,-25.8067,-25.9563,-26.1047, -26.2517,-26.4764,-26.6259,-26.7746, -26.9237,-27.0735,-27.2228,-27.3714, -27.5215,-27.7448,-27.9677,-28.1891, -28.3391,-28.5632,-28.714,-28.958)
FOOTPRINT_POINT_LONGITUDE = (254.969,254.759,254.547,254.334, 254.118,253.901,253.698,253.7,253.703, 253.705,253.707,253.709,253.711,253.712 ,253.713,253.715,253.719,253.721, 253.724,253.726,253.729,253.731,253.733 ,253.735,253.736,253.737,253.739, 253.741,253.742,253.741,253.742,253.743 ,253.744,253.744,253.745,253.745, 253.746,253.746,253.747,253.747,253.748 ,253.748,253.749,253.749,253.749, 253.749,253.749,253.749,253.749,253.749 ,253.749,253.974,254.353,254.659, 254.973,255.181,255.179,255.177,255.175 ,255.173,255.171,255.169,255.166, 255.164,255.162,255.16,255.158,255.155, 255.153,255.15,255.148,255.146,255.143, 255.14,255.138,255.135,255.133,255.131, 255.129,255.127,255.123,255.121,255.119 ,255.117,255.115,255.112,255.109, 255.107,255.105,255.103,255.101,255.098 ,255.096,255.093,255.089,255.086, 255.083,255.08,255.078,254.969)
ORBIT_NUMBER = 12600
ORBITAL_ECCENTRICITY = 0.578
ORBITAL_INCLINATION = 86.88
ORBITAL_SEMIMAJOR_AXIS = 8826.28
PERIAPSIS_ALTITUDE = 332.78
PERIAPSIS_ARGUMENT_ANGLE = 324.78
PERIAPSIS_TIME = 2013-11-30T19:31:42.000Z
SPACECRAFT_ORIENTATION = (0.0,1.0,0.0)
^MEX_ORIENTATION_DESC = "MEX_ORIENTATION_DESC.TXT"
SPACECRAFT_POINTING_MODE = ACROSSTRACK
^MEX_POINTING_DESC = "MEX_POINTING_DESC.TXT"
RIGHT_ASCENSION = -1e+32
DECLINATION = -1e+32
OFFSET_ANGLE = 0.6
SPACECRAFT_SOLAR_DISTANCE = 2.48421e+08
TARGET_NAME = MARS
/* CAMERA DATA ELEMENTS */
DETECTOR_TEMPERATURE = 17.5549
FOCAL_PLANE_TEMPERATURE = 8.5833
INST_CMPRS_NAME = "DISCRETE COSINE TRANSFORMATION (DCT)"
INST_CMPRS_RATIO = 7.00429
INST_CMPRS_QUALITY = 0
INST_CMPRS_QUANTZ_TBL_ID = 0
INSTRUMENT_TEMPERATURE = 11.4379
LENS_TEMPERATURE = 8.7872
MACROPIXEL_SIZE = 2
MISSING_FRAMES = 0
PIXEL_SUBSAMPLING_FLAG = N
SIGNAL_CHAIN_ID = 1
/* RADIOMETRIC DATA ELEMENTS */
BANDWIDTH = 180.0
CENTER_FILTER_WAVELENGTH = 677.0
RADIANCE_OFFSET = 0.530432
RADIANCE_SCALING_FACTOR = 0.0232714
REFLECTANCE_SCALING_FACTOR = 0.000749273
MEX:REFLECTANCE_OFFSET = 0.0170784
/* IMAGE OBJECT DEFINITIONS */
OBJECT = IMAGE
  INTERCHANGE_FORMAT = BINARY
  LINES = 18430
  LINE_SAMPLES = 3342
  SAMPLE_TYPE = UNSIGNED_INTEGER
  SAMPLE_BITS = 8
  BANDS = 1
  BAND_STORAGE_TYPE = BAND_SEQUENTIAL
  MAXIMUM = 255
  MEAN = 79.6252
  MINIMUM = 1
  STANDARD_DEVIATION = 29.4906
END_OBJECT = IMAGE
/* MAP OBJECT DEFINITIONS */
OBJECT = IMAGE_MAP_PROJECTION
  ^DATA_SET_MAP_PROJECTION_CATALOG= "DSMAP.CAT"
  A_AXIS_RADIUS = 3396.0
  B_AXIS_RADIUS = 3396.0
  C_AXIS_RADIUS = 3396.0
  CENTER_LATITUDE = 0.0
  CENTER_LONGITUDE = 254.0
  COORDINATE_SYSTEM_NAME = PLANETOGRAPHIC
  COORDINATE_SYSTEM_TYPE = "BODY-FIXED ROTATING"
  EASTERNMOST_LONGITUDE = 255.181
  FIRST_STANDARD_PARALLEL = "N/A"
  LINE_FIRST_PIXEL = 1
  LINE_LAST_PIXEL = 18430
  LINE_PROJECTION_OFFSET = -50357.25
  MAP_PROJECTION_ROTATION = 0.0
  MAP_PROJECTION_TYPE = SINUSOIDAL
  MAP_RESOLUTION = 2370.85521546667
  MAP_SCALE = 0.025
  MAXIMUM_LATITUDE = -21.1696
  MINIMUM_LATITUDE = -28.9838
  POSITIVE_LONGITUDE_DIRECTION = EAST
  REFERENCE_LATITUDE = "N/A"
  REFERENCE_LONGITUDE = "N/A"
  SAMPLE_FIRST_PIXEL = 1
  SAMPLE_LAST_PIXEL = 3342
  SAMPLE_PROJECTION_OFFSET = 790.75
  SECOND_STANDARD_PARALLEL = "N/A"
  WESTERNMOST_LONGITUDE = 253.698
END_OBJECT = IMAGE_MAP_PROJECTION
/* The JPEG2000 image data file associated with this label. */
OBJECT = COMPRESSED_FILE
  FILE_NAME = "HC600_0000_S13.JP2"
  RECORD_TYPE = UNDEFINED
  FILE_RECORDS = UNK
  ENCODING_TYPE = "JP2"
  INTERCHANGE_FORMAT = BINARY
  UNCOMPRESSED_FILE_NAME = "HC600_0000_S13.IMG"
  REQUIRED_STORAGE_BYTES = "61616454"
  ^DESCRIPTION = "JP2INFO.TXT"
END_OBJECT = COMPRESSED_FILE
END
