PDS_VERSION_ID = PDS3
/* FILE DATA ELEMENTS */
RECORD_TYPE = STREAM
/* POINTERS TO DATA OBJECTS */
^COMPRESSED_FILE = "HC609_0000_BL3.JP2"
/* IDENTIFICATION DATA ELEMENTS */
DATA_SET_ID = "MEX-M-HRSC-5-REFDR-MAPPROJECTED-V3.0"
DATA_SET_NAME = "MARS EXPRESS HRSC MAP PROJECTED REFDR V3.0"
DETECTOR_ID = MEX_HRSC_BLUE
EVENT_TYPE = "MARS-REGIONAL-MAPPING-Im-Fl-La"
INSTRUMENT_HOST_ID = MEX
INSTRUMENT_HOST_NAME = "MARS EXPRESS"
INSTRUMENT_ID = HRSC
INSTRUMENT_NAME = "HIGH RESOLUTION STEREO CAMERA"
MISSION_NAME = "MARS EXPRESS"
MISSION_PHASE_NAME = ME_Phase_29
PROCESSING_LEVEL_ID = 3
PRODUCT_CREATION_TIME = 2016-10-28T21:13:36.000Z
PRODUCT_ID = "HC609_0000_BL3.JP2"
RELEASE_ID = 0120
REVISION_ID = 0000
/* QUALITY DATA ELEMENTS */
DATA_QUALITY_ID = 1
DATA_QUALITY_DESC = "Data calculated based on original SPICE kernels"
/* TIME DATA ELEMENTS */
SPACECRAFT_CLOCK_START_COUNT = "1/0334146361.07296"
SPACECRAFT_CLOCK_STOP_COUNT = "1/0334146525.37889"
START_TIME = 2013-12-03T10:26:30.694Z
STOP_TIME = 2013-12-03T10:28:09.158Z
/* ORBITAL DATA ELEMENTS */
ASCENDING_NODE_LONGITUDE = 337.04
MAXIMUM_RESOLUTION = 54.2
FOOTPRINT_POINT_LATITUDE = (-31.3767,-31.3746,-31.3721,-31.3692, -31.3659,-31.3623,-31.3579,-31.1597, -30.9745,-30.7272,-30.5422,-30.4185, -30.2331,-30.1054,-29.9139,-29.7864, -29.595,-29.4674,-29.2761,-29.1484, -29.021,-28.8297,-28.7018,-28.5099, -28.3825,-28.1916,-28.0641,-27.9366, -27.7454,-27.6183,-27.491,-27.3637, -27.1727,-27.045,-26.9178,-26.7904, -26.5995,-26.4092,-26.2814,-26.1541, -26.0269,-25.9,-25.7097,-25.584, -25.4572,-25.33,-25.202,-25.0753, -24.948,-24.9398,-24.9415,-24.9441, -24.9464,-24.9484,-24.9491,-24.9503, -25.1408,-25.2679,-25.3947,-25.5218, -25.6489,-25.7761,-25.9033,-26.0306, -26.1579,-26.2853,-26.4759,-26.6038, -26.795,-26.9225,-27.05,-27.1777, -27.3052,-27.4329,-27.5605,-27.6881, -27.8158,-27.9433,-28.1349,-28.2626, -28.3904,-28.5818,-28.7097,-28.9015, -29.0939,-29.2218,-29.3492,-29.4769, -29.6041,-29.7947,-29.9228,-30.0508, -30.1787,-30.305,-30.429,-30.5528, -30.6773,-30.9235,-31.1706,-31.3767)
FOOTPRINT_POINT_LONGITUDE = (55.5523,55.3654,55.1653,54.9643, 54.7628,54.5606,54.3318,54.2292,54.2339 ,54.2393,54.2442,54.2465,54.2501, 54.2522,54.2561,54.2589,54.2625,54.2648 ,54.2683,54.2702,54.2727,54.2758, 54.2767,54.2779,54.28,54.2832,54.2849, 54.2864,54.2885,54.2906,54.2924,54.2939 ,54.2957,54.2961,54.2975,54.2983, 54.2996,54.3026,54.3019,54.3024,54.3029 ,54.3042,54.3061,54.3102,54.3114, 54.3113,54.3092,54.3105,54.3099,54.4887 ,54.6303,54.8608,55.0651,55.2305, 55.3695,55.609,55.6754,55.6743,55.6733, 55.6722,55.6711,55.6699,55.6688,55.6676 ,55.6663,55.665,55.6636,55.662,55.66, 55.6588,55.6574,55.6561,55.6547,55.6534 ,55.652,55.6507,55.6494,55.6481,55.6461 ,55.6447,55.6433,55.6415,55.64,55.6377, 55.635,55.6336,55.6326,55.6313,55.6304, 55.6294,55.6278,55.6263,55.6248,55.6233 ,55.6217,55.6202,55.6182,55.6166, 55.6143,55.5523)
ORBIT_NUMBER = 12609
ORBITAL_ECCENTRICITY = 0.578
ORBITAL_INCLINATION = 86.9
ORBITAL_SEMIMAJOR_AXIS = 8820.12
PERIAPSIS_ALTITUDE = 332.71
PERIAPSIS_ARGUMENT_ANGLE = 323.27
PERIAPSIS_TIME = 2013-12-03T10:25:15.000Z
SPACECRAFT_ORIENTATION = (0.0,1.0,0.0)
^MEX_ORIENTATION_DESC = "MEX_ORIENTATION_DESC.TXT"
SPACECRAFT_POINTING_MODE = ACROSSTRACK
^MEX_POINTING_DESC = "MEX_POINTING_DESC.TXT"
RIGHT_ASCENSION = -1e+32
DECLINATION = -1e+32
OFFSET_ANGLE = 0.3
SPACECRAFT_SOLAR_DISTANCE = 2.48545e+08
TARGET_NAME = MARS
/* CAMERA DATA ELEMENTS */
DETECTOR_TEMPERATURE = 18.3705
FOCAL_PLANE_TEMPERATURE = 9.8067
INST_CMPRS_NAME = "DISCRETE COSINE TRANSFORMATION (DCT)"
INST_CMPRS_RATIO = 3.99611
INST_CMPRS_QUALITY = 0
INST_CMPRS_QUANTZ_TBL_ID = 0
INSTRUMENT_TEMPERATURE = 12.4574
LENS_TEMPERATURE = 10.4184
MACROPIXEL_SIZE = 4
MISSING_FRAMES = 0
PIXEL_SUBSAMPLING_FLAG = N
SIGNAL_CHAIN_ID = 2
/* RADIOMETRIC DATA ELEMENTS */
BANDWIDTH = 76.0
CENTER_FILTER_WAVELENGTH = 444.0
RADIANCE_OFFSET = 0.159374
RADIANCE_SCALING_FACTOR = 0.00139705
REFLECTANCE_SCALING_FACTOR = 8.86699e-05
MEX:REFLECTANCE_OFFSET = 0.0101154
/* IMAGE OBJECT DEFINITIONS */
OBJECT = IMAGE
  INTERCHANGE_FORMAT = BINARY
  LINES = 7636
  LINE_SAMPLES = 1585
  SAMPLE_TYPE = UNSIGNED_INTEGER
  SAMPLE_BITS = 8
  BANDS = 1
  BAND_STORAGE_TYPE = BAND_SEQUENTIAL
  MAXIMUM = 254
  MEAN = 120.697
  MINIMUM = 1
  STANDARD_DEVIATION = 22.9348
END_OBJECT = IMAGE
/* MAP OBJECT DEFINITIONS */
OBJECT = IMAGE_MAP_PROJECTION
  ^DATA_SET_MAP_PROJECTION_CATALOG= "DSMAP.CAT"
  A_AXIS_RADIUS = 3396.0
  B_AXIS_RADIUS = 3396.0
  C_AXIS_RADIUS = 3396.0
  CENTER_LATITUDE = 0.0
  CENTER_LONGITUDE = 55.0
  COORDINATE_SYSTEM_NAME = PLANETOGRAPHIC
  COORDINATE_SYSTEM_TYPE = "BODY-FIXED ROTATING"
  EASTERNMOST_LONGITUDE = 55.6754
  FIRST_STANDARD_PARALLEL = "N/A"
  LINE_FIRST_PIXEL = 1
  LINE_LAST_PIXEL = 7636
  LINE_PROJECTION_OFFSET = -29560.125
  MAP_PROJECTION_ROTATION = 0.0
  MAP_PROJECTION_TYPE = SINUSOIDAL
  MAP_RESOLUTION = 1185.42760773333
  MAP_SCALE = 0.05
  MAXIMUM_LATITUDE = -24.9398
  MINIMUM_LATITUDE = -31.3767
  POSITIVE_LONGITUDE_DIRECTION = EAST
  REFERENCE_LATITUDE = "N/A"
  REFERENCE_LONGITUDE = "N/A"
  SAMPLE_FIRST_PIXEL = 1
  SAMPLE_LAST_PIXEL = 1585
  SAMPLE_PROJECTION_OFFSET = 832.875
  SECOND_STANDARD_PARALLEL = "N/A"
  WESTERNMOST_LONGITUDE = 54.2292
END_OBJECT = IMAGE_MAP_PROJECTION
/* The JPEG2000 image data file associated with this label. */
OBJECT = COMPRESSED_FILE
  FILE_NAME = "HC609_0000_BL3.JP2"
  RECORD_TYPE = UNDEFINED
  FILE_RECORDS = UNK
  ENCODING_TYPE = "JP2"
  INTERCHANGE_FORMAT = BINARY
  UNCOMPRESSED_FILE_NAME = "HC609_0000_BL3.IMG"
  REQUIRED_STORAGE_BYTES = "12122080"
  ^DESCRIPTION = "JP2INFO.TXT"
END_OBJECT = COMPRESSED_FILE
END
