PDS_VERSION_ID = PDS3
/* FILE DATA ELEMENTS */
RECORD_TYPE = STREAM
/* POINTERS TO DATA OBJECTS */
^COMPRESSED_FILE = "HC609_0000_RE3.JP2"
/* IDENTIFICATION DATA ELEMENTS */
DATA_SET_ID = "MEX-M-HRSC-5-REFDR-MAPPROJECTED-V3.0"
DATA_SET_NAME = "MARS EXPRESS HRSC MAP PROJECTED REFDR V3.0"
DETECTOR_ID = MEX_HRSC_RED
EVENT_TYPE = "MARS-REGIONAL-MAPPING-Im-Fl-La"
INSTRUMENT_HOST_ID = MEX
INSTRUMENT_HOST_NAME = "MARS EXPRESS"
INSTRUMENT_ID = HRSC
INSTRUMENT_NAME = "HIGH RESOLUTION STEREO CAMERA"
MISSION_NAME = "MARS EXPRESS"
MISSION_PHASE_NAME = ME_Phase_29
PROCESSING_LEVEL_ID = 3
PRODUCT_CREATION_TIME = 2016-10-28T21:13:36.000Z
PRODUCT_ID = "HC609_0000_RE3.JP2"
RELEASE_ID = 0120
REVISION_ID = 0000
/* QUALITY DATA ELEMENTS */
DATA_QUALITY_ID = 1
DATA_QUALITY_DESC = "Data calculated based on original SPICE kernels"
/* TIME DATA ELEMENTS */
SPACECRAFT_CLOCK_START_COUNT = "1/0334146361.07296"
SPACECRAFT_CLOCK_STOP_COUNT = "1/0334146525.37889"
START_TIME = 2013-12-03T10:26:10.827Z
STOP_TIME = 2013-12-03T10:27:48.417Z
/* ORBITAL DATA ELEMENTS */
ASCENDING_NODE_LONGITUDE = 337.04
MAXIMUM_RESOLUTION = 56.3
FOOTPRINT_POINT_LATITUDE = (-31.4198,-31.4154,-31.4106,-31.4053, -31.3995,-31.3931,-31.3863,-31.2739, -31.0269,-30.9028,-30.7169,-30.4707, -30.3458,-30.2218,-30.0975,-29.9123, -29.7881,-29.6021,-29.3552,-29.2299, -29.0438,-28.9195,-28.7905,-28.5951, -28.4662,-28.3387,-28.2099,-28.0172, -27.8884,-27.7594,-27.631,-27.4394, -27.3111,-27.1815,-27.0517,-26.9228, -26.7932,-26.6636,-26.5345,-26.4065, -26.2763,-26.1469,-25.9534,-25.825, -25.5759,-25.4464,-25.3149,-25.1828, -25.0542,-24.9274,-24.9306,-24.9359, -24.9425,-24.9529,-24.9572,-24.9623, -25.0903,-25.2149,-25.3438,-25.4719, -25.6005,-25.7296,-25.9232,-26.0523, -26.1817,-26.3748,-26.5029,-26.6345, -26.7639,-26.8923,-27.0218,-27.1513, -27.3452,-27.4749,-27.604,-27.733, -27.8622,-27.9911,-28.1203,-28.2493, -28.3785,-28.5076,-28.6357,-28.7654, -28.8952,-29.0235,-29.1492,-29.3963, -29.6409,-29.8237,-29.9489,-30.0737, -30.2607,-30.3856,-30.5104,-30.6972, -30.9405,-31.1231,-31.2473,-31.4198)
FOOTPRINT_POINT_LONGITUDE = (55.5983,55.3987,55.1987,54.9977, 54.7962,54.594,54.3907,54.2218,54.2282, 54.231,54.2352,54.2418,54.2439,54.2466, 54.2489,54.2533,54.2556,54.2594,54.2649 ,54.2665,54.2699,54.272,54.2737,54.2753 ,54.277,54.2796,54.2813,54.2842,54.2858 ,54.2873,54.2891,54.2924,54.2941, 54.2951,54.2959,54.2972,54.2981,54.2989 ,54.3,54.3017,54.302,54.3028,54.3043, 54.3055,54.3123,54.3128,54.3121,54.3111 ,54.312,54.3119,54.4765,54.6677,54.8709 ,55.1615,55.3746,55.6659,55.6651,55.665 ,55.6639,55.6631,55.6622,55.6611, 55.6595,55.6584,55.6573,55.6558,55.6549 ,55.6532,55.6521,55.651,55.6498,55.6486 ,55.6468,55.6455,55.6443,55.6431, 55.6419,55.6407,55.6395,55.6383,55.637, 55.6357,55.6346,55.6332,55.6318,55.6302 ,55.6288,55.6267,55.6251,55.6241, 55.6227,55.6213,55.6193,55.6179,55.6165 ,55.6145,55.6129,55.6117,55.6104, 55.5983)
ORBIT_NUMBER = 12609
ORBITAL_ECCENTRICITY = 0.578
ORBITAL_INCLINATION = 86.9
ORBITAL_SEMIMAJOR_AXIS = 8820.12
PERIAPSIS_ALTITUDE = 332.71
PERIAPSIS_ARGUMENT_ANGLE = 323.27
PERIAPSIS_TIME = 2013-12-03T10:25:15.000Z
SPACECRAFT_ORIENTATION = (0.0,1.0,0.0)
^MEX_ORIENTATION_DESC = "MEX_ORIENTATION_DESC.TXT"
SPACECRAFT_POINTING_MODE = ACROSSTRACK
^MEX_POINTING_DESC = "MEX_POINTING_DESC.TXT"
RIGHT_ASCENSION = -1e+32
DECLINATION = -1e+32
OFFSET_ANGLE = 0.3
SPACECRAFT_SOLAR_DISTANCE = 2.48545e+08
TARGET_NAME = MARS
/* CAMERA DATA ELEMENTS */
DETECTOR_TEMPERATURE = 18.5744
FOCAL_PLANE_TEMPERATURE = 9.8067
INST_CMPRS_NAME = "DISCRETE COSINE TRANSFORMATION (DCT)"
INST_CMPRS_RATIO = 11.2708
INST_CMPRS_QUALITY = 0
INST_CMPRS_QUANTZ_TBL_ID = 0
INSTRUMENT_TEMPERATURE = 12.4574
LENS_TEMPERATURE = 10.4184
MACROPIXEL_SIZE = 4
MISSING_FRAMES = 0
PIXEL_SUBSAMPLING_FLAG = N
SIGNAL_CHAIN_ID = 2
/* RADIOMETRIC DATA ELEMENTS */
BANDWIDTH = 48.0
CENTER_FILTER_WAVELENGTH = 748.0
RADIANCE_OFFSET = 0.285913
RADIANCE_SCALING_FACTOR = 0.00280307
REFLECTANCE_SCALING_FACTOR = 0.000395156
MEX:REFLECTANCE_OFFSET = 0.0403059
/* IMAGE OBJECT DEFINITIONS */
OBJECT = IMAGE
  INTERCHANGE_FORMAT = BINARY
  LINES = 7636
  LINE_SAMPLES = 1585
  SAMPLE_TYPE = UNSIGNED_INTEGER
  SAMPLE_BITS = 8
  BANDS = 1
  BAND_STORAGE_TYPE = BAND_SEQUENTIAL
  MAXIMUM = 255
  MEAN = 86.7289
  MINIMUM = 1
  STANDARD_DEVIATION = 25.3374
END_OBJECT = IMAGE
/* MAP OBJECT DEFINITIONS */
OBJECT = IMAGE_MAP_PROJECTION
  ^DATA_SET_MAP_PROJECTION_CATALOG= "DSMAP.CAT"
  A_AXIS_RADIUS = 3396.0
  B_AXIS_RADIUS = 3396.0
  C_AXIS_RADIUS = 3396.0
  CENTER_LATITUDE = 0.0
  CENTER_LONGITUDE = 55.0
  COORDINATE_SYSTEM_NAME = PLANETOGRAPHIC
  COORDINATE_SYSTEM_TYPE = "BODY-FIXED ROTATING"
  EASTERNMOST_LONGITUDE = 55.6659
  FIRST_STANDARD_PARALLEL = "N/A"
  LINE_FIRST_PIXEL = 1
  LINE_LAST_PIXEL = 7636
  LINE_PROJECTION_OFFSET = -29560.125
  MAP_PROJECTION_ROTATION = 0.0
  MAP_PROJECTION_TYPE = SINUSOIDAL
  MAP_RESOLUTION = 1185.42760773333
  MAP_SCALE = 0.05
  MAXIMUM_LATITUDE = -24.9274
  MINIMUM_LATITUDE = -31.4198
  POSITIVE_LONGITUDE_DIRECTION = EAST
  REFERENCE_LATITUDE = "N/A"
  REFERENCE_LONGITUDE = "N/A"
  SAMPLE_FIRST_PIXEL = 1
  SAMPLE_LAST_PIXEL = 1585
  SAMPLE_PROJECTION_OFFSET = 832.875
  SECOND_STANDARD_PARALLEL = "N/A"
  WESTERNMOST_LONGITUDE = 54.2218
END_OBJECT = IMAGE_MAP_PROJECTION
/* The JPEG2000 image data file associated with this label. */
OBJECT = COMPRESSED_FILE
  FILE_NAME = "HC609_0000_RE3.JP2"
  RECORD_TYPE = UNDEFINED
  FILE_RECORDS = UNK
  ENCODING_TYPE = "JP2"
  INTERCHANGE_FORMAT = BINARY
  UNCOMPRESSED_FILE_NAME = "HC609_0000_RE3.IMG"
  REQUIRED_STORAGE_BYTES = "12122080"
  ^DESCRIPTION = "JP2INFO.TXT"
END_OBJECT = COMPRESSED_FILE
END
