PDS_VERSION_ID = PDS3
/* FILE DATA ELEMENTS */
RECORD_TYPE = STREAM
/* POINTERS TO DATA OBJECTS */
^COMPRESSED_FILE = "HC612_0000_RE3.JP2"
/* IDENTIFICATION DATA ELEMENTS */
DATA_SET_ID = "MEX-M-HRSC-5-REFDR-MAPPROJECTED-V3.0"
DATA_SET_NAME = "MARS EXPRESS HRSC MAP PROJECTED REFDR V3.0"
DETECTOR_ID = MEX_HRSC_RED
EVENT_TYPE = "MARS-REGIONAL-MAPPING-Im-Gl-Mw"
INSTRUMENT_HOST_ID = MEX
INSTRUMENT_HOST_NAME = "MARS EXPRESS"
INSTRUMENT_ID = HRSC
INSTRUMENT_NAME = "HIGH RESOLUTION STEREO CAMERA"
MISSION_NAME = "MARS EXPRESS"
MISSION_PHASE_NAME = ME_Phase_29
PROCESSING_LEVEL_ID = 3
PRODUCT_CREATION_TIME = 2016-10-28T21:13:36.000Z
PRODUCT_ID = "HC612_0000_RE3.JP2"
RELEASE_ID = 0120
REVISION_ID = 0000
/* QUALITY DATA ELEMENTS */
DATA_QUALITY_ID = 1
DATA_QUALITY_DESC = "Data calculated based on original SPICE kernels"
/* TIME DATA ELEMENTS */
SPACECRAFT_CLOCK_START_COUNT = "1/0334221738.09038"
SPACECRAFT_CLOCK_STOP_COUNT = "1/0334221898.50209"
START_TIME = 2013-12-04T07:22:27.912Z
STOP_TIME = 2013-12-04T07:24:05.787Z
/* ORBITAL DATA ELEMENTS */
ASCENDING_NODE_LONGITUDE = 336.98
MAXIMUM_RESOLUTION = 109.8
FOOTPRINT_POINT_LATITUDE = (-37.8171,-37.8152,-37.813,-37.8097, -37.805,-37.8014,-37.7975,-37.7624, -37.6342,-37.5069,-37.3805,-37.2538, -37.1274,-37.0007,-36.8108,-36.6208, -36.4938,-36.367,-36.2402,-36.05, -35.9231,-35.7961,-35.6057,-35.4152, -35.2244,-35.0974,-34.9702,-34.7799, -34.5887,-34.4613,-34.2703,-34.1428, -33.9518,-33.7606,-33.6329,-33.5063, -33.379,-33.2512,-33.1235,-32.9958, -32.8037,-32.6122,-32.4208,-32.293, -32.1015,-31.9108,-31.7836,-31.594, -31.4661,-31.3612,-31.3581,-31.3599, -31.3623,-31.3651,-31.3668,-31.3732, -31.5726,-31.7012,-31.8284,-31.9552, -32.0829,-32.2105,-32.3387,-32.4661, -32.6579,-32.8495,-32.9774,-33.1051, -33.233,-33.4244,-33.5519,-33.6797, -33.8713,-34.0626,-34.1903,-34.3817, -34.5093,-34.6372,-34.8286,-35.0194, -35.2106,-35.3384,-35.5298,-35.6594, -35.7854,-35.9081,-36.036,-36.1661, -36.3585,-36.5468,-36.6726,-36.7997, -36.9268,-37.054,-37.1805,-37.3074, -37.4363,-37.5661,-37.6854,-37.8171)
FOOTPRINT_POINT_LONGITUDE = (109.3,109.111,108.936,108.707,108.438, 108.263,108.088,107.854,107.858,107.862 ,107.867,107.872,107.876,107.881, 107.887,107.894,107.898,107.902,107.906 ,107.912,107.916,107.92,107.926,107.932 ,107.937,107.941,107.944,107.95,107.955 ,107.958,107.963,107.966,107.971, 107.976,107.979,107.982,107.985,107.988 ,107.991,107.994,107.997,108.001, 108.005,108.008,108.012,108.016,108.018 ,108.023,108.025,108.086,108.276, 108.492,108.62,108.811,109.092,109.281, 109.375,109.374,109.373,109.373,109.372 ,109.371,109.37,109.369,109.367,109.366 ,109.365,109.363,109.362,109.361,109.36 ,109.358,109.356,109.355,109.353, 109.352,109.35,109.349,109.347,109.345, 109.343,109.341,109.339,109.337,109.336 ,109.337,109.335,109.332,109.329, 109.328,109.327,109.326,109.324,109.322 ,109.321,109.319,109.317,109.314, 109.316,109.3)
ORBIT_NUMBER = 12612
ORBITAL_ECCENTRICITY = 0.578
ORBITAL_INCLINATION = 86.89
ORBITAL_SEMIMAJOR_AXIS = 8820.61
PERIAPSIS_ALTITUDE = 332.28
PERIAPSIS_ARGUMENT_ANGLE = 322.73
PERIAPSIS_TIME = 2013-12-04T07:23:02.000Z
SPACECRAFT_ORIENTATION = (0.0,1.0,0.0)
^MEX_ORIENTATION_DESC = "MEX_ORIENTATION_DESC.TXT"
SPACECRAFT_POINTING_MODE = NADIR
^MEX_POINTING_DESC = "MEX_POINTING_DESC.TXT"
RIGHT_ASCENSION = -1e+32
DECLINATION = -1e+32
OFFSET_ANGLE = -1e+32
SPACECRAFT_SOLAR_DISTANCE = 2.48584e+08
TARGET_NAME = MARS
/* CAMERA DATA ELEMENTS */
DETECTOR_TEMPERATURE = 19.39
FOCAL_PLANE_TEMPERATURE = 10.2145
INST_CMPRS_NAME = "DISCRETE COSINE TRANSFORMATION (DCT)"
INST_CMPRS_RATIO = 4.75672
INST_CMPRS_QUALITY = 0
INST_CMPRS_QUANTZ_TBL_ID = 0
INSTRUMENT_TEMPERATURE = 12.2535
LENS_TEMPERATURE = 10.2145
MACROPIXEL_SIZE = 8
MISSING_FRAMES = 0
PIXEL_SUBSAMPLING_FLAG = N
SIGNAL_CHAIN_ID = 2
/* RADIOMETRIC DATA ELEMENTS */
BANDWIDTH = 48.0
CENTER_FILTER_WAVELENGTH = 748.0
RADIANCE_OFFSET = 0.119966
RADIANCE_SCALING_FACTOR = 0.00541022
REFLECTANCE_SCALING_FACTOR = 0.000762934
MEX:REFLECTANCE_OFFSET = 0.0169172
/* IMAGE OBJECT DEFINITIONS */
OBJECT = IMAGE
  INTERCHANGE_FORMAT = BINARY
  LINES = 3810
  LINE_SAMPLES = 767
  SAMPLE_TYPE = UNSIGNED_INTEGER
  SAMPLE_BITS = 8
  BANDS = 1
  BAND_STORAGE_TYPE = BAND_SEQUENTIAL
  MAXIMUM = 255
  MEAN = 66.4899
  MINIMUM = 1
  STANDARD_DEVIATION = 18.5126
END_OBJECT = IMAGE
/* MAP OBJECT DEFINITIONS */
OBJECT = IMAGE_MAP_PROJECTION
  ^DATA_SET_MAP_PROJECTION_CATALOG= "DSMAP.CAT"
  A_AXIS_RADIUS = 3396.0
  B_AXIS_RADIUS = 3396.0
  C_AXIS_RADIUS = 3396.0
  CENTER_LATITUDE = 0.0
  CENTER_LONGITUDE = 109.0
  COORDINATE_SYSTEM_NAME = PLANETOGRAPHIC
  COORDINATE_SYSTEM_TYPE = "BODY-FIXED ROTATING"
  EASTERNMOST_LONGITUDE = 109.375
  FIRST_STANDARD_PARALLEL = "N/A"
  LINE_FIRST_PIXEL = 1
  LINE_LAST_PIXEL = 3810
  LINE_PROJECTION_OFFSET = -18582.3125
  MAP_PROJECTION_ROTATION = 0.0
  MAP_PROJECTION_TYPE = SINUSOIDAL
  MAP_RESOLUTION = 592.713803866667
  MAP_SCALE = 0.1
  MAXIMUM_LATITUDE = -31.3581
  MINIMUM_LATITUDE = -37.8171
  POSITIVE_LONGITUDE_DIRECTION = EAST
  REFERENCE_LATITUDE = "N/A"
  REFERENCE_LONGITUDE = "N/A"
  SAMPLE_FIRST_PIXEL = 1
  SAMPLE_LAST_PIXEL = 767
  SAMPLE_PROJECTION_OFFSET = 554.9375
  SECOND_STANDARD_PARALLEL = "N/A"
  WESTERNMOST_LONGITUDE = 107.854
END_OBJECT = IMAGE_MAP_PROJECTION
/* The JPEG2000 image data file associated with this label. */
OBJECT = COMPRESSED_FILE
  FILE_NAME = "HC612_0000_RE3.JP2"
  RECORD_TYPE = UNDEFINED
  FILE_RECORDS = UNK
  ENCODING_TYPE = "JP2"
  INTERCHANGE_FORMAT = BINARY
  UNCOMPRESSED_FILE_NAME = "HC612_0000_RE3.IMG"
  REQUIRED_STORAGE_BYTES = "2940678"
  ^DESCRIPTION = "JP2INFO.TXT"
END_OBJECT = COMPRESSED_FILE
END
