PDS_VERSION_ID = PDS3
/* FILE DATA ELEMENTS */
RECORD_TYPE = STREAM
/* POINTERS TO DATA OBJECTS */
^COMPRESSED_FILE = "HC615_0000_S13.JP2"
/* IDENTIFICATION DATA ELEMENTS */
DATA_SET_ID = "MEX-M-HRSC-5-REFDR-MAPPROJECTED-V3.0"
DATA_SET_NAME = "MARS EXPRESS HRSC MAP PROJECTED REFDR V3.0"
DETECTOR_ID = MEX_HRSC_S1
EVENT_TYPE = "MARS-REGIONAL-MAPPING-Im-Fl"
INSTRUMENT_HOST_ID = MEX
INSTRUMENT_HOST_NAME = "MARS EXPRESS"
INSTRUMENT_ID = HRSC
INSTRUMENT_NAME = "HIGH RESOLUTION STEREO CAMERA"
MISSION_NAME = "MARS EXPRESS"
MISSION_PHASE_NAME = ME_Phase_29
PROCESSING_LEVEL_ID = 3
PRODUCT_CREATION_TIME = 2016-10-28T21:13:36.000Z
PRODUCT_ID = "HC615_0000_S13.JP2"
RELEASE_ID = 0120
REVISION_ID = 0000
/* QUALITY DATA ELEMENTS */
DATA_QUALITY_ID = 1
DATA_QUALITY_DESC = "Data calculated based on original SPICE kernels"
/* TIME DATA ELEMENTS */
SPACECRAFT_CLOCK_START_COUNT = "1/0334297340.08259"
SPACECRAFT_CLOCK_STOP_COUNT = "1/0334297494.31288"
START_TIME = 2013-12-05T04:23:27.093Z
STOP_TIME = 2013-12-05T04:24:57.077Z
/* ORBITAL DATA ELEMENTS */
ASCENDING_NODE_LONGITUDE = 336.93
MAXIMUM_RESOLUTION = 29.8
FOOTPRINT_POINT_LATITUDE = (-29.6425,-29.6368,-29.6309,-29.6249, -29.6188,-29.6127,-29.5758,-29.4689, -29.3087,-29.1485,-29.0417,-28.8817, -28.7749,-28.6681,-28.5616,-28.4553, -28.2957,-28.1893,-28.0296,-27.9235, -27.8176,-27.7115,-27.6056,-27.4466, -27.2878,-27.1292,-27.0236,-26.9181, -26.812,-26.7065,-26.4958,-26.3378, -26.075,-25.958,-25.8327,-25.7073, -25.5198,-25.3946,-25.2691,-25.0812, -24.9556,-24.7689,-24.6442,-24.5183, -24.3935,-24.2721,-24.1486,-24.0214, -24.0211,-24.0259,-24.0345,-24.0415, -24.0462,-24.0496,-24.176,-24.3001, -24.4246,-24.5489,-24.6735,-24.7981, -24.9223,-25.0468,-25.1705,-25.3583, -25.4839,-25.6721,-25.8602,-25.9864, -26.1047,-26.2101,-26.3158,-26.4215, -26.5279,-26.6335,-26.7913,-26.8969, -27.0554,-27.1612,-27.3201,-27.4261, -27.5852,-27.6912,-27.7975,-27.9037, -28.0099,-28.1167,-28.2235,-28.3298, -28.49,-28.5967,-28.7569,-28.8635, -28.9702,-29.0772,-29.1843,-29.2911, -29.3979,-29.5048,-29.6655,-29.6425)
FOOTPRINT_POINT_LONGITUDE = (163.242,163.021,162.801,162.583, 162.366,162.15,161.955,161.956,161.956, 161.956,161.956,161.956,161.956,161.957 ,161.957,161.957,161.956,161.956, 161.956,161.956,161.956,161.956,161.956 ,161.955,161.955,161.954,161.954, 161.954,161.953,161.953,161.952,161.951 ,161.95,161.949,161.949,161.948,161.947 ,161.946,161.945,161.944,161.943, 161.941,161.94,161.94,161.939,161.937, 161.936,161.935,162.145,162.37,162.668, 162.954,163.156,163.315,163.406,163.406 ,163.405,163.404,163.404,163.403, 163.403,163.402,163.4,163.4,163.399, 163.399,163.398,163.398,163.398,163.397 ,163.397,163.397,163.397,163.396, 163.395,163.395,163.394,163.393,163.392 ,163.392,163.391,163.391,163.39,163.39, 163.389,163.389,163.389,163.388,163.387 ,163.387,163.386,163.386,163.385, 163.385,163.384,163.383,163.383,163.382 ,163.381,163.242)
ORBIT_NUMBER = 12615
ORBITAL_ECCENTRICITY = 0.578
ORBITAL_INCLINATION = 86.89
ORBITAL_SEMIMAJOR_AXIS = 8814.61
PERIAPSIS_ALTITUDE = 333.28
PERIAPSIS_ARGUMENT_ANGLE = 322.26
PERIAPSIS_TIME = 2013-12-05T04:20:53.000Z
SPACECRAFT_ORIENTATION = (0.0,1.0,0.0)
^MEX_ORIENTATION_DESC = "MEX_ORIENTATION_DESC.TXT"
SPACECRAFT_POINTING_MODE = ACROSSTRACK
^MEX_POINTING_DESC = "MEX_POINTING_DESC.TXT"
RIGHT_ASCENSION = -1e+32
DECLINATION = -1e+32
OFFSET_ANGLE = -0.458
SPACECRAFT_SOLAR_DISTANCE = 2.48622e+08
TARGET_NAME = MARS
/* CAMERA DATA ELEMENTS */
DETECTOR_TEMPERATURE = 17.5549
FOCAL_PLANE_TEMPERATURE = 8.5833
INST_CMPRS_NAME = "DISCRETE COSINE TRANSFORMATION (DCT)"
INST_CMPRS_RATIO = 6.66652
INST_CMPRS_QUALITY = 0
INST_CMPRS_QUANTZ_TBL_ID = 0
INSTRUMENT_TEMPERATURE = 11.4379
LENS_TEMPERATURE = 9.3989
MACROPIXEL_SIZE = 2
MISSING_FRAMES = 0
PIXEL_SUBSAMPLING_FLAG = N
SIGNAL_CHAIN_ID = 1
/* RADIOMETRIC DATA ELEMENTS */
BANDWIDTH = 180.0
CENTER_FILTER_WAVELENGTH = 677.0
RADIANCE_OFFSET = 0.63886
RADIANCE_SCALING_FACTOR = 0.0182998
REFLECTANCE_SCALING_FACTOR = 0.000590157
MEX:REFLECTANCE_OFFSET = 0.0206028
/* IMAGE OBJECT DEFINITIONS */
OBJECT = IMAGE
  INTERCHANGE_FORMAT = BINARY
  LINES = 13350
  LINE_SAMPLES = 3218
  SAMPLE_TYPE = UNSIGNED_INTEGER
  SAMPLE_BITS = 8
  BANDS = 1
  BAND_STORAGE_TYPE = BAND_SEQUENTIAL
  MAXIMUM = 255
  MEAN = 77.5702
  MINIMUM = 1
  STANDARD_DEVIATION = 19.4627
END_OBJECT = IMAGE
/* MAP OBJECT DEFINITIONS */
OBJECT = IMAGE_MAP_PROJECTION
  ^DATA_SET_MAP_PROJECTION_CATALOG= "DSMAP.CAT"
  A_AXIS_RADIUS = 3396.0
  B_AXIS_RADIUS = 3396.0
  C_AXIS_RADIUS = 3396.0
  CENTER_LATITUDE = 0.0
  CENTER_LONGITUDE = 163.0
  COORDINATE_SYSTEM_NAME = PLANETOGRAPHIC
  COORDINATE_SYSTEM_TYPE = "BODY-FIXED ROTATING"
  EASTERNMOST_LONGITUDE = 163.406
  FIRST_STANDARD_PARALLEL = "N/A"
  LINE_FIRST_PIXEL = 1
  LINE_LAST_PIXEL = 13350
  LINE_PROJECTION_OFFSET = -56984.75
  MAP_PROJECTION_ROTATION = 0.0
  MAP_PROJECTION_TYPE = SINUSOIDAL
  MAP_RESOLUTION = 2370.85521546667
  MAP_SCALE = 0.025
  MAXIMUM_LATITUDE = -24.0211
  MINIMUM_LATITUDE = -29.6655
  POSITIVE_LONGITUDE_DIRECTION = EAST
  REFERENCE_LATITUDE = "N/A"
  REFERENCE_LONGITUDE = "N/A"
  SAMPLE_FIRST_PIXEL = 1
  SAMPLE_LAST_PIXEL = 3218
  SAMPLE_PROJECTION_OFFSET = 2266.75
  SECOND_STANDARD_PARALLEL = "N/A"
  WESTERNMOST_LONGITUDE = 161.935
END_OBJECT = IMAGE_MAP_PROJECTION
/* The JPEG2000 image data file associated with this label. */
OBJECT = COMPRESSED_FILE
  FILE_NAME = "HC615_0000_S13.JP2"
  RECORD_TYPE = UNDEFINED
  FILE_RECORDS = UNK
  ENCODING_TYPE = "JP2"
  INTERCHANGE_FORMAT = BINARY
  UNCOMPRESSED_FILE_NAME = "HC615_0000_S13.IMG"
  REQUIRED_STORAGE_BYTES = "42982826"
  ^DESCRIPTION = "JP2INFO.TXT"
END_OBJECT = COMPRESSED_FILE
END
