PDS_VERSION_ID = PDS3
/* FILE DATA ELEMENTS */
RECORD_TYPE = STREAM
/* POINTERS TO DATA OBJECTS */
^COMPRESSED_FILE = "HC619_0000_S13.JP2"
/* IDENTIFICATION DATA ELEMENTS */
DATA_SET_ID = "MEX-M-HRSC-5-REFDR-MAPPROJECTED-V3.0"
DATA_SET_NAME = "MARS EXPRESS HRSC MAP PROJECTED REFDR V3.0"
DETECTOR_ID = MEX_HRSC_S1
EVENT_TYPE = "MARS-REGIONAL-MAPPING-Vo-Te-Mw"
INSTRUMENT_HOST_ID = MEX
INSTRUMENT_HOST_NAME = "MARS EXPRESS"
INSTRUMENT_ID = HRSC
INSTRUMENT_NAME = "HIGH RESOLUTION STEREO CAMERA"
MISSION_NAME = "MARS EXPRESS"
MISSION_PHASE_NAME = ME_Phase_29
PROCESSING_LEVEL_ID = 3
PRODUCT_CREATION_TIME = 2016-10-28T21:13:36.000Z
PRODUCT_ID = "HC619_0000_S13.JP2"
RELEASE_ID = 0120
REVISION_ID = 0000
/* QUALITY DATA ELEMENTS */
DATA_QUALITY_ID = 1
DATA_QUALITY_DESC = "Data calculated based on original SPICE kernels"
/* TIME DATA ELEMENTS */
SPACECRAFT_CLOCK_START_COUNT = "1/0334397908.08253"
SPACECRAFT_CLOCK_STOP_COUNT = "1/0334398121.63655"
START_TIME = 2013-12-06T08:19:32.969Z
STOP_TIME = 2013-12-06T08:22:04.574Z
/* ORBITAL DATA ELEMENTS */
ASCENDING_NODE_LONGITUDE = 336.85
MAXIMUM_RESOLUTION = 28.7
FOOTPRINT_POINT_LATITUDE = (-33.6065,-33.6085,-33.6104,-33.6121, -33.6411,-33.4551,-33.2693,-32.9905, -32.805,-32.6194,-32.4341,-32.249, -32.0645,-31.8796,-31.6029,-31.3267, -31.1425,-30.9585,-30.7748,-30.5915, -30.4081,-30.225,-30.0424,-29.8597, -29.677,-29.4944,-29.3123,-29.13, -28.9479,-28.7662,-28.5844,-28.4031, -28.222,-28.0412,-27.8601,-27.4089, -27.0487,-26.7791,-26.4097,-26.1958, -25.9816,-25.7684,-25.4484,-25.2349, -24.9143,-24.7037,-24.4922,-24.2819, -24.13,-24.1254,-24.121,-24.1169, -24.1126,-24.1082,-24.2113,-24.5288, -24.7408,-24.9533,-25.1658,-25.4863, -25.8068,-26.0204,-26.2344,-26.5384, -26.9889,-27.1693,-27.3499,-27.5304, -27.7114,-27.8923,-28.0737,-28.2554, -28.4368,-28.6186,-28.8005,-28.9826, -29.1649,-29.347,-29.5297,-29.7125, -29.8955,-30.0789,-30.2629,-30.4468, -30.7225,-30.9065,-31.0906,-31.2747, -31.5516,-31.7364,-32.0129,-32.1974, -32.3834,-32.6626,-32.8481,-33.0338, -33.22,-33.4055,-33.5915,-33.6065)
FOOTPRINT_POINT_LONGITUDE = (113.115,112.897,112.678,112.458, 112.102,112.107,112.112,112.119,112.123 ,112.128,112.132,112.136,112.14,112.144 ,112.15,112.155,112.158,112.161,112.165 ,112.167,112.17,112.173,112.176,112.178 ,112.181,112.183,112.185,112.187, 112.189,112.191,112.193,112.195,112.197 ,112.198,112.2,112.203,112.205,112.206, 112.208,112.209,112.21,112.21,112.211, 112.212,112.213,112.213,112.212,112.212 ,112.385,112.617,112.847,113.061, 113.289,113.516,113.689,113.685,113.682 ,113.679,113.676,113.672,113.667, 113.664,113.661,113.657,113.65,113.647, 113.645,113.642,113.639,113.636,113.634 ,113.631,113.628,113.625,113.622, 113.619,113.616,113.613,113.61,113.607, 113.604,113.601,113.598,113.595,113.59, 113.587,113.584,113.581,113.576,113.573 ,113.568,113.564,113.561,113.556, 113.552,113.549,113.545,113.541,113.538 ,113.115)
ORBIT_NUMBER = 12619
ORBITAL_ECCENTRICITY = 0.578
ORBITAL_INCLINATION = 86.89
ORBITAL_SEMIMAJOR_AXIS = 8818.36
PERIAPSIS_ALTITUDE = 332.11
PERIAPSIS_ARGUMENT_ANGLE = 321.53
PERIAPSIS_TIME = 2013-12-06T08:17:50.000Z
SPACECRAFT_ORIENTATION = (0.0,1.0,0.0)
^MEX_ORIENTATION_DESC = "MEX_ORIENTATION_DESC.TXT"
SPACECRAFT_POINTING_MODE = ACROSSTRACK
^MEX_POINTING_DESC = "MEX_POINTING_DESC.TXT"
RIGHT_ASCENSION = -1e+32
DECLINATION = -1e+32
OFFSET_ANGLE = 0.4
SPACECRAFT_SOLAR_DISTANCE = 2.4867e+08
TARGET_NAME = MARS
/* CAMERA DATA ELEMENTS */
DETECTOR_TEMPERATURE = 18.3705
FOCAL_PLANE_TEMPERATURE = 10.0106
INST_CMPRS_NAME = "DISCRETE COSINE TRANSFORMATION (DCT)"
INST_CMPRS_RATIO = 6.85139
INST_CMPRS_QUALITY = 0
INST_CMPRS_QUANTZ_TBL_ID = 0
INSTRUMENT_TEMPERATURE = 12.4574
LENS_TEMPERATURE = 10.2145
MACROPIXEL_SIZE = 2
MISSING_FRAMES = 0
PIXEL_SUBSAMPLING_FLAG = N
SIGNAL_CHAIN_ID = 1
/* RADIOMETRIC DATA ELEMENTS */
BANDWIDTH = 180.0
CENTER_FILTER_WAVELENGTH = 677.0
RADIANCE_OFFSET = 0.596734
RADIANCE_SCALING_FACTOR = 0.0146908
REFLECTANCE_SCALING_FACTOR = 0.000473958
MEX:REFLECTANCE_OFFSET = 0.0192519
/* IMAGE OBJECT DEFINITIONS */
OBJECT = IMAGE
  INTERCHANGE_FORMAT = BINARY
  LINES = 22616
  LINE_SAMPLES = 3314
  SAMPLE_TYPE = UNSIGNED_INTEGER
  SAMPLE_BITS = 8
  BANDS = 1
  BAND_STORAGE_TYPE = BAND_SEQUENTIAL
  MAXIMUM = 255
  MEAN = 96.8275
  MINIMUM = 1
  STANDARD_DEVIATION = 17.6326
END_OBJECT = IMAGE
/* MAP OBJECT DEFINITIONS */
OBJECT = IMAGE_MAP_PROJECTION
  ^DATA_SET_MAP_PROJECTION_CATALOG= "DSMAP.CAT"
  A_AXIS_RADIUS = 3396.0
  B_AXIS_RADIUS = 3396.0
  C_AXIS_RADIUS = 3396.0
  CENTER_LATITUDE = 0.0
  CENTER_LONGITUDE = 113.0
  COORDINATE_SYSTEM_NAME = PLANETOGRAPHIC
  COORDINATE_SYSTEM_TYPE = "BODY-FIXED ROTATING"
  EASTERNMOST_LONGITUDE = 113.689
  FIRST_STANDARD_PARALLEL = "N/A"
  LINE_FIRST_PIXEL = 1
  LINE_LAST_PIXEL = 22616
  LINE_PROJECTION_OFFSET = -57194.75
  MAP_PROJECTION_ROTATION = 0.0
  MAP_PROJECTION_TYPE = SINUSOIDAL
  MAP_RESOLUTION = 2370.85521546667
  MAP_SCALE = 0.025
  MAXIMUM_LATITUDE = -24.1082
  MINIMUM_LATITUDE = -33.6411
  POSITIVE_LONGITUDE_DIRECTION = EAST
  REFERENCE_LATITUDE = "N/A"
  REFERENCE_LONGITUDE = "N/A"
  SAMPLE_FIRST_PIXEL = 1
  SAMPLE_LAST_PIXEL = 3314
  SAMPLE_PROJECTION_OFFSET = 1866.25
  SECOND_STANDARD_PARALLEL = "N/A"
  WESTERNMOST_LONGITUDE = 112.102
END_OBJECT = IMAGE_MAP_PROJECTION
/* The JPEG2000 image data file associated with this label. */
OBJECT = COMPRESSED_FILE
  FILE_NAME = "HC619_0000_S13.JP2"
  RECORD_TYPE = UNDEFINED
  FILE_RECORDS = UNK
  ENCODING_TYPE = "JP2"
  INTERCHANGE_FORMAT = BINARY
  UNCOMPRESSED_FILE_NAME = "HC619_0000_S13.IMG"
  REQUIRED_STORAGE_BYTES = "74972622"
  ^DESCRIPTION = "JP2INFO.TXT"
END_OBJECT = COMPRESSED_FILE
END
