PDS_VERSION_ID = PDS3
/* FILE DATA ELEMENTS */
RECORD_TYPE = STREAM
/* POINTERS TO DATA OBJECTS */
^COMPRESSED_FILE = "HC620_0000_S23.JP2"
/* IDENTIFICATION DATA ELEMENTS */
DATA_SET_ID = "MEX-M-HRSC-5-REFDR-MAPPROJECTED-V3.0"
DATA_SET_NAME = "MARS EXPRESS HRSC MAP PROJECTED REFDR V3.0"
DETECTOR_ID = MEX_HRSC_S2
EVENT_TYPE = "MARS-REGIONAL-MAPPING-Im-Fl"
INSTRUMENT_HOST_ID = MEX
INSTRUMENT_HOST_NAME = "MARS EXPRESS"
INSTRUMENT_ID = HRSC
INSTRUMENT_NAME = "HIGH RESOLUTION STEREO CAMERA"
MISSION_NAME = "MARS EXPRESS"
MISSION_PHASE_NAME = ME_Phase_29
PROCESSING_LEVEL_ID = 3
PRODUCT_CREATION_TIME = 2016-10-28T21:13:36.000Z
PRODUCT_ID = "HC620_0000_S23.JP2"
RELEASE_ID = 0120
REVISION_ID = 0000
/* QUALITY DATA ELEMENTS */
DATA_QUALITY_ID = 1
DATA_QUALITY_DESC = "Data calculated based on original SPICE kernels"
/* TIME DATA ELEMENTS */
SPACECRAFT_CLOCK_START_COUNT = "1/0334423225.07336"
SPACECRAFT_CLOCK_STOP_COUNT = "1/0334423490.45040"
START_TIME = 2013-12-06T15:20:29.702Z
STOP_TIME = 2013-12-06T15:23:20.057Z
/* ORBITAL DATA ELEMENTS */
ASCENDING_NODE_LONGITUDE = 336.84
MAXIMUM_RESOLUTION = 31
FOOTPRINT_POINT_LATITUDE = (-23.0895,-23.101,-23.1118,-23.1218, -23.1311,-23.1399,-22.8549,-22.5261, -22.3051,-22.0845,-21.8643,-21.6435, -21.4225,-21.202,-20.9818,-20.7617, -20.541,-20.321,-20.1019,-19.8818, -19.5523,-19.3307,-19.1038,-18.8826, -18.6625,-18.4429,-18.223,-18.0034, -17.7833,-17.5638,-17.3451,-17.1326, -16.803,-16.4683,-16.2429,-15.9058, -15.6805,-15.3424,-14.9977,-14.7673, -14.5364,-14.1909,-13.8377,-13.6031, -13.3668,-13.1309,-12.8922,-12.6509, -12.4088,-12.1688,-11.9041,-11.8948, -11.8815,-11.8665,-11.8569,-11.8496, -11.8366,-12.1911,-12.5524,-12.7941, -13.034,-13.2702,-13.625,-13.8602, -14.2117,-14.557,-14.7875,-15.0193, -15.2496,-15.4751,-15.8129,-16.0385, -16.2636,-16.4903,-16.7116,-16.931, -17.1519,-17.3728,-17.5923,-17.8133, -18.1434,-18.4695,-18.8041,-19.0249, -19.3464,-19.5739,-19.9057,-20.1242, -20.3447,-20.676,-20.8969,-21.2274, -21.4479,-21.6671,-21.8894,-22.1048, -22.3276,-22.6646,-23.052,-23.0895)
FOOTPRINT_POINT_LONGITUDE = (12.5328,12.3107,12.0907,11.8729,11.657 ,11.4428,11.343,11.3393,11.3368,11.3341 ,11.3313,11.3285,11.3256,11.3226, 11.3195,11.3164,11.3132,11.3099,11.3064 ,11.303,11.2977,11.2941,11.2906,11.2869 ,11.283,11.2791,11.2751,11.271,11.2668, 11.2626,11.2583,11.2538,11.2472,11.2403 ,11.2356,11.2283,11.2234,11.2159,11.208 ,11.2026,11.1972,11.1889,11.1803, 11.1744,11.1684,11.1624,11.1562,11.1499 ,11.1435,11.137,11.2221,11.4552,11.69, 11.9582,12.1489,12.3707,12.6273,12.7625 ,12.7624,12.7621,12.7615,12.7612, 12.7604,12.7608,12.76,12.7602,12.7602, 12.7595,12.7596,12.7594,12.7594,12.7592 ,12.7594,12.7586,12.7579,12.7582, 12.7575,12.757,12.7573,12.7568,12.7569, 12.7597,12.7573,12.7571,12.7633,12.7589 ,12.7586,12.7601,12.7605,12.7606, 12.7608,12.7616,12.7621,12.7635,12.7629 ,12.7669,12.766,12.7627,12.7641, 12.5328)
ORBIT_NUMBER = 12620
ORBITAL_ECCENTRICITY = 0.578
ORBITAL_INCLINATION = 86.89
ORBITAL_SEMIMAJOR_AXIS = 8815.53
PERIAPSIS_ALTITUDE = 332.73
PERIAPSIS_ARGUMENT_ANGLE = 321.36
PERIAPSIS_TIME = 2013-12-06T15:17:05.000Z
SPACECRAFT_ORIENTATION = (0.0,1.0,0.0)
^MEX_ORIENTATION_DESC = "MEX_ORIENTATION_DESC.TXT"
SPACECRAFT_POINTING_MODE = ACROSSTRACK
^MEX_POINTING_DESC = "MEX_POINTING_DESC.TXT"
RIGHT_ASCENSION = -1e+32
DECLINATION = -1e+32
OFFSET_ANGLE = -0.75
SPACECRAFT_SOLAR_DISTANCE = 2.48682e+08
TARGET_NAME = MARS
/* CAMERA DATA ELEMENTS */
DETECTOR_TEMPERATURE = 18.5744
FOCAL_PLANE_TEMPERATURE = 7.9716
INST_CMPRS_NAME = "DISCRETE COSINE TRANSFORMATION (DCT)"
INST_CMPRS_RATIO = 10.3377
INST_CMPRS_QUALITY = 0
INST_CMPRS_QUANTZ_TBL_ID = 0
INSTRUMENT_TEMPERATURE = 11.234
LENS_TEMPERATURE = 8.7872
MACROPIXEL_SIZE = 2
MISSING_FRAMES = 0
PIXEL_SUBSAMPLING_FLAG = N
SIGNAL_CHAIN_ID = 1
/* RADIOMETRIC DATA ELEMENTS */
BANDWIDTH = 178.0
CENTER_FILTER_WAVELENGTH = 679.0
RADIANCE_OFFSET = 1.13908
RADIANCE_SCALING_FACTOR = 0.0162726
REFLECTANCE_SCALING_FACTOR = 0.00053294
MEX:REFLECTANCE_OFFSET = 0.0373058
/* IMAGE OBJECT DEFINITIONS */
OBJECT = IMAGE
  INTERCHANGE_FORMAT = BINARY
  LINES = 26660
  LINE_SAMPLES = 4175
  SAMPLE_TYPE = UNSIGNED_INTEGER
  SAMPLE_BITS = 8
  BANDS = 1
  BAND_STORAGE_TYPE = BAND_SEQUENTIAL
  MAXIMUM = 255
  MEAN = 113.431
  MINIMUM = 1
  STANDARD_DEVIATION = 23.2076
END_OBJECT = IMAGE
/* MAP OBJECT DEFINITIONS */
OBJECT = IMAGE_MAP_PROJECTION
  ^DATA_SET_MAP_PROJECTION_CATALOG= "DSMAP.CAT"
  A_AXIS_RADIUS = 3396.0
  B_AXIS_RADIUS = 3396.0
  C_AXIS_RADIUS = 3396.0
  CENTER_LATITUDE = 0.0
  CENTER_LONGITUDE = 12.0
  COORDINATE_SYSTEM_NAME = PLANETOGRAPHIC
  COORDINATE_SYSTEM_TYPE = "BODY-FIXED ROTATING"
  EASTERNMOST_LONGITUDE = 12.7669
  FIRST_STANDARD_PARALLEL = "N/A"
  LINE_FIRST_PIXEL = 1
  LINE_LAST_PIXEL = 26660
  LINE_PROJECTION_OFFSET = -28114.75
  MAP_PROJECTION_ROTATION = 0.0
  MAP_PROJECTION_TYPE = SINUSOIDAL
  MAP_RESOLUTION = 2370.85521546667
  MAP_SCALE = 0.025
  MAXIMUM_LATITUDE = -11.8366
  MINIMUM_LATITUDE = -23.1399
  POSITIVE_LONGITUDE_DIRECTION = EAST
  REFERENCE_LATITUDE = "N/A"
  REFERENCE_LONGITUDE = "N/A"
  SAMPLE_FIRST_PIXEL = 1
  SAMPLE_LAST_PIXEL = 4175
  SAMPLE_PROJECTION_OFFSET = 2141.75
  SECOND_STANDARD_PARALLEL = "N/A"
  WESTERNMOST_LONGITUDE = 11.137
END_OBJECT = IMAGE_MAP_PROJECTION
/* The JPEG2000 image data file associated with this label. */
OBJECT = COMPRESSED_FILE
  FILE_NAME = "HC620_0000_S23.JP2"
  RECORD_TYPE = UNDEFINED
  FILE_RECORDS = UNK
  ENCODING_TYPE = "JP2"
  INTERCHANGE_FORMAT = BINARY
  UNCOMPRESSED_FILE_NAME = "HC620_0000_S23.IMG"
  REQUIRED_STORAGE_BYTES = "111330550"
  ^DESCRIPTION = "JP2INFO.TXT"
END_OBJECT = COMPRESSED_FILE
END
