PDS_VERSION_ID = PDS3
/* FILE DATA ELEMENTS */
RECORD_TYPE = STREAM
/* POINTERS TO DATA OBJECTS */
^COMPRESSED_FILE = "HC622_0000_ND3.JP2"
/* IDENTIFICATION DATA ELEMENTS */
DATA_SET_ID = "MEX-M-HRSC-5-REFDR-MAPPROJECTED-V3.0"
DATA_SET_NAME = "MARS EXPRESS HRSC MAP PROJECTED REFDR V3.0"
DETECTOR_ID = MEX_HRSC_NADIR
EVENT_TYPE = "MARS-REGIONAL-MAPPING-Im-Fl"
INSTRUMENT_HOST_ID = MEX
INSTRUMENT_HOST_NAME = "MARS EXPRESS"
INSTRUMENT_ID = HRSC
INSTRUMENT_NAME = "HIGH RESOLUTION STEREO CAMERA"
MISSION_NAME = "MARS EXPRESS"
MISSION_PHASE_NAME = ME_Phase_29
PROCESSING_LEVEL_ID = 3
PRODUCT_CREATION_TIME = 2016-10-28T21:13:36.000Z
PRODUCT_ID = "HC622_0000_ND3.JP2"
RELEASE_ID = 0120
REVISION_ID = 0000
/* QUALITY DATA ELEMENTS */
DATA_QUALITY_ID = 1
DATA_QUALITY_DESC = "Data calculated based on original SPICE kernels"
/* TIME DATA ELEMENTS */
SPACECRAFT_CLOCK_START_COUNT = "1/0334473442.09055"
SPACECRAFT_CLOCK_STOP_COUNT = "1/0334473669.07588"
START_TIME = 2013-12-07T05:17:57.347Z
STOP_TIME = 2013-12-07T05:20:32.323Z
/* ORBITAL DATA ELEMENTS */
ASCENDING_NODE_LONGITUDE = 336.79
MAXIMUM_RESOLUTION = 13.8
FOOTPRINT_POINT_LATITUDE = (-29.9001,-29.8987,-29.8963,-29.8942, -29.8914,-29.6122,-29.4274,-29.1503, -28.9657,-28.7811,-28.5966,-28.4122, -28.2279,-28.0436,-27.8594,-27.6753, -27.4913,-27.3073,-27.1235,-26.9397, -26.756,-26.5724,-26.3889,-26.2055, -25.8389,-25.4728,-24.9239,-24.7218, -24.504,-24.2864,-24.069,-23.8516, -23.6344,-23.4173,-23.2003,-22.9835, -22.7669,-22.5504,-22.3341,-22.118, -21.9021,-21.6863,-21.4707,-21.2553, -21.0401,-20.825,-20.6102,-20.3955, -20.181,-19.9667,-19.9664,-19.9662, -19.9657,-19.9648,-19.9627,-20.2844, -20.4994,-20.7145,-20.9298,-21.1452, -21.3609,-21.5767,-21.7927,-22.0089, -22.2253,-22.4418,-22.6585,-22.8752, -23.0922,-23.3094,-23.5267,-23.7442, -23.9618,-24.1796,-24.3976,-24.6157, -24.9271,-25.2933,-25.6598,-26.0267, -26.2103,-26.394,-26.5778,-26.7616, -26.9456,-27.1296,-27.3137,-27.59, -27.7743,-27.9587,-28.1433,-28.3278, -28.5125,-28.6972,-28.882,-29.0669, -29.2518,-29.4368,-29.6219,-29.9001)
FOOTPRINT_POINT_LONGITUDE = (167.33,167.018,166.665,166.434,166.176 ,166.082,166.084,166.087,166.088, 166.089,166.091,166.092,166.093,166.094 ,166.095,166.097,166.097,166.098, 166.099,166.099,166.1,166.1,166.1,166.1 ,166.1,166.101,166.095,166.094,166.094, 166.094,166.097,166.095,166.094,166.093 ,166.091,166.09,166.087,166.085,166.084 ,166.082,166.08,166.078,166.075,166.073 ,166.071,166.068,166.066,166.063,166.06 ,166.057,166.367,166.589,166.81,167.062 ,167.476,167.554,167.552,167.55,167.548 ,167.547,167.545,167.543,167.542, 167.539,167.537,167.535,167.533,167.533 ,167.532,167.53,167.528,167.526,167.525 ,167.523,167.521,167.519,167.517, 167.514,167.511,167.508,167.506,167.504 ,167.502,167.501,167.499,167.497, 167.497,167.494,167.494,167.492,167.49, 167.489,167.487,167.485,167.484,167.482 ,167.48,167.479,167.477,167.33)
ORBIT_NUMBER = 12622
ORBITAL_ECCENTRICITY = 0.578
ORBITAL_INCLINATION = 86.9
ORBITAL_SEMIMAJOR_AXIS = 8812.13
PERIAPSIS_ALTITUDE = 332.92
PERIAPSIS_ARGUMENT_ANGLE = 321.05
PERIAPSIS_TIME = 2013-12-07T05:15:40.000Z
SPACECRAFT_ORIENTATION = (0.0,1.0,0.0)
^MEX_ORIENTATION_DESC = "MEX_ORIENTATION_DESC.TXT"
SPACECRAFT_POINTING_MODE = NADIR
^MEX_POINTING_DESC = "MEX_POINTING_DESC.TXT"
RIGHT_ASCENSION = -1e+32
DECLINATION = -1e+32
OFFSET_ANGLE = -1e+32
SPACECRAFT_SOLAR_DISTANCE = 2.48706e+08
TARGET_NAME = MARS
/* CAMERA DATA ELEMENTS */
DETECTOR_TEMPERATURE = 18.9822
FOCAL_PLANE_TEMPERATURE = 9.8067
INST_CMPRS_NAME = "DISCRETE COSINE TRANSFORMATION (DCT)"
INST_CMPRS_RATIO = 5.21237
INST_CMPRS_QUALITY = 0
INST_CMPRS_QUANTZ_TBL_ID = 0
INSTRUMENT_TEMPERATURE = 12.6613
LENS_TEMPERATURE = 10.8262
MACROPIXEL_SIZE = 1
MISSING_FRAMES = 0
PIXEL_SUBSAMPLING_FLAG = N
SIGNAL_CHAIN_ID = 0
/* RADIOMETRIC DATA ELEMENTS */
BANDWIDTH = 177.0
CENTER_FILTER_WAVELENGTH = 677.5
RADIANCE_OFFSET = 0.333761
RADIANCE_SCALING_FACTOR = 0.0199602
REFLECTANCE_SCALING_FACTOR = 0.000655874
MEX:REFLECTANCE_OFFSET = 0.0109671
/* IMAGE OBJECT DEFINITIONS */
OBJECT = IMAGE
  INTERCHANGE_FORMAT = BINARY
  LINES = 47127
  LINE_SAMPLES = 7012
  SAMPLE_TYPE = UNSIGNED_INTEGER
  SAMPLE_BITS = 8
  BANDS = 1
  BAND_STORAGE_TYPE = BAND_SEQUENTIAL
  MAXIMUM = 255
  MEAN = 92.8139
  MINIMUM = 1
  STANDARD_DEVIATION = 33.2028
END_OBJECT = IMAGE
/* MAP OBJECT DEFINITIONS */
OBJECT = IMAGE_MAP_PROJECTION
  ^DATA_SET_MAP_PROJECTION_CATALOG= "DSMAP.CAT"
  A_AXIS_RADIUS = 3396.0
  B_AXIS_RADIUS = 3396.0
  C_AXIS_RADIUS = 3396.0
  CENTER_LATITUDE = 0.0
  CENTER_LONGITUDE = 167.0
  COORDINATE_SYSTEM_NAME = PLANETOGRAPHIC
  COORDINATE_SYSTEM_TYPE = "BODY-FIXED ROTATING"
  EASTERNMOST_LONGITUDE = 167.554
  FIRST_STANDARD_PARALLEL = "N/A"
  LINE_FIRST_PIXEL = 1
  LINE_LAST_PIXEL = 47127
  LINE_PROJECTION_OFFSET = -94654.0
  MAP_PROJECTION_ROTATION = 0.0
  MAP_PROJECTION_TYPE = SINUSOIDAL
  MAP_RESOLUTION = 4741.71043093333
  MAP_SCALE = 0.0125
  MAXIMUM_LATITUDE = -19.9627
  MINIMUM_LATITUDE = -29.9001
  POSITIVE_LONGITUDE_DIRECTION = EAST
  REFERENCE_LATITUDE = "N/A"
  REFERENCE_LONGITUDE = "N/A"
  SAMPLE_FIRST_PIXEL = 1
  SAMPLE_LAST_PIXEL = 7012
  SAMPLE_PROJECTION_OFFSET = 4365.0
  SECOND_STANDARD_PARALLEL = "N/A"
  WESTERNMOST_LONGITUDE = 166.057
END_OBJECT = IMAGE_MAP_PROJECTION
/* The JPEG2000 image data file associated with this label. */
OBJECT = COMPRESSED_FILE
  FILE_NAME = "HC622_0000_ND3.JP2"
  RECORD_TYPE = UNDEFINED
  FILE_RECORDS = UNK
  ENCODING_TYPE = "JP2"
  INTERCHANGE_FORMAT = BINARY
  UNCOMPRESSED_FILE_NAME = "HC622_0000_ND3.IMG"
  REQUIRED_STORAGE_BYTES = "330489584"
  ^DESCRIPTION = "JP2INFO.TXT"
END_OBJECT = COMPRESSED_FILE
END
