PDS_VERSION_ID = PDS3
/* FILE DATA ELEMENTS */
RECORD_TYPE = STREAM
/* POINTERS TO DATA OBJECTS */
^COMPRESSED_FILE = "HC628_0000_ND3.JP2"
/* IDENTIFICATION DATA ELEMENTS */
DATA_SET_ID = "MEX-M-HRSC-5-REFDR-MAPPROJECTED-V3.0"
DATA_SET_NAME = "MARS EXPRESS HRSC MAP PROJECTED REFDR V3.0"
DETECTOR_ID = MEX_HRSC_NADIR
EVENT_TYPE = "MARS-REGIONAL-MAPPING-Vo-Te"
INSTRUMENT_HOST_ID = MEX
INSTRUMENT_HOST_NAME = "MARS EXPRESS"
INSTRUMENT_ID = HRSC
INSTRUMENT_NAME = "HIGH RESOLUTION STEREO CAMERA"
MISSION_NAME = "MARS EXPRESS"
MISSION_PHASE_NAME = ME_Phase_29
PROCESSING_LEVEL_ID = 3
PRODUCT_CREATION_TIME = 2016-10-28T21:13:36.000Z
PRODUCT_ID = "HC628_0000_ND3.JP2"
RELEASE_ID = 0120
REVISION_ID = 0000
/* QUALITY DATA ELEMENTS */
DATA_QUALITY_ID = 1
DATA_QUALITY_DESC = "Data calculated based on original SPICE kernels"
/* TIME DATA ELEMENTS */
SPACECRAFT_CLOCK_START_COUNT = "1/0334624334.09046"
SPACECRAFT_CLOCK_STOP_COUNT = "1/0334624486.40006"
START_TIME = 2013-12-08T23:12:48.592Z
STOP_TIME = 2013-12-08T23:14:15.593Z
/* ORBITAL DATA ELEMENTS */
ASCENDING_NODE_LONGITUDE = 336.68
MAXIMUM_RESOLUTION = 13.4
FOOTPRINT_POINT_LATITUDE = (-33.5774,-33.576,-33.5736,-33.5709, -33.5662,-33.5625,-33.4491,-33.2793, -33.166,-33.0527,-32.9394,-32.8262, -32.7129,-32.5997,-32.4865,-32.3733, -32.2602,-32.1471,-32.0339,-31.9208, -31.8078,-31.6947,-31.5817,-31.4687, -31.3557,-31.2428,-31.1298,-31.0169, -30.904,-30.7347,-30.6218,-30.509, -30.3962,-30.2835,-30.1708,-30.0581, -29.9454,-29.8327,-29.7201,-29.6075, -29.4949,-29.2699,-29.0449,-28.8201, -28.5954,-28.3708,-28.1463,-27.922, -27.9181,-27.9216,-27.9239,-27.9252, -27.9261,-27.9265,-28.0953,-28.3201, -28.545,-28.77,-28.8825,-28.9951, -29.1077,-29.2204,-29.333,-29.4458, -29.5585,-29.6712,-29.784,-29.8968, -30.0097,-30.1225,-30.2354,-30.3483, -30.4613,-30.5743,-30.6873,-30.8003, -30.9133,-31.0264,-31.1395,-31.2526, -31.3657,-31.4789,-31.5921,-31.7053, -31.8185,-31.9318,-32.0451,-32.1584, -32.2717,-32.385,-32.4984,-32.6117, -32.7251,-32.8386,-32.952,-33.1222, -33.2357,-33.3492,-33.4627,-33.5774)
FOOTPRINT_POINT_LONGITUDE = (273.934,273.784,273.565,273.345, 273.029,272.807,272.632,272.635,272.637 ,272.64,272.642,272.644,272.646,272.649 ,272.651,272.653,272.655,272.657, 272.659,272.661,272.663,272.665,272.668 ,272.67,272.672,272.673,272.675,272.676 ,272.678,272.68,272.682,272.683,272.685 ,272.686,272.688,272.689,272.69,272.692 ,272.693,272.694,272.695,272.698,272.7, 272.702,272.704,272.705,272.707,272.708 ,272.848,273.195,273.499,273.72,273.927 ,274.064,274.11,274.107,274.105,274.102 ,274.1,274.099,274.098,274.096,274.095, 274.093,274.092,274.09,274.089,274.087, 274.086,274.084,274.083,274.081,274.079 ,274.078,274.076,274.075,274.073, 274.071,274.07,274.068,274.067,274.065, 274.063,274.062,274.06,274.058,274.057, 274.055,274.053,274.051,274.05,274.048, 274.046,274.044,274.043,274.04,274.038, 274.036,274.034,273.934)
ORBIT_NUMBER = 12628
ORBITAL_ECCENTRICITY = 0.578
ORBITAL_INCLINATION = 86.89
ORBITAL_SEMIMAJOR_AXIS = 8815.82
PERIAPSIS_ALTITUDE = 331.95
PERIAPSIS_ARGUMENT_ANGLE = 320.0
PERIAPSIS_TIME = 2013-12-08T23:11:12.000Z
SPACECRAFT_ORIENTATION = (0.0,1.0,0.0)
^MEX_ORIENTATION_DESC = "MEX_ORIENTATION_DESC.TXT"
SPACECRAFT_POINTING_MODE = ACROSSTRACK
^MEX_POINTING_DESC = "MEX_POINTING_DESC.TXT"
RIGHT_ASCENSION = -1e+32
DECLINATION = -1e+32
OFFSET_ANGLE = 0.2
SPACECRAFT_SOLAR_DISTANCE = 2.48773e+08
TARGET_NAME = MARS
/* CAMERA DATA ELEMENTS */
DETECTOR_TEMPERATURE = 18.3705
FOCAL_PLANE_TEMPERATURE = 8.5833
INST_CMPRS_NAME = "DISCRETE COSINE TRANSFORMATION (DCT)"
INST_CMPRS_RATIO = 7.51257
INST_CMPRS_QUALITY = 0
INST_CMPRS_QUANTZ_TBL_ID = 0
INSTRUMENT_TEMPERATURE = 11.234
LENS_TEMPERATURE = 8.7872
MACROPIXEL_SIZE = 1
MISSING_FRAMES = 0
PIXEL_SUBSAMPLING_FLAG = N
SIGNAL_CHAIN_ID = 0
/* RADIOMETRIC DATA ELEMENTS */
BANDWIDTH = 177.0
CENTER_FILTER_WAVELENGTH = 677.5
RADIANCE_OFFSET = 0.33196
RADIANCE_SCALING_FACTOR = 0.0100239
REFLECTANCE_SCALING_FACTOR = 0.000329554
MEX:REFLECTANCE_OFFSET = 0.0109138
/* IMAGE OBJECT DEFINITIONS */
OBJECT = IMAGE
  INTERCHANGE_FORMAT = BINARY
  LINES = 26846
  LINE_SAMPLES = 6468
  SAMPLE_TYPE = UNSIGNED_INTEGER
  SAMPLE_BITS = 8
  BANDS = 1
  BAND_STORAGE_TYPE = BAND_SEQUENTIAL
  MAXIMUM = 255
  MEAN = 86.1296
  MINIMUM = 1
  STANDARD_DEVIATION = 13.2395
END_OBJECT = IMAGE
/* MAP OBJECT DEFINITIONS */
OBJECT = IMAGE_MAP_PROJECTION
  ^DATA_SET_MAP_PROJECTION_CATALOG= "DSMAP.CAT"
  A_AXIS_RADIUS = 3396.0
  B_AXIS_RADIUS = 3396.0
  C_AXIS_RADIUS = 3396.0
  CENTER_LATITUDE = 0.0
  CENTER_LONGITUDE = 273.0
  COORDINATE_SYSTEM_NAME = PLANETOGRAPHIC
  COORDINATE_SYSTEM_TYPE = "BODY-FIXED ROTATING"
  EASTERNMOST_LONGITUDE = 274.11
  FIRST_STANDARD_PARALLEL = "N/A"
  LINE_FIRST_PIXEL = 1
  LINE_LAST_PIXEL = 26846
  LINE_PROJECTION_OFFSET = -132374.0
  MAP_PROJECTION_ROTATION = 0.0
  MAP_PROJECTION_TYPE = SINUSOIDAL
  MAP_RESOLUTION = 4741.71043093333
  MAP_SCALE = 0.0125
  MAXIMUM_LATITUDE = -27.9181
  MINIMUM_LATITUDE = -33.5774
  POSITIVE_LONGITUDE_DIRECTION = EAST
  REFERENCE_LATITUDE = "N/A"
  REFERENCE_LONGITUDE = "N/A"
  SAMPLE_FIRST_PIXEL = 1
  SAMPLE_LAST_PIXEL = 6468
  SAMPLE_PROJECTION_OFFSET = 1692.0
  SECOND_STANDARD_PARALLEL = "N/A"
  WESTERNMOST_LONGITUDE = 272.632
END_OBJECT = IMAGE_MAP_PROJECTION
/* The JPEG2000 image data file associated with this label. */
OBJECT = COMPRESSED_FILE
  FILE_NAME = "HC628_0000_ND3.JP2"
  RECORD_TYPE = UNDEFINED
  FILE_RECORDS = UNK
  ENCODING_TYPE = "JP2"
  INTERCHANGE_FORMAT = BINARY
  UNCOMPRESSED_FILE_NAME = "HC628_0000_ND3.IMG"
  REQUIRED_STORAGE_BYTES = "173672268"
  ^DESCRIPTION = "JP2INFO.TXT"
END_OBJECT = COMPRESSED_FILE
END
