PDS_VERSION_ID = PDS3
/* FILE DATA ELEMENTS */
RECORD_TYPE = STREAM
/* POINTERS TO DATA OBJECTS */
^COMPRESSED_FILE = "HC633_0000_P13.JP2"
/* IDENTIFICATION DATA ELEMENTS */
DATA_SET_ID = "MEX-M-HRSC-5-REFDR-MAPPROJECTED-V3.0"
DATA_SET_NAME = "MARS EXPRESS HRSC MAP PROJECTED REFDR V3.0"
DETECTOR_ID = MEX_HRSC_P1
EVENT_TYPE = "MARS-REGIONAL-MAPPING-Vo-Fl-Pf"
INSTRUMENT_HOST_ID = MEX
INSTRUMENT_HOST_NAME = "MARS EXPRESS"
INSTRUMENT_ID = HRSC
INSTRUMENT_NAME = "HIGH RESOLUTION STEREO CAMERA"
MISSION_NAME = "MARS EXPRESS"
MISSION_PHASE_NAME = ME_Phase_29
PROCESSING_LEVEL_ID = 3
PRODUCT_CREATION_TIME = 2016-10-28T21:13:36.000Z
PRODUCT_ID = "HC633_0000_P13.JP2"
RELEASE_ID = 0120
REVISION_ID = 0000
/* QUALITY DATA ELEMENTS */
DATA_QUALITY_ID = 1
DATA_QUALITY_DESC = "Data calculated based on original SPICE kernels"
/* TIME DATA ELEMENTS */
SPACECRAFT_CLOCK_START_COUNT = "1/0334750092.08235"
SPACECRAFT_CLOCK_STOP_COUNT = "1/0334750267.00607"
START_TIME = 2013-12-10T10:09:06.294Z
STOP_TIME = 2013-12-10T10:10:58.235Z
/* ORBITAL DATA ELEMENTS */
ASCENDING_NODE_LONGITUDE = 336.59
MAXIMUM_RESOLUTION = 55.3
FOOTPRINT_POINT_LATITUDE = (-36.2196,-36.2173,-36.2128,-36.2098, -36.2063,-36.2246,-36.0857,-35.877, -35.7378,-35.5295,-35.3903,-35.2469, -35.1036,-34.9604,-34.8172,-34.674, -34.4588,-34.2438,-34.1006,-33.9572, -33.8154,-33.6722,-33.53,-33.3875, -33.1738,-33.0313,-32.8916,-32.7476, -32.6047,-32.3916,-32.2496,-32.1078, -31.9662,-31.8243,-31.6118,-31.47, -31.2575,-31.0457,-30.9044,-30.7634, -30.6224,-30.4123,-30.2708,-30.0593, -29.8487,-29.7082,-29.5678,-29.3587, -29.2169,-29.0696,-29.0713,-29.0731, -29.0739,-29.0749,-29.0764,-29.2869, -29.4272,-29.5677,-29.7788,-29.9196, -30.0602,-30.2012,-30.3423,-30.5538, -30.7656,-30.9069,-31.0482,-31.2595, -31.4007,-31.612,-31.8261,-31.9687, -32.1089,-32.2515,-32.395,-32.5375, -32.6798,-32.8221,-33.0361,-33.1787, -33.3207,-33.464,-33.6057,-33.8193, -33.9622,-34.105,-34.2473,-34.391, -34.5345,-34.682,-34.8258,-34.9669, -35.1828,-35.3273,-35.4684,-35.7461, -35.9563,-36.0965,-36.2359,-36.2196)
FOOTPRINT_POINT_LONGITUDE = (123.024,122.811,122.451,122.238, 122.012,121.808,121.812,121.817,121.821 ,121.826,121.829,121.833,121.836, 121.839,121.842,121.845,121.85,121.855, 121.858,121.861,121.863,121.866,121.868 ,121.871,121.874,121.877,121.878, 121.881,121.883,121.886,121.888,121.89, 121.892,121.894,121.897,121.898,121.901 ,121.903,121.905,121.906,121.907, 121.908,121.91,121.912,121.913,121.914, 121.915,121.916,121.917,122.066,122.322 ,122.645,122.847,123.144,123.364, 123.362,123.36,123.358,123.356,123.354, 123.352,123.35,123.349,123.346,123.343, 123.341,123.339,123.336,123.334,123.33, 123.328,123.327,123.324,123.322,123.321 ,123.319,123.317,123.315,123.312,123.31 ,123.307,123.306,123.303,123.299, 123.297,123.295,123.292,123.29,123.288, 123.288,123.286,123.282,123.279,123.278 ,123.275,123.27,123.267,123.265,123.263 ,123.024)
ORBIT_NUMBER = 12633
ORBITAL_ECCENTRICITY = 0.578
ORBITAL_INCLINATION = 86.89
ORBITAL_SEMIMAJOR_AXIS = 8813.99
PERIAPSIS_ALTITUDE = 332.08
PERIAPSIS_ARGUMENT_ANGLE = 319.17
PERIAPSIS_TIME = 2013-12-10T10:07:38.000Z
SPACECRAFT_ORIENTATION = (0.0,1.0,0.0)
^MEX_ORIENTATION_DESC = "MEX_ORIENTATION_DESC.TXT"
SPACECRAFT_POINTING_MODE = NADIR
^MEX_POINTING_DESC = "MEX_POINTING_DESC.TXT"
RIGHT_ASCENSION = -1e+32
DECLINATION = -1e+32
OFFSET_ANGLE = -1e+32
SPACECRAFT_SOLAR_DISTANCE = 2.48825e+08
TARGET_NAME = MARS
/* CAMERA DATA ELEMENTS */
DETECTOR_TEMPERATURE = 17.9627
FOCAL_PLANE_TEMPERATURE = 8.1755
INST_CMPRS_NAME = "DISCRETE COSINE TRANSFORMATION (DCT)"
INST_CMPRS_RATIO = 3.94408
INST_CMPRS_QUALITY = 0
INST_CMPRS_QUANTZ_TBL_ID = 0
INSTRUMENT_TEMPERATURE = 11.4379
LENS_TEMPERATURE = 8.7872
MACROPIXEL_SIZE = 4
MISSING_FRAMES = 0
PIXEL_SUBSAMPLING_FLAG = N
SIGNAL_CHAIN_ID = 3
/* RADIOMETRIC DATA ELEMENTS */
BANDWIDTH = 174.0
CENTER_FILTER_WAVELENGTH = 675.0
RADIANCE_OFFSET = 0.387686
RADIANCE_SCALING_FACTOR = 0.013603
REFLECTANCE_SCALING_FACTOR = 0.000453012
MEX:REFLECTANCE_OFFSET = 0.0129108
/* IMAGE OBJECT DEFINITIONS */
OBJECT = IMAGE
  INTERCHANGE_FORMAT = BINARY
  LINES = 8498
  LINE_SAMPLES = 1564
  SAMPLE_TYPE = UNSIGNED_INTEGER
  SAMPLE_BITS = 8
  BANDS = 1
  BAND_STORAGE_TYPE = BAND_SEQUENTIAL
  MAXIMUM = 255
  MEAN = 86.9537
  MINIMUM = 1
  STANDARD_DEVIATION = 22.409
END_OBJECT = IMAGE
/* MAP OBJECT DEFINITIONS */
OBJECT = IMAGE_MAP_PROJECTION
  ^DATA_SET_MAP_PROJECTION_CATALOG= "DSMAP.CAT"
  A_AXIS_RADIUS = 3396.0
  B_AXIS_RADIUS = 3396.0
  C_AXIS_RADIUS = 3396.0
  CENTER_LATITUDE = 0.0
  CENTER_LONGITUDE = 123.0
  COORDINATE_SYSTEM_NAME = PLANETOGRAPHIC
  COORDINATE_SYSTEM_TYPE = "BODY-FIXED ROTATING"
  EASTERNMOST_LONGITUDE = 123.364
  FIRST_STANDARD_PARALLEL = "N/A"
  LINE_FIRST_PIXEL = 1
  LINE_LAST_PIXEL = 8498
  LINE_PROJECTION_OFFSET = -34478.625
  MAP_PROJECTION_ROTATION = 0.0
  MAP_PROJECTION_TYPE = SINUSOIDAL
  MAP_RESOLUTION = 1185.42760773333
  MAP_SCALE = 0.05
  MAXIMUM_LATITUDE = -29.0696
  MINIMUM_LATITUDE = -36.2359
  POSITIVE_LONGITUDE_DIRECTION = EAST
  REFERENCE_LATITUDE = "N/A"
  REFERENCE_LONGITUDE = "N/A"
  SAMPLE_FIRST_PIXEL = 1
  SAMPLE_LAST_PIXEL = 1564
  SAMPLE_PROJECTION_OFFSET = 1170.625
  SECOND_STANDARD_PARALLEL = "N/A"
  WESTERNMOST_LONGITUDE = 121.808
END_OBJECT = IMAGE_MAP_PROJECTION
/* The JPEG2000 image data file associated with this label. */
OBJECT = COMPRESSED_FILE
  FILE_NAME = "HC633_0000_P13.JP2"
  RECORD_TYPE = UNDEFINED
  FILE_RECORDS = UNK
  ENCODING_TYPE = "JP2"
  INTERCHANGE_FORMAT = BINARY
  UNCOMPRESSED_FILE_NAME = "HC633_0000_P13.IMG"
  REQUIRED_STORAGE_BYTES = "13311204"
  ^DESCRIPTION = "JP2INFO.TXT"
END_OBJECT = COMPRESSED_FILE
END
