PDS_VERSION_ID = PDS3
/* FILE DATA ELEMENTS */
RECORD_TYPE = STREAM
/* POINTERS TO DATA OBJECTS */
^COMPRESSED_FILE = "HC644_0000_S23.JP2"
/* IDENTIFICATION DATA ELEMENTS */
DATA_SET_ID = "MEX-M-HRSC-5-REFDR-MAPPROJECTED-V3.0"
DATA_SET_NAME = "MARS EXPRESS HRSC MAP PROJECTED REFDR V3.0"
DETECTOR_ID = MEX_HRSC_S2
EVENT_TYPE = "MARS-REGIONAL-MAPPING-Im-Eb-La"
INSTRUMENT_HOST_ID = MEX
INSTRUMENT_HOST_NAME = "MARS EXPRESS"
INSTRUMENT_ID = HRSC
INSTRUMENT_NAME = "HIGH RESOLUTION STEREO CAMERA"
MISSION_NAME = "MARS EXPRESS"
MISSION_PHASE_NAME = ME_Phase_29
PROCESSING_LEVEL_ID = 3
PRODUCT_CREATION_TIME = 2016-10-28T21:13:36.000Z
PRODUCT_ID = "HC644_0000_S23.JP2"
RELEASE_ID = 0120
REVISION_ID = 0000
/* QUALITY DATA ELEMENTS */
DATA_QUALITY_ID = 1
DATA_QUALITY_DESC = "Data calculated based on original SPICE kernels"
/* TIME DATA ELEMENTS */
SPACECRAFT_CLOCK_START_COUNT = "1/0335027048.08272"
SPACECRAFT_CLOCK_STOP_COUNT = "1/0335027199.22457"
START_TIME = 2013-12-13T15:04:12.753Z
STOP_TIME = 2013-12-13T15:05:15.097Z
/* ORBITAL DATA ELEMENTS */
ASCENDING_NODE_LONGITUDE = 336.38
MAXIMUM_RESOLUTION = 33.5
FOOTPRINT_POINT_LATITUDE = (-22.2615,-22.2603,-22.259,-22.2576, -22.256,-22.2542,-22.2523,-22.2502, -22.2479,-22.2454,-22.2428,-22.24, -22.2371,-22.2184,-22.0952,-21.9322, -21.7717,-21.612,-21.4585,-21.298, -21.217,-21.0586,-20.9402,-20.8591, -20.7002,-20.5402,-20.3793,-20.2194, -20.0971,-20.0151,-19.933,-19.8513, -19.7695,-19.6876,-19.6057,-19.5239, -19.4417,-19.36,-19.2786,-19.1968, -19.1153,-19.0337,-18.9512,-18.8676, -18.7826,-18.6965,-18.6119,-18.5281, -18.4449,-18.3613,-18.2772,-18.1931, -18.1259,-18.1302,-18.1327,-18.1341, -18.1363,-18.1386,-18.1402,-18.1416, -18.1426,-18.1433,-18.1446,-18.1455, -18.2298,-18.3558,-18.4396,-18.5238, -18.6083,-18.6933,-18.7783,-18.8622, -18.9455,-19.0694,-19.1513,-19.2333, -19.3153,-19.3973,-19.4795,-19.5619, -19.6853,-19.8082,-19.8902,-19.9724, -20.054,-20.1352,-20.2573,-20.3796, -20.541,-20.7017,-20.9013,-21.0607, -21.2209,-21.3818,-21.4628,-21.6218, -21.7405,-21.9004,-22.0609,-22.2615)
FOOTPRINT_POINT_LONGITUDE = (78.9789,78.8646,78.7501,78.6355, 78.5207,78.4057,78.2905,78.1752,78.0598 ,77.9442,77.8284,77.7123,77.5958, 77.4824,77.4802,77.4778,77.4764,77.4753 ,77.4768,77.4753,77.4741,77.4733, 77.4728,77.4715,77.4703,77.4686,77.4664 ,77.4645,77.4632,77.4623,77.4613, 77.4604,77.4595,77.4585,77.4575,77.4565 ,77.4554,77.4544,77.4535,77.4525, 77.4515,77.4505,77.4494,77.4483,77.4467 ,77.4446,77.4431,77.4419,77.4409, 77.4398,77.4384,77.437,77.528,77.7132, 77.8361,77.9433,78.0963,78.2643,78.3864 ,78.5083,78.63,78.7364,78.8881,79.0148, 79.0141,79.0132,79.0126,79.0119,79.0112 ,79.0104,79.0096,79.009,79.0086,79.0077 ,79.0071,79.0065,79.0058,79.0052, 79.0045,79.0038,79.0028,79.0019,79.0013 ,79.0006,79.0,78.9996,78.9986,78.9972, 78.9957,78.9942,78.9927,78.9915,78.9901 ,78.9887,78.9878,78.9867,78.986,78.9846 ,78.9832,78.9789)
ORBIT_NUMBER = 12644
ORBITAL_ECCENTRICITY = 0.578
ORBITAL_INCLINATION = 86.9
ORBITAL_SEMIMAJOR_AXIS = 8810.06
PERIAPSIS_ALTITUDE = 331.04
PERIAPSIS_ARGUMENT_ANGLE = 317.28
PERIAPSIS_TIME = 2013-12-13T14:59:34.000Z
SPACECRAFT_ORIENTATION = (0.0,1.0,0.0)
^MEX_ORIENTATION_DESC = "MEX_ORIENTATION_DESC.TXT"
SPACECRAFT_POINTING_MODE = ACROSSTRACK
^MEX_POINTING_DESC = "MEX_POINTING_DESC.TXT"
RIGHT_ASCENSION = -1e+32
DECLINATION = -1e+32
OFFSET_ANGLE = 0.269
SPACECRAFT_SOLAR_DISTANCE = 2.4893e+08
TARGET_NAME = MARS
/* CAMERA DATA ELEMENTS */
DETECTOR_TEMPERATURE = 19.5939
FOCAL_PLANE_TEMPERATURE = 8.5833
INST_CMPRS_NAME = "DISCRETE COSINE TRANSFORMATION (DCT)"
INST_CMPRS_RATIO = 7.41095
INST_CMPRS_QUALITY = 0
INST_CMPRS_QUANTZ_TBL_ID = 0
INSTRUMENT_TEMPERATURE = 12.4574
LENS_TEMPERATURE = 10.0106
MACROPIXEL_SIZE = 2
MISSING_FRAMES = 0
PIXEL_SUBSAMPLING_FLAG = N
SIGNAL_CHAIN_ID = 1
/* RADIOMETRIC DATA ELEMENTS */
BANDWIDTH = 178.0
CENTER_FILTER_WAVELENGTH = 679.0
RADIANCE_OFFSET = 0.896026
RADIANCE_SCALING_FACTOR = 0.012884
REFLECTANCE_SCALING_FACTOR = 0.000422801
MEX:REFLECTANCE_OFFSET = 0.0294039
/* IMAGE OBJECT DEFINITIONS */
OBJECT = IMAGE
  INTERCHANGE_FORMAT = BINARY
  LINES = 9718
  LINE_SAMPLES = 3891
  SAMPLE_TYPE = UNSIGNED_INTEGER
  SAMPLE_BITS = 8
  BANDS = 1
  BAND_STORAGE_TYPE = BAND_SEQUENTIAL
  MAXIMUM = 255
  MEAN = 112.769
  MINIMUM = 1
  STANDARD_DEVIATION = 17.7382
END_OBJECT = IMAGE
/* MAP OBJECT DEFINITIONS */
OBJECT = IMAGE_MAP_PROJECTION
  ^DATA_SET_MAP_PROJECTION_CATALOG= "DSMAP.CAT"
  A_AXIS_RADIUS = 3396.0
  B_AXIS_RADIUS = 3396.0
  C_AXIS_RADIUS = 3396.0
  CENTER_LATITUDE = 0.0
  CENTER_LONGITUDE = 78.0
  COORDINATE_SYSTEM_NAME = PLANETOGRAPHIC
  COORDINATE_SYSTEM_TYPE = "BODY-FIXED ROTATING"
  EASTERNMOST_LONGITUDE = 79.01479999999999
  FIRST_STANDARD_PARALLEL = "N/A"
  LINE_FIRST_PIXEL = 1
  LINE_LAST_PIXEL = 9718
  LINE_PROJECTION_OFFSET = -42971.25
  MAP_PROJECTION_ROTATION = 0.0
  MAP_PROJECTION_TYPE = SINUSOIDAL
  MAP_RESOLUTION = 2370.85521546667
  MAP_SCALE = 0.025
  MAXIMUM_LATITUDE = -18.1259
  MINIMUM_LATITUDE = -22.2615
  POSITIVE_LONGITUDE_DIRECTION = EAST
  REFERENCE_LATITUDE = "N/A"
  REFERENCE_LONGITUDE = "N/A"
  SAMPLE_FIRST_PIXEL = 1
  SAMPLE_LAST_PIXEL = 3891
  SAMPLE_PROJECTION_OFFSET = 1466.25
  SECOND_STANDARD_PARALLEL = "N/A"
  WESTERNMOST_LONGITUDE = 77.437
END_OBJECT = IMAGE_MAP_PROJECTION
/* The JPEG2000 image data file associated with this label. */
OBJECT = COMPRESSED_FILE
  FILE_NAME = "HC644_0000_S23.JP2"
  RECORD_TYPE = UNDEFINED
  FILE_RECORDS = UNK
  ENCODING_TYPE = "JP2"
  INTERCHANGE_FORMAT = BINARY
  UNCOMPRESSED_FILE_NAME = "HC644_0000_S23.IMG"
  REQUIRED_STORAGE_BYTES = "37836084"
  ^DESCRIPTION = "JP2INFO.TXT"
END_OBJECT = COMPRESSED_FILE
END
