PDS_VERSION_ID = PDS3
/* FILE DATA ELEMENTS */
RECORD_TYPE = STREAM
/* POINTERS TO DATA OBJECTS */
^COMPRESSED_FILE = "HC651_0000_ND3.JP2"
/* IDENTIFICATION DATA ELEMENTS */
DATA_SET_ID = "MEX-M-HRSC-5-REFDR-MAPPROJECTED-V3.0"
DATA_SET_NAME = "MARS EXPRESS HRSC MAP PROJECTED REFDR V3.0"
DETECTOR_ID = MEX_HRSC_NADIR
EVENT_TYPE = "MARS-REGIONAL-MAPPING-Im-Fl-Eb"
INSTRUMENT_HOST_ID = MEX
INSTRUMENT_HOST_NAME = "MARS EXPRESS"
INSTRUMENT_ID = HRSC
INSTRUMENT_NAME = "HIGH RESOLUTION STEREO CAMERA"
MISSION_NAME = "MARS EXPRESS"
MISSION_PHASE_NAME = ME_Phase_29
PROCESSING_LEVEL_ID = 3
PRODUCT_CREATION_TIME = 2016-10-28T21:13:36.000Z
PRODUCT_ID = "HC651_0000_ND3.JP2"
RELEASE_ID = 0120
REVISION_ID = 0000
/* QUALITY DATA ELEMENTS */
DATA_QUALITY_ID = 1
DATA_QUALITY_DESC = "Data calculated based on original SPICE kernels"
/* TIME DATA ELEMENTS */
SPACECRAFT_CLOCK_START_COUNT = "1/0335203033.07324"
SPACECRAFT_CLOCK_STOP_COUNT = "1/0335203237.40879"
START_TIME = 2013-12-15T15:58:04.440Z
STOP_TIME = 2013-12-15T15:59:58.587Z
/* ORBITAL DATA ELEMENTS */
ASCENDING_NODE_LONGITUDE = 336.25
MAXIMUM_RESOLUTION = 14.7
FOOTPRINT_POINT_LATITUDE = (-30.0072,-30.006,-30.0037,-30.0016, -29.9987,-29.7498,-29.503,-29.3577, -29.2106,-29.0635,-28.9166,-28.7697, -28.6228,-28.4761,-28.3294,-28.1828, -28.0362,-27.8897,-27.7433,-27.597, -27.4507,-27.2295,-27.0834,-26.9374, -26.7915,-26.6457,-26.5,-26.3543, -26.2087,-26.0632,-25.9178,-25.7724, -25.6272,-25.482,-25.3369,-25.1919, -25.047,-24.9022,-24.7575,-24.6128, -24.396,-24.1073,-23.819,-23.6723, -23.5244,-23.3766,-23.2289,-23.0814, -22.9339,-22.7866,-22.7646,-22.7649, -22.7649,-22.7645,-22.7638,-22.7623, -22.9838,-23.1315,-23.2794,-23.4273, -23.5753,-23.7969,-24.0858,-24.375, -24.5197,-24.6646,-24.8095,-24.9545, -25.0995,-25.2447,-25.39,-25.5353, -25.6808,-25.8263,-25.9719,-26.1176, -26.2633,-26.4092,-26.5551,-26.7742, -26.9934,-27.1396,-27.2859,-27.4343, -27.5808,-27.7273,-27.8739,-28.0207, -28.1675,-28.3144,-28.5347,-28.6817, -28.8288,-28.976,-29.1232,-29.2705, -29.4179,-29.617,-29.8642,-30.0072)
FOOTPRINT_POINT_LONGITUDE = (83.6968,83.3664,82.9928,82.7487, 82.4755,82.371,82.3724,82.3727,82.373, 82.3738,82.3748,82.3757,82.3764,82.3771 ,82.3777,82.378,82.3777,82.3779,82.3786 ,82.3782,82.3774,82.3776,82.3777, 82.3773,82.3766,82.3763,82.3767,82.3766 ,82.3759,82.3747,82.3737,82.3729, 82.3721,82.3713,82.3704,82.3696,82.3689 ,82.368,82.3671,82.3656,82.3642,82.363, 82.3615,82.3604,82.3576,82.3558,82.3542 ,82.3526,82.3509,82.3492,82.6294, 82.8472,83.0649,83.3609,83.5946,83.93, 83.9263,83.9254,83.9241,83.9227,83.9213 ,83.9191,83.9164,83.9134,83.9118, 83.9106,83.9093,83.908,83.9072,83.9052, 83.9036,83.9021,83.9009,83.899,83.8973, 83.8961,83.895,83.8934,83.892,83.8888, 83.886,83.8867,83.8862,83.8853,83.8832, 83.8828,83.8809,83.8782,83.8751,83.872, 83.8716,83.8713,83.8705,83.8691,83.8673 ,83.8653,83.8634,83.858,83.8583, 83.6968)
ORBIT_NUMBER = 12651
ORBITAL_ECCENTRICITY = 0.578
ORBITAL_INCLINATION = 86.9
ORBITAL_SEMIMAJOR_AXIS = 8808.27
PERIAPSIS_ALTITUDE = 330.82
PERIAPSIS_ARGUMENT_ANGLE = 316.09
PERIAPSIS_TIME = 2013-12-15T15:54:32.000Z
SPACECRAFT_ORIENTATION = (0.0,1.0,0.0)
^MEX_ORIENTATION_DESC = "MEX_ORIENTATION_DESC.TXT"
SPACECRAFT_POINTING_MODE = NADIR
^MEX_POINTING_DESC = "MEX_POINTING_DESC.TXT"
RIGHT_ASCENSION = -1e+32
DECLINATION = -1e+32
OFFSET_ANGLE = -1e+32
SPACECRAFT_SOLAR_DISTANCE = 2.48989e+08
TARGET_NAME = MARS
/* CAMERA DATA ELEMENTS */
DETECTOR_TEMPERATURE = 18.9822
FOCAL_PLANE_TEMPERATURE = 9.8067
INST_CMPRS_NAME = "DISCRETE COSINE TRANSFORMATION (DCT)"
INST_CMPRS_RATIO = 5.17137
INST_CMPRS_QUALITY = 0
INST_CMPRS_QUANTZ_TBL_ID = 0
INSTRUMENT_TEMPERATURE = 12.0496
LENS_TEMPERATURE = 11.6418
MACROPIXEL_SIZE = 1
MISSING_FRAMES = 1
PIXEL_SUBSAMPLING_FLAG = N
SIGNAL_CHAIN_ID = 0
/* RADIOMETRIC DATA ELEMENTS */
BANDWIDTH = 177.0
CENTER_FILTER_WAVELENGTH = 677.5
RADIANCE_OFFSET = 0.528455
RADIANCE_SCALING_FACTOR = 0.0125433
REFLECTANCE_SCALING_FACTOR = 0.0004131
MEX:REFLECTANCE_OFFSET = 0.0174041
/* IMAGE OBJECT DEFINITIONS */
OBJECT = IMAGE
  INTERCHANGE_FORMAT = BINARY
  LINES = 34349
  LINE_SAMPLES = 7216
  SAMPLE_TYPE = UNSIGNED_INTEGER
  SAMPLE_BITS = 8
  BANDS = 1
  BAND_STORAGE_TYPE = BAND_SEQUENTIAL
  MAXIMUM = 255
  MEAN = 103.305
  MINIMUM = 1
  STANDARD_DEVIATION = 23.922
END_OBJECT = IMAGE
/* MAP OBJECT DEFINITIONS */
OBJECT = IMAGE_MAP_PROJECTION
  ^DATA_SET_MAP_PROJECTION_CATALOG= "DSMAP.CAT"
  A_AXIS_RADIUS = 3396.0
  B_AXIS_RADIUS = 3396.0
  C_AXIS_RADIUS = 3396.0
  CENTER_LATITUDE = 0.0
  CENTER_LONGITUDE = 83.0
  COORDINATE_SYSTEM_NAME = PLANETOGRAPHIC
  COORDINATE_SYSTEM_TYPE = "BODY-FIXED ROTATING"
  EASTERNMOST_LONGITUDE = 83.93000000000001
  FIRST_STANDARD_PARALLEL = "N/A"
  LINE_FIRST_PIXEL = 1
  LINE_LAST_PIXEL = 34349
  LINE_PROJECTION_OFFSET = -107934.0
  MAP_PROJECTION_ROTATION = 0.0
  MAP_PROJECTION_TYPE = SINUSOIDAL
  MAP_RESOLUTION = 4741.71043093333
  MAP_SCALE = 0.0125
  MAXIMUM_LATITUDE = -22.7623
  MINIMUM_LATITUDE = -30.0072
  POSITIVE_LONGITUDE_DIRECTION = EAST
  REFERENCE_LATITUDE = "N/A"
  REFERENCE_LONGITUDE = "N/A"
  SAMPLE_FIRST_PIXEL = 1
  SAMPLE_LAST_PIXEL = 7216
  SAMPLE_PROJECTION_OFFSET = 3002.0
  SECOND_STANDARD_PARALLEL = "N/A"
  WESTERNMOST_LONGITUDE = 82.3492
END_OBJECT = IMAGE_MAP_PROJECTION
/* The JPEG2000 image data file associated with this label. */
OBJECT = COMPRESSED_FILE
  FILE_NAME = "HC651_0000_ND3.JP2"
  RECORD_TYPE = UNDEFINED
  FILE_RECORDS = UNK
  ENCODING_TYPE = "JP2"
  INTERCHANGE_FORMAT = BINARY
  UNCOMPRESSED_FILE_NAME = "HC651_0000_ND3.IMG"
  REQUIRED_STORAGE_BYTES = "247891248"
  ^DESCRIPTION = "JP2INFO.TXT"
END_OBJECT = COMPRESSED_FILE
END
