PDS_VERSION_ID = PDS3
/* FILE DATA ELEMENTS */
RECORD_TYPE = STREAM
/* POINTERS TO DATA OBJECTS */
^COMPRESSED_FILE = "HC651_0000_P13.JP2"
/* IDENTIFICATION DATA ELEMENTS */
DATA_SET_ID = "MEX-M-HRSC-5-REFDR-MAPPROJECTED-V3.0"
DATA_SET_NAME = "MARS EXPRESS HRSC MAP PROJECTED REFDR V3.0"
DETECTOR_ID = MEX_HRSC_P1
EVENT_TYPE = "MARS-REGIONAL-MAPPING-Im-Fl-Eb"
INSTRUMENT_HOST_ID = MEX
INSTRUMENT_HOST_NAME = "MARS EXPRESS"
INSTRUMENT_ID = HRSC
INSTRUMENT_NAME = "HIGH RESOLUTION STEREO CAMERA"
MISSION_NAME = "MARS EXPRESS"
MISSION_PHASE_NAME = ME_Phase_29
PROCESSING_LEVEL_ID = 3
PRODUCT_CREATION_TIME = 2016-10-28T21:13:36.000Z
PRODUCT_ID = "HC651_0000_P13.JP2"
RELEASE_ID = 0120
REVISION_ID = 0000
/* QUALITY DATA ELEMENTS */
DATA_QUALITY_ID = 1
DATA_QUALITY_DESC = "Data calculated based on original SPICE kernels"
/* TIME DATA ELEMENTS */
SPACECRAFT_CLOCK_START_COUNT = "1/0335203033.07324"
SPACECRAFT_CLOCK_STOP_COUNT = "1/0335203237.40879"
START_TIME = 2013-12-15T15:58:11.607Z
STOP_TIME = 2013-12-15T16:00:25.473Z
/* ORBITAL DATA ELEMENTS */
ASCENDING_NODE_LONGITUDE = 336.25
MAXIMUM_RESOLUTION = 30.6
FOOTPRINT_POINT_LATITUDE = (-30.9409,-30.9397,-30.9374,-30.9357, -30.9324,-30.7195,-30.5551,-30.3892, -30.1412,-29.9765,-29.8113,-29.6467, -29.3999,-29.2369,-28.9902,-28.8259, -28.6617,-28.4975,-28.3336,-28.1693, -28.0078,-27.8436,-27.6801,-27.5185, -27.3563,-27.1948,-27.0338,-26.8722, -26.6313,-26.3848,-26.2239,-25.9043, -25.7439,-25.5835,-25.3431,-25.1788, -25.014,-24.8495,-24.6854,-24.5242, -24.3586,-24.1945,-24.0244,-23.8559, -23.688,-23.5231,-23.3576,-23.1912, -22.9366,-22.7663,-22.7486,-22.75, -22.748,-22.7475,-22.7478,-22.7465, -22.8323,-23.0865,-23.2552,-23.5058, -23.6728,-23.8402,-24.0078,-24.2579, -24.4213,-24.5854,-24.7499,-24.9145, -25.0801,-25.2439,-25.4068,-25.5675, -25.8082,-25.9701,-26.1323,-26.3747, -26.5364,-26.698,-26.859,-27.1019, -27.2674,-27.4318,-27.6772,-27.8409, -28.1613,-28.3231,-28.4893,-28.7398, -28.9045,-29.0687,-29.3146,-29.638, -29.8071,-29.973,-30.1369,-30.3016, -30.4681,-30.634,-30.7997,-30.9409)
FOOTPRINT_POINT_LONGITUDE = (83.7039,83.402,83.0281,82.7982,82.4241 ,82.348,82.3486,82.3501,82.3518,82.3527 ,82.3537,82.3545,82.3555,82.3555, 82.3565,82.3571,82.3577,82.3582,82.3586 ,82.3593,82.3585,82.3591,82.3593, 82.3586,82.3582,82.3574,82.3564,82.3557 ,82.3539,82.3551,82.3541,82.3511, 82.3499,82.3488,82.347,82.3457,82.3447, 82.3435,82.3421,82.3393,82.3388,82.3373 ,82.3369,82.3357,82.3342,82.3313, 82.3286,82.3265,82.3231,82.3208,82.5587 ,82.7492,83.0196,83.2103,83.4172, 83.7033,83.9633,83.9595,83.9578,83.9549 ,83.9529,83.951,83.9491,83.946,83.9439, 83.9421,83.9404,83.9386,83.9372,83.9348 ,83.9328,83.9309,83.9277,83.9262, 83.9248,83.922,83.92,83.918,83.9155, 83.9122,83.9119,83.9108,83.9085,83.9069 ,83.8996,83.8966,83.896,83.8954,83.8936 ,83.8916,83.8881,83.8807,83.8808, 83.8791,83.8763,83.8738,83.8721,83.8701 ,83.8679,83.7039)
ORBIT_NUMBER = 12651
ORBITAL_ECCENTRICITY = 0.578
ORBITAL_INCLINATION = 86.9
ORBITAL_SEMIMAJOR_AXIS = 8808.27
PERIAPSIS_ALTITUDE = 330.82
PERIAPSIS_ARGUMENT_ANGLE = 316.09
PERIAPSIS_TIME = 2013-12-15T15:54:32.000Z
SPACECRAFT_ORIENTATION = (0.0,1.0,0.0)
^MEX_ORIENTATION_DESC = "MEX_ORIENTATION_DESC.TXT"
SPACECRAFT_POINTING_MODE = NADIR
^MEX_POINTING_DESC = "MEX_POINTING_DESC.TXT"
RIGHT_ASCENSION = -1e+32
DECLINATION = -1e+32
OFFSET_ANGLE = -1e+32
SPACECRAFT_SOLAR_DISTANCE = 2.48989e+08
TARGET_NAME = MARS
/* CAMERA DATA ELEMENTS */
DETECTOR_TEMPERATURE = 18.1666
FOCAL_PLANE_TEMPERATURE = 9.8067
INST_CMPRS_NAME = "DISCRETE COSINE TRANSFORMATION (DCT)"
INST_CMPRS_RATIO = 5.62262
INST_CMPRS_QUALITY = 0
INST_CMPRS_QUANTZ_TBL_ID = 0
INSTRUMENT_TEMPERATURE = 12.0496
LENS_TEMPERATURE = 11.6418
MACROPIXEL_SIZE = 2
MISSING_FRAMES = 0
PIXEL_SUBSAMPLING_FLAG = N
SIGNAL_CHAIN_ID = 3
/* RADIOMETRIC DATA ELEMENTS */
BANDWIDTH = 174.0
CENTER_FILTER_WAVELENGTH = 675.0
RADIANCE_OFFSET = 0.72081
RADIANCE_SCALING_FACTOR = 0.0131913
REFLECTANCE_SCALING_FACTOR = 0.000439877
MEX:REFLECTANCE_OFFSET = 0.0240362
/* IMAGE OBJECT DEFINITIONS */
OBJECT = IMAGE
  INTERCHANGE_FORMAT = BINARY
  LINES = 17175
  LINE_SAMPLES = 3608
  SAMPLE_TYPE = UNSIGNED_INTEGER
  SAMPLE_BITS = 8
  BANDS = 1
  BAND_STORAGE_TYPE = BAND_SEQUENTIAL
  MAXIMUM = 255
  MEAN = 103.736
  MINIMUM = 1
  STANDARD_DEVIATION = 24.2601
END_OBJECT = IMAGE
/* MAP OBJECT DEFINITIONS */
OBJECT = IMAGE_MAP_PROJECTION
  ^DATA_SET_MAP_PROJECTION_CATALOG= "DSMAP.CAT"
  A_AXIS_RADIUS = 3396.0
  B_AXIS_RADIUS = 3396.0
  C_AXIS_RADIUS = 3396.0
  CENTER_LATITUDE = 0.0
  CENTER_LONGITUDE = 83.0
  COORDINATE_SYSTEM_NAME = PLANETOGRAPHIC
  COORDINATE_SYSTEM_TYPE = "BODY-FIXED ROTATING"
  EASTERNMOST_LONGITUDE = 83.9633
  FIRST_STANDARD_PARALLEL = "N/A"
  LINE_FIRST_PIXEL = 1
  LINE_LAST_PIXEL = 17175
  LINE_PROJECTION_OFFSET = -53967.25
  MAP_PROJECTION_ROTATION = 0.0
  MAP_PROJECTION_TYPE = SINUSOIDAL
  MAP_RESOLUTION = 2370.85521546667
  MAP_SCALE = 0.025
  MAXIMUM_LATITUDE = -22.7465
  MINIMUM_LATITUDE = -30.9409
  POSITIVE_LONGITUDE_DIRECTION = EAST
  REFERENCE_LATITUDE = "N/A"
  REFERENCE_LONGITUDE = "N/A"
  SAMPLE_FIRST_PIXEL = 1
  SAMPLE_LAST_PIXEL = 3608
  SAMPLE_PROJECTION_OFFSET = 1500.75
  SECOND_STANDARD_PARALLEL = "N/A"
  WESTERNMOST_LONGITUDE = 82.32080000000001
END_OBJECT = IMAGE_MAP_PROJECTION
/* The JPEG2000 image data file associated with this label. */
OBJECT = COMPRESSED_FILE
  FILE_NAME = "HC651_0000_P13.JP2"
  RECORD_TYPE = UNDEFINED
  FILE_RECORDS = UNK
  ENCODING_TYPE = "JP2"
  INTERCHANGE_FORMAT = BINARY
  UNCOMPRESSED_FILE_NAME = "HC651_0000_P13.IMG"
  REQUIRED_STORAGE_BYTES = "61989048"
  ^DESCRIPTION = "JP2INFO.TXT"
END_OBJECT = COMPRESSED_FILE
END
