PDS_VERSION_ID = PDS3
/* FILE DATA ELEMENTS */
RECORD_TYPE = STREAM
/* POINTERS TO DATA OBJECTS */
^COMPRESSED_FILE = "HC652_0009_GR3.JP2"
/* IDENTIFICATION DATA ELEMENTS */
DATA_SET_ID = "MEX-M-HRSC-5-REFDR-MAPPROJECTED-V3.0"
DATA_SET_NAME = "MARS EXPRESS HRSC MAP PROJECTED REFDR V3.0"
DETECTOR_ID = MEX_HRSC_GREEN
EVENT_TYPE = "MARS-CLOUD-VARIABLE-Ot-At"
INSTRUMENT_HOST_ID = MEX
INSTRUMENT_HOST_NAME = "MARS EXPRESS"
INSTRUMENT_ID = HRSC
INSTRUMENT_NAME = "HIGH RESOLUTION STEREO CAMERA"
MISSION_NAME = "MARS EXPRESS"
MISSION_PHASE_NAME = ME_Phase_29
PROCESSING_LEVEL_ID = 3
PRODUCT_CREATION_TIME = 2016-10-28T21:13:36.000Z
PRODUCT_ID = "HC652_0009_GR3.JP2"
RELEASE_ID = 0120
REVISION_ID = 0000
/* QUALITY DATA ELEMENTS */
DATA_QUALITY_ID = 1
DATA_QUALITY_DESC = "Data calculated based on original SPICE kernels"
/* TIME DATA ELEMENTS */
SPACECRAFT_CLOCK_START_COUNT = "1/0335228374.09055"
SPACECRAFT_CLOCK_STOP_COUNT = "1/0335229204.22849"
START_TIME = 2013-12-15T23:00:20.353Z
STOP_TIME = 2013-12-15T23:13:26.878Z
/* ORBITAL DATA ELEMENTS */
ASCENDING_NODE_LONGITUDE = 336.24
MAXIMUM_RESOLUTION = 73.7
FOOTPRINT_POINT_LATITUDE = (-19.2545,-19.2606,-18.41,-17.5448, -16.3661,-15.1611,-14.546,-13.9215, -12.961,-12.3181,-11.6626,-10.9992, -10.3271,-9.64244,-8.94943,-8.24453, -7.52856,-6.80099,-6.06082,-5.30764, -4.54325,-3.76545,-2.97402,-2.1682, -0.919673,-0.0745098,0.783046,1.65797, 2.55162,3.46213,4.39132,5.34059,6.3072, 7.29064,8.27203,9.23965,10.194,11.1372, 12.0687,12.9868,13.8921,14.7856,15.6692 ,16.5398,17.3991,18.247,19.0841,19.9095 ,19.9827,20.0417,20.07,20.0914,20.1014, 19.2711,18.4299,17.5777,16.7138,15.8379 ,14.9513,14.0511,13.1423,12.2195, 11.2845,10.3378,9.37852,8.40704,7.42276 ,6.43267,5.45924,4.50605,3.57297, 2.65875,1.76133,0.880689,0.0172243, -0.829317,-2.08378,-2.89295,-3.68752, -4.46819,-5.23514,-5.9903,-6.73269, -7.46276,-8.18188,-8.88811,-9.58449, -10.2696,-10.9454,-11.611,-12.2673, -12.9143,-13.8773,-14.503,-15.1198, -15.7276,-16.9224,-18.0874,-18.9435, -19.2545)
FOOTPRINT_POINT_LONGITUDE = (340.815,340.094,340.079,340.061, 340.031,339.998,339.98,339.962,339.932, 339.907,339.886,339.862,339.834,339.81, 339.78,339.752,339.72,339.688,339.656, 339.621,339.583,339.544,339.501,339.458 ,339.386,339.339,339.284,339.229, 339.172,339.111,339.046,338.981,338.908 ,338.829,338.754,338.675,338.593, 338.512,338.429,338.344,338.254,338.164 ,338.076,337.983,337.89,337.794,337.699 ,337.601,338.428,339.999,340.969, 341.894,342.559,342.522,342.485,342.449 ,342.415,342.383,342.351,342.323, 342.291,342.263,342.237,342.211,342.187 ,342.163,342.142,342.12,342.102,342.084 ,342.065,342.048,342.033,342.021, 342.009,341.995,341.977,341.967,341.955 ,341.946,341.936,341.926,341.919, 341.911,341.903,341.895,341.888,341.88, 341.874,341.867,341.861,341.855,341.846 ,341.84,341.834,341.829,341.818,341.806 ,341.798,340.815)
ORBIT_NUMBER = 12652
ORBITAL_ECCENTRICITY = 0.578
ORBITAL_INCLINATION = 86.9
ORBITAL_SEMIMAJOR_AXIS = 8803.6
PERIAPSIS_ALTITUDE = 331.67
PERIAPSIS_ARGUMENT_ANGLE = 315.92
PERIAPSIS_TIME = 2013-12-15T22:53:47.000Z
SPACECRAFT_ORIENTATION = (0.0,1.0,0.0)
^MEX_ORIENTATION_DESC = "MEX_ORIENTATION_DESC.TXT"
SPACECRAFT_POINTING_MODE = NADIR
^MEX_POINTING_DESC = "MEX_POINTING_DESC.TXT"
RIGHT_ASCENSION = -1e+32
DECLINATION = -1e+32
OFFSET_ANGLE = -1e+32
SPACECRAFT_SOLAR_DISTANCE = 2.48997e+08
TARGET_NAME = MARS
/* CAMERA DATA ELEMENTS */
DETECTOR_TEMPERATURE = 18.3705
FOCAL_PLANE_TEMPERATURE = 9.195
INST_CMPRS_NAME = "DISCRETE COSINE TRANSFORMATION (DCT)"
INST_CMPRS_RATIO = 17.1814
INST_CMPRS_QUALITY = 0
INST_CMPRS_QUANTZ_TBL_ID = 0
INSTRUMENT_TEMPERATURE = 12.0496
LENS_TEMPERATURE = 9.3989
MACROPIXEL_SIZE = 4
MISSING_FRAMES = 2
PIXEL_SUBSAMPLING_FLAG = N
SIGNAL_CHAIN_ID = 2
/* RADIOMETRIC DATA ELEMENTS */
BANDWIDTH = 88.0
CENTER_FILTER_WAVELENGTH = 538.0
RADIANCE_OFFSET = 0.430501
RADIANCE_SCALING_FACTOR = 0.00738604
REFLECTANCE_SCALING_FACTOR = 0.000394265
MEX:REFLECTANCE_OFFSET = 0.02298
/* IMAGE OBJECT DEFINITIONS */
OBJECT = IMAGE
  INTERCHANGE_FORMAT = BINARY
  LINES = 46666
  LINE_SAMPLES = 5257
  SAMPLE_TYPE = UNSIGNED_INTEGER
  SAMPLE_BITS = 8
  BANDS = 1
  BAND_STORAGE_TYPE = BAND_SEQUENTIAL
  MAXIMUM = 255
  MEAN = 140.069
  MINIMUM = 1
  STANDARD_DEVIATION = 40.6404
END_OBJECT = IMAGE
/* MAP OBJECT DEFINITIONS */
OBJECT = IMAGE_MAP_PROJECTION
  ^DATA_SET_MAP_PROJECTION_CATALOG= "DSMAP.CAT"
  A_AXIS_RADIUS = 3396.0
  B_AXIS_RADIUS = 3396.0
  C_AXIS_RADIUS = 3396.0
  CENTER_LATITUDE = 0.0
  CENTER_LONGITUDE = 341.0
  COORDINATE_SYSTEM_NAME = PLANETOGRAPHIC
  COORDINATE_SYSTEM_TYPE = "BODY-FIXED ROTATING"
  EASTERNMOST_LONGITUDE = 342.559
  FIRST_STANDARD_PARALLEL = "N/A"
  LINE_FIRST_PIXEL = 1
  LINE_LAST_PIXEL = 46666
  LINE_PROJECTION_OFFSET = 23842.0
  MAP_PROJECTION_ROTATION = 0.0
  MAP_PROJECTION_TYPE = SINUSOIDAL
  MAP_RESOLUTION = 1185.42760773333
  MAP_SCALE = 0.05
  MAXIMUM_LATITUDE = 20.1014
  MINIMUM_LATITUDE = -19.2606
  POSITIVE_LONGITUDE_DIRECTION = EAST
  REFERENCE_LATITUDE = "N/A"
  REFERENCE_LONGITUDE = "N/A"
  SAMPLE_FIRST_PIXEL = 1
  SAMPLE_LAST_PIXEL = 5257
  SAMPLE_PROJECTION_OFFSET = 3658.0
  SECOND_STANDARD_PARALLEL = "N/A"
  WESTERNMOST_LONGITUDE = 337.601
END_OBJECT = IMAGE_MAP_PROJECTION
/* The JPEG2000 image data file associated with this label. */
OBJECT = COMPRESSED_FILE
  FILE_NAME = "HC652_0009_GR3.JP2"
  RECORD_TYPE = UNDEFINED
  FILE_RECORDS = UNK
  ENCODING_TYPE = "JP2"
  INTERCHANGE_FORMAT = BINARY
  UNCOMPRESSED_FILE_NAME = "HC652_0009_GR3.IMG"
  REQUIRED_STORAGE_BYTES = "245349447"
  ^DESCRIPTION = "JP2INFO.TXT"
END_OBJECT = COMPRESSED_FILE
END
