PDS_VERSION_ID = PDS3
/* FILE DATA ELEMENTS */
RECORD_TYPE = STREAM
/* POINTERS TO DATA OBJECTS */
^COMPRESSED_FILE = "HC656_0000_S13.JP2"
/* IDENTIFICATION DATA ELEMENTS */
DATA_SET_ID = "MEX-M-HRSC-5-REFDR-MAPPROJECTED-V3.0"
DATA_SET_NAME = "MARS EXPRESS HRSC MAP PROJECTED REFDR V3.0"
DETECTOR_ID = MEX_HRSC_S1
EVENT_TYPE = "MARS-LOCAL-STEREO-Vo-Te-Im"
INSTRUMENT_HOST_ID = MEX
INSTRUMENT_HOST_NAME = "MARS EXPRESS"
INSTRUMENT_ID = HRSC
INSTRUMENT_NAME = "HIGH RESOLUTION STEREO CAMERA"
MISSION_NAME = "MARS EXPRESS"
MISSION_PHASE_NAME = ME_Phase_29
PROCESSING_LEVEL_ID = 3
PRODUCT_CREATION_TIME = 2016-10-28T21:13:36.000Z
PRODUCT_ID = "HC656_0000_S13.JP2"
RELEASE_ID = 0120
REVISION_ID = 0000
/* QUALITY DATA ELEMENTS */
DATA_QUALITY_ID = 1
DATA_QUALITY_DESC = "Data calculated based on original SPICE kernels"
/* TIME DATA ELEMENTS */
SPACECRAFT_CLOCK_START_COUNT = "1/0335328974.09047"
SPACECRAFT_CLOCK_STOP_COUNT = "1/0335329172.49861"
START_TIME = 2013-12-17T02:57:41.379Z
STOP_TIME = 2013-12-17T02:59:35.392Z
/* ORBITAL DATA ELEMENTS */
ASCENDING_NODE_LONGITUDE = 336.16
MAXIMUM_RESOLUTION = 19.5
FOOTPRINT_POINT_LATITUDE = (-21.9134,-21.9124,-21.9113,-21.9102, -21.9092,-21.9081,-21.907,-21.9059, -21.9047,-21.9036,-21.9025,-21.8359, -21.5966,-21.3585,-21.1798,-20.9369, -20.6334,-20.3916,-20.268,-20.1448, -20.0217,-19.8371,-19.6532,-19.5285, -19.4035,-19.2786,-19.154,-19.0294, -18.9051,-18.7787,-18.6518,-18.5251, -18.3987,-18.2093,-18.0815,-17.8884, -17.7595,-17.6315,-17.5037,-17.374, -17.244,-17.0487,-16.8539,-16.6561, -16.5242,-16.3265,-16.1953,-16.0622, -15.9287,-15.7954,-15.573,-15.5725, -15.5721,-15.5717,-15.5717,-15.5711, -15.5705,-15.571,-15.5704,-15.5714, -15.5717,-15.7049,-15.8382,-16.0388, -16.1725,-16.3038,-16.4364,-16.5677, -16.7002,-16.8325,-16.9626,-17.0927, -17.2233,-17.354,-17.4843,-17.6125, -17.8055,-17.9342,-18.0632,-18.1916, -18.3182,-18.4451,-18.5725,-18.7633, -18.8909,-19.0788,-19.2046,-19.3912, -19.5162,-19.7642,-20.0101,-20.1957, -20.4421,-20.6847,-20.9884,-21.2314, -21.4704,-21.65,-21.8298,-21.9134)
FOOTPRINT_POINT_LONGITUDE = (293.092,292.953,292.815,292.677, 292.539,292.402,292.264,292.127,291.991 ,291.854,291.717,291.573,291.568, 291.563,291.559,291.553,291.546,291.541 ,291.538,291.535,291.532,291.527, 291.523,291.52,291.517,291.513,291.51, 291.507,291.503,291.5,291.497,291.493, 291.49,291.484,291.481,291.475,291.471, 291.468,291.464,291.46,291.456,291.45, 291.444,291.438,291.434,291.427,291.423 ,291.418,291.414,291.41,291.44,291.596, 291.732,291.888,292.044,292.22,292.474, 292.709,292.984,293.22,293.388,293.386, 293.384,293.381,293.38,293.378,293.377, 293.375,293.373,293.371,293.37,293.368, 293.367,293.365,293.364,293.362,293.36, 293.359,293.357,293.356,293.354,293.353 ,293.351,293.349,293.348,293.346, 293.345,293.343,293.341,293.338,293.335 ,293.333,293.331,293.328,293.325, 293.322,293.319,293.318,293.316, 293.092)
ORBIT_NUMBER = 12656
ORBITAL_ECCENTRICITY = 0.578
ORBITAL_INCLINATION = 86.88
ORBITAL_SEMIMAJOR_AXIS = 8805.17
PERIAPSIS_ALTITUDE = 331.69
PERIAPSIS_ARGUMENT_ANGLE = 315.26
PERIAPSIS_TIME = 2013-12-17T02:51:05.000Z
SPACECRAFT_ORIENTATION = (0.0,1.0,0.0)
^MEX_ORIENTATION_DESC = "MEX_ORIENTATION_DESC.TXT"
SPACECRAFT_POINTING_MODE = ACROSSTRACK
^MEX_POINTING_DESC = "MEX_POINTING_DESC.TXT"
RIGHT_ASCENSION = -1e+32
DECLINATION = -1e+32
OFFSET_ANGLE = -0.3
SPACECRAFT_SOLAR_DISTANCE = 2.49027e+08
TARGET_NAME = MARS
/* CAMERA DATA ELEMENTS */
DETECTOR_TEMPERATURE = 18.5744
FOCAL_PLANE_TEMPERATURE = 9.6028
INST_CMPRS_NAME = "DISCRETE COSINE TRANSFORMATION (DCT)"
INST_CMPRS_RATIO = 10.0113
INST_CMPRS_QUALITY = 0
INST_CMPRS_QUANTZ_TBL_ID = 0
INSTRUMENT_TEMPERATURE = 12.4574
LENS_TEMPERATURE = 10.0106
MACROPIXEL_SIZE = 1
MISSING_FRAMES = 0
PIXEL_SUBSAMPLING_FLAG = N
SIGNAL_CHAIN_ID = 2
/* RADIOMETRIC DATA ELEMENTS */
BANDWIDTH = 180.0
CENTER_FILTER_WAVELENGTH = 677.0
RADIANCE_OFFSET = 0.915214
RADIANCE_SCALING_FACTOR = 0.0199963
REFLECTANCE_SCALING_FACTOR = 0.000646969
MEX:REFLECTANCE_OFFSET = 0.0296113
/* IMAGE OBJECT DEFINITIONS */
OBJECT = IMAGE
  INTERCHANGE_FORMAT = BINARY
  LINES = 30116
  LINE_SAMPLES = 8659
  SAMPLE_TYPE = UNSIGNED_INTEGER
  SAMPLE_BITS = 8
  BANDS = 1
  BAND_STORAGE_TYPE = BAND_SEQUENTIAL
  MAXIMUM = 255
  MEAN = 104.75
  MINIMUM = 1
  STANDARD_DEVIATION = 19.2304
END_OBJECT = IMAGE
/* MAP OBJECT DEFINITIONS */
OBJECT = IMAGE_MAP_PROJECTION
  ^DATA_SET_MAP_PROJECTION_CATALOG= "DSMAP.CAT"
  A_AXIS_RADIUS = 3396.0
  B_AXIS_RADIUS = 3396.0
  C_AXIS_RADIUS = 3396.0
  CENTER_LATITUDE = 0.0
  CENTER_LONGITUDE = 292.0
  COORDINATE_SYSTEM_NAME = PLANETOGRAPHIC
  COORDINATE_SYSTEM_TYPE = "BODY-FIXED ROTATING"
  EASTERNMOST_LONGITUDE = 293.388
  FIRST_STANDARD_PARALLEL = "N/A"
  LINE_FIRST_PIXEL = 1
  LINE_LAST_PIXEL = 30116
  LINE_PROJECTION_OFFSET = -73895.0
  MAP_PROJECTION_ROTATION = 0.0
  MAP_PROJECTION_TYPE = SINUSOIDAL
  MAP_RESOLUTION = 4741.71043093333
  MAP_SCALE = 0.0125
  MAXIMUM_LATITUDE = -15.5704
  MINIMUM_LATITUDE = -21.9134
  POSITIVE_LONGITUDE_DIRECTION = EAST
  REFERENCE_LATITUDE = "N/A"
  REFERENCE_LONGITUDE = "N/A"
  SAMPLE_FIRST_PIXEL = 1
  SAMPLE_LAST_PIXEL = 8659
  SAMPLE_PROJECTION_OFFSET = 2470.0
  SECOND_STANDARD_PARALLEL = "N/A"
  WESTERNMOST_LONGITUDE = 291.41
END_OBJECT = IMAGE_MAP_PROJECTION
/* The JPEG2000 image data file associated with this label. */
OBJECT = COMPRESSED_FILE
  FILE_NAME = "HC656_0000_S13.JP2"
  RECORD_TYPE = UNDEFINED
  FILE_RECORDS = UNK
  ENCODING_TYPE = "JP2"
  INTERCHANGE_FORMAT = BINARY
  UNCOMPRESSED_FILE_NAME = "HC656_0000_S13.IMG"
  REQUIRED_STORAGE_BYTES = "260809080"
  ^DESCRIPTION = "JP2INFO.TXT"
END_OBJECT = COMPRESSED_FILE
END
