PDS_VERSION_ID = PDS3
/* FILE DATA ELEMENTS */
RECORD_TYPE = STREAM
/* POINTERS TO DATA OBJECTS */
^COMPRESSED_FILE = "HC657_0000_GR3.JP2"
/* IDENTIFICATION DATA ELEMENTS */
DATA_SET_ID = "MEX-M-HRSC-5-REFDR-MAPPROJECTED-V3.0"
DATA_SET_NAME = "MARS EXPRESS HRSC MAP PROJECTED REFDR V3.0"
DETECTOR_ID = MEX_HRSC_GREEN
EVENT_TYPE = "MARS-REGIONAL-MAPPING-Im-Lc-Ot"
INSTRUMENT_HOST_ID = MEX
INSTRUMENT_HOST_NAME = "MARS EXPRESS"
INSTRUMENT_ID = HRSC
INSTRUMENT_NAME = "HIGH RESOLUTION STEREO CAMERA"
MISSION_NAME = "MARS EXPRESS"
MISSION_PHASE_NAME = ME_Phase_29
PROCESSING_LEVEL_ID = 3
PRODUCT_CREATION_TIME = 2016-10-28T21:13:36.000Z
PRODUCT_ID = "HC657_0000_GR3.JP2"
RELEASE_ID = 0120
REVISION_ID = 0000
/* QUALITY DATA ELEMENTS */
DATA_QUALITY_ID = 1
DATA_QUALITY_DESC = "Data calculated based on original SPICE kernels"
/* TIME DATA ELEMENTS */
SPACECRAFT_CLOCK_START_COUNT = "1/0335353926.09053"
SPACECRAFT_CLOCK_STOP_COUNT = "1/0335354166.09541"
START_TIME = 2013-12-17T09:52:46.551Z
STOP_TIME = 2013-12-17T09:55:34.932Z
/* ORBITAL DATA ELEMENTS */
ASCENDING_NODE_LONGITUDE = 336.14
MAXIMUM_RESOLUTION = 55.2
FOOTPRINT_POINT_LATITUDE = (-35.5273,-35.5216,-35.5151,-35.4169, -35.2203,-35.0239,-34.7292,-34.533, -34.2388,-33.9448,-33.651,-33.3574, -33.1618,-32.9662,-32.7709,-32.5752, -32.3808,-32.0893,-31.8946,-31.7, -31.5052,-31.3098,-31.1157,-30.9217, -30.6924,-30.346,-30.1149,-29.7681, -29.5376,-29.3075,-29.0775,-28.8477, -28.618,-28.3886,-28.1594,-27.9305, -27.7017,-27.4732,-27.2448,-27.0168, -26.789,-26.5615,-26.3343,-26.1072, -25.8805,-25.6539,-25.4275,-25.2014, -24.9709,-24.8218,-24.8234,-24.8241, -24.8243,-24.9406,-25.1723,-25.3987, -25.6254,-25.8522,-26.0794,-26.3066, -26.534,-26.7616,-27.1044,-27.3329, -27.5611,-27.7897,-28.1337,-28.4782, -28.7081,-28.938,-29.1682,-29.3986, -29.6294,-29.9756,-30.3225,-30.5546, -30.7862,-31.003,-31.1974,-31.4894, -31.684,-31.8789,-32.0739,-32.269, -32.5616,-32.7568,-33.0504,-33.2461, -33.4419,-33.6377,-33.8338,-34.0304, -34.2269,-34.5216,-34.7182,-34.9148, -35.1115,-35.3084,-35.5053,-35.5273)
FOOTPRINT_POINT_LONGITUDE = (190.705,190.198,189.764,189.527,189.53 ,189.533,189.537,189.539,189.543, 189.546,189.549,189.552,189.553,189.555 ,189.557,189.558,189.559,189.56,189.561 ,189.562,189.563,189.564,189.565, 189.565,189.565,189.565,189.565,189.566 ,189.566,189.565,189.565,189.564, 189.563,189.563,189.562,189.561,189.559 ,189.558,189.557,189.555,189.553, 189.551,189.549,189.547,189.545,189.543 ,189.54,189.538,189.535,189.707,190.073 ,190.338,190.798,191.114,191.112,191.11 ,191.108,191.106,191.104,191.102, 191.099,191.096,191.095,191.093,191.09, 191.086,191.084,191.082,191.08,191.078, 191.075,191.073,191.071,191.068,191.065 ,191.065,191.062,191.06,191.058,191.056 ,191.054,191.052,191.05,191.048,191.044 ,191.041,191.039,191.037,191.035, 191.032,191.03,191.029,191.028,191.025, 191.023,191.021,191.018,191.016,191.013 ,190.705)
ORBIT_NUMBER = 12657
ORBITAL_ECCENTRICITY = 0.578
ORBITAL_INCLINATION = 86.9
ORBITAL_SEMIMAJOR_AXIS = 8801.94
PERIAPSIS_ALTITUDE = 331.72
PERIAPSIS_ARGUMENT_ANGLE = 315.08
PERIAPSIS_TIME = 2013-12-17T09:50:19.000Z
SPACECRAFT_ORIENTATION = (0.0,1.0,0.0)
^MEX_ORIENTATION_DESC = "MEX_ORIENTATION_DESC.TXT"
SPACECRAFT_POINTING_MODE = ACROSSTRACK
^MEX_POINTING_DESC = "MEX_POINTING_DESC.TXT"
RIGHT_ASCENSION = -1e+32
DECLINATION = -1e+32
OFFSET_ANGLE = -0.35
SPACECRAFT_SOLAR_DISTANCE = 2.49034e+08
TARGET_NAME = MARS
/* CAMERA DATA ELEMENTS */
DETECTOR_TEMPERATURE = 16.9432
FOCAL_PLANE_TEMPERATURE = 8.1755
INST_CMPRS_NAME = "DISCRETE COSINE TRANSFORMATION (DCT)"
INST_CMPRS_RATIO = 4.44719
INST_CMPRS_QUALITY = 0
INST_CMPRS_QUANTZ_TBL_ID = 0
INSTRUMENT_TEMPERATURE = 11.4379
LENS_TEMPERATURE = 9.195
MACROPIXEL_SIZE = 4
MISSING_FRAMES = 0
PIXEL_SUBSAMPLING_FLAG = N
SIGNAL_CHAIN_ID = 2
/* RADIOMETRIC DATA ELEMENTS */
BANDWIDTH = 88.0
CENTER_FILTER_WAVELENGTH = 538.0
RADIANCE_OFFSET = 0.0772913
RADIANCE_SCALING_FACTOR = 0.00565792
REFLECTANCE_SCALING_FACTOR = 0.000302109
MEX:REFLECTANCE_OFFSET = 0.00412703
/* IMAGE OBJECT DEFINITIONS */
OBJECT = IMAGE
  INTERCHANGE_FORMAT = BINARY
  LINES = 12683
  LINE_SAMPLES = 1779
  SAMPLE_TYPE = UNSIGNED_INTEGER
  SAMPLE_BITS = 8
  BANDS = 1
  BAND_STORAGE_TYPE = BAND_SEQUENTIAL
  MAXIMUM = 255
  MEAN = 114.552
  MINIMUM = 1
  STANDARD_DEVIATION = 27.4443
END_OBJECT = IMAGE
/* MAP OBJECT DEFINITIONS */
OBJECT = IMAGE_MAP_PROJECTION
  ^DATA_SET_MAP_PROJECTION_CATALOG= "DSMAP.CAT"
  A_AXIS_RADIUS = 3396.0
  B_AXIS_RADIUS = 3396.0
  C_AXIS_RADIUS = 3396.0
  CENTER_LATITUDE = 0.0
  CENTER_LONGITUDE = 190.0
  COORDINATE_SYSTEM_NAME = PLANETOGRAPHIC
  COORDINATE_SYSTEM_TYPE = "BODY-FIXED ROTATING"
  EASTERNMOST_LONGITUDE = 191.114
  FIRST_STANDARD_PARALLEL = "N/A"
  LINE_FIRST_PIXEL = 1
  LINE_LAST_PIXEL = 12683
  LINE_PROJECTION_OFFSET = -29430.375
  MAP_PROJECTION_ROTATION = 0.0
  MAP_PROJECTION_TYPE = SINUSOIDAL
  MAP_RESOLUTION = 1185.42760773333
  MAP_SCALE = 0.05
  MAXIMUM_LATITUDE = -24.8218
  MINIMUM_LATITUDE = -35.5273
  POSITIVE_LONGITUDE_DIRECTION = EAST
  REFERENCE_LATITUDE = "N/A"
  REFERENCE_LONGITUDE = "N/A"
  SAMPLE_FIRST_PIXEL = 1
  SAMPLE_LAST_PIXEL = 1779
  SAMPLE_PROJECTION_OFFSET = 523.875
  SECOND_STANDARD_PARALLEL = "N/A"
  WESTERNMOST_LONGITUDE = 189.527
END_OBJECT = IMAGE_MAP_PROJECTION
/* The JPEG2000 image data file associated with this label. */
OBJECT = COMPRESSED_FILE
  FILE_NAME = "HC657_0000_GR3.JP2"
  RECORD_TYPE = UNDEFINED
  FILE_RECORDS = UNK
  ENCODING_TYPE = "JP2"
  INTERCHANGE_FORMAT = BINARY
  UNCOMPRESSED_FILE_NAME = "HC657_0000_GR3.IMG"
  REQUIRED_STORAGE_BYTES = "22582626"
  ^DESCRIPTION = "JP2INFO.TXT"
END_OBJECT = COMPRESSED_FILE
END
