PDS_VERSION_ID = PDS3
/* FILE DATA ELEMENTS */
RECORD_TYPE = STREAM
/* POINTERS TO DATA OBJECTS */
^COMPRESSED_FILE = "HC663_0000_RE3.JP2"
/* IDENTIFICATION DATA ELEMENTS */
DATA_SET_ID = "MEX-M-HRSC-5-REFDR-MAPPROJECTED-V3.0"
DATA_SET_NAME = "MARS EXPRESS HRSC MAP PROJECTED REFDR V3.0"
DETECTOR_ID = MEX_HRSC_RED
EVENT_TYPE = "MARS-REGIONAL-MAPPING-Te-Fl"
INSTRUMENT_HOST_ID = MEX
INSTRUMENT_HOST_NAME = "MARS EXPRESS"
INSTRUMENT_ID = HRSC
INSTRUMENT_NAME = "HIGH RESOLUTION STEREO CAMERA"
MISSION_NAME = "MARS EXPRESS"
MISSION_PHASE_NAME = ME_Phase_29
PROCESSING_LEVEL_ID = 3
PRODUCT_CREATION_TIME = 2016-10-28T21:13:36.000Z
PRODUCT_ID = "HC663_0000_RE3.JP2"
RELEASE_ID = 0120
REVISION_ID = 0000
/* QUALITY DATA ELEMENTS */
DATA_QUALITY_ID = 1
DATA_QUALITY_DESC = "Data calculated based on original SPICE kernels"
/* TIME DATA ELEMENTS */
SPACECRAFT_CLOCK_START_COUNT = "1/0335504946.09046"
SPACECRAFT_CLOCK_STOP_COUNT = "1/0335505180.38291"
START_TIME = 2013-12-19T03:49:16.145Z
STOP_TIME = 2013-12-19T03:51:45.005Z
/* ORBITAL DATA ELEMENTS */
ASCENDING_NODE_LONGITUDE = 336.03
MAXIMUM_RESOLUTION = 118.8
FOOTPRINT_POINT_LATITUDE = (-32.0598,-32.0525,-32.0446,-32.0361, -32.0269,-32.0171,-32.0067,-31.6484, -31.3977,-31.1447,-30.8076,-30.3952, -30.0666,-29.8921,-29.6913,-29.491, -29.2912,-29.0916,-28.8914,-28.6917, -28.492,-28.1924,-27.9919,-27.7921, -27.5944,-27.3955,-27.1967,-26.9973, -26.7976,-26.5989,-26.4007,-26.2021, -26.0035,-25.805,-25.5071,-25.3084, -25.1104,-24.8133,-24.6151,-24.4177, -24.2197,-23.9231,-23.7221,-23.5191, -23.3165,-23.1134,-22.9108,-22.7084, -22.502,-22.2949,-22.2401,-22.2497, -22.2564,-22.2634,-22.2689,-22.276, -22.4838,-22.7935,-22.9963,-23.1994, -23.4024,-23.7067,-23.9097,-24.1082, -24.3062,-24.5044,-24.7028,-25.0001, -25.1985,-25.4967,-25.6955,-25.8941, -26.0926,-26.2916,-26.4908,-26.791, -27.0889,-27.2881,-27.488,-27.6878, -27.887,-28.0864,-28.2859,-28.4849, -28.6842,-28.8819,-29.1805,-29.3798, -29.6761,-29.8794,-30.065,-30.3165, -30.4844,-30.6519,-30.8196,-30.9872, -31.3222,-31.4899,-31.7413,-32.0598)
FOOTPRINT_POINT_LONGITUDE = (296.729,296.514,296.298,296.08,295.861 ,295.641,295.419,295.268,295.273, 295.276,295.279,295.289,295.298,295.301 ,295.303,295.304,295.306,295.308, 295.309,295.311,295.312,295.314,295.314 ,295.315,295.317,295.318,295.32,295.32, 295.32,295.321,295.322,295.322,295.322, 295.323,295.323,295.322,295.322,295.322 ,295.321,295.321,295.321,295.32,295.319 ,295.318,295.317,295.316,295.315, 295.313,295.312,295.311,295.625,295.91, 296.164,296.431,296.666,296.896,296.894 ,296.889,296.887,296.884,296.881, 296.877,296.874,296.871,296.869,296.866 ,296.863,296.858,296.855,296.851, 296.848,296.845,296.842,296.838,296.835 ,296.83,296.825,296.822,296.818,296.815 ,296.811,296.808,296.804,296.801, 296.797,296.794,296.788,296.784,296.779 ,296.775,296.771,296.766,296.763, 296.759,296.756,296.752,296.745,296.742 ,296.736,296.729)
ORBIT_NUMBER = 12663
ORBITAL_ECCENTRICITY = 0.578
ORBITAL_INCLINATION = 86.88
ORBITAL_SEMIMAJOR_AXIS = 8802.46
PERIAPSIS_ALTITUDE = 331.6
PERIAPSIS_ARGUMENT_ANGLE = 314.08
PERIAPSIS_TIME = 2013-12-19T03:46:11.000Z
SPACECRAFT_ORIENTATION = (0.0,1.0,0.0)
^MEX_ORIENTATION_DESC = "MEX_ORIENTATION_DESC.TXT"
SPACECRAFT_POINTING_MODE = ACROSSTRACK
^MEX_POINTING_DESC = "MEX_POINTING_DESC.TXT"
RIGHT_ASCENSION = -1e+32
DECLINATION = -1e+32
OFFSET_ANGLE = 0.539
SPACECRAFT_SOLAR_DISTANCE = 2.49075e+08
TARGET_NAME = MARS
/* CAMERA DATA ELEMENTS */
DETECTOR_TEMPERATURE = 19.1861
FOCAL_PLANE_TEMPERATURE = 9.6028
INST_CMPRS_NAME = "DISCRETE COSINE TRANSFORMATION (DCT)"
INST_CMPRS_RATIO = 16.2366
INST_CMPRS_QUALITY = 0
INST_CMPRS_QUANTZ_TBL_ID = 0
INSTRUMENT_TEMPERATURE = 12.2535
LENS_TEMPERATURE = 10.6223
MACROPIXEL_SIZE = 8
MISSING_FRAMES = 0
PIXEL_SUBSAMPLING_FLAG = N
SIGNAL_CHAIN_ID = 2
/* RADIOMETRIC DATA ELEMENTS */
BANDWIDTH = 48.0
CENTER_FILTER_WAVELENGTH = 748.0
RADIANCE_OFFSET = 0.0576315
RADIANCE_SCALING_FACTOR = 0.00361609
REFLECTANCE_SCALING_FACTOR = 0.00051195
MEX:REFLECTANCE_OFFSET = 0.0081592
/* IMAGE OBJECT DEFINITIONS */
OBJECT = IMAGE
  INTERCHANGE_FORMAT = BINARY
  LINES = 5797
  LINE_SAMPLES = 961
  SAMPLE_TYPE = UNSIGNED_INTEGER
  SAMPLE_BITS = 8
  BANDS = 1
  BAND_STORAGE_TYPE = BAND_SEQUENTIAL
  MAXIMUM = 255
  MEAN = 104.854
  MINIMUM = 1
  STANDARD_DEVIATION = 20.2144
END_OBJECT = IMAGE
/* MAP OBJECT DEFINITIONS */
OBJECT = IMAGE_MAP_PROJECTION
  ^DATA_SET_MAP_PROJECTION_CATALOG= "DSMAP.CAT"
  A_AXIS_RADIUS = 3396.0
  B_AXIS_RADIUS = 3396.0
  C_AXIS_RADIUS = 3396.0
  CENTER_LATITUDE = 0.0
  CENTER_LONGITUDE = 296.0
  COORDINATE_SYSTEM_NAME = PLANETOGRAPHIC
  COORDINATE_SYSTEM_TYPE = "BODY-FIXED ROTATING"
  EASTERNMOST_LONGITUDE = 296.896
  FIRST_STANDARD_PARALLEL = "N/A"
  LINE_FIRST_PIXEL = 1
  LINE_LAST_PIXEL = 5797
  LINE_PROJECTION_OFFSET = -13172.0625
  MAP_PROJECTION_ROTATION = 0.0
  MAP_PROJECTION_TYPE = SINUSOIDAL
  MAP_RESOLUTION = 592.713803866667
  MAP_SCALE = 0.1
  MAXIMUM_LATITUDE = -22.2401
  MINIMUM_LATITUDE = -32.0598
  POSITIVE_LONGITUDE_DIRECTION = EAST
  REFERENCE_LATITUDE = "N/A"
  REFERENCE_LONGITUDE = "N/A"
  SAMPLE_FIRST_PIXEL = 1
  SAMPLE_LAST_PIXEL = 961
  SAMPLE_PROJECTION_OFFSET = 444.4375
  SECOND_STANDARD_PARALLEL = "N/A"
  WESTERNMOST_LONGITUDE = 295.268
END_OBJECT = IMAGE_MAP_PROJECTION
/* The JPEG2000 image data file associated with this label. */
OBJECT = COMPRESSED_FILE
  FILE_NAME = "HC663_0000_RE3.JP2"
  RECORD_TYPE = UNDEFINED
  FILE_RECORDS = UNK
  ENCODING_TYPE = "JP2"
  INTERCHANGE_FORMAT = BINARY
  UNCOMPRESSED_FILE_NAME = "HC663_0000_RE3.IMG"
  REQUIRED_STORAGE_BYTES = "5589176"
  ^DESCRIPTION = "JP2INFO.TXT"
END_OBJECT = COMPRESSED_FILE
END
