PDS_VERSION_ID = PDS3
/* FILE DATA ELEMENTS */
RECORD_TYPE = STREAM
/* POINTERS TO DATA OBJECTS */
^COMPRESSED_FILE = "HC667_0000_P23.JP2"
/* IDENTIFICATION DATA ELEMENTS */
DATA_SET_ID = "MEX-M-HRSC-5-REFDR-MAPPROJECTED-V3.0"
DATA_SET_NAME = "MARS EXPRESS HRSC MAP PROJECTED REFDR V3.0"
DETECTOR_ID = MEX_HRSC_P2
EVENT_TYPE = "MARS-REGIONAL-STEREO-Vo-Te"
INSTRUMENT_HOST_ID = MEX
INSTRUMENT_HOST_NAME = "MARS EXPRESS"
INSTRUMENT_ID = HRSC
INSTRUMENT_NAME = "HIGH RESOLUTION STEREO CAMERA"
MISSION_NAME = "MARS EXPRESS"
MISSION_PHASE_NAME = ME_Phase_29
PROCESSING_LEVEL_ID = 3
PRODUCT_CREATION_TIME = 2016-10-28T21:13:36.000Z
PRODUCT_ID = "HC667_0000_P23.JP2"
RELEASE_ID = 0120
REVISION_ID = 0000
/* QUALITY DATA ELEMENTS */
DATA_QUALITY_ID = 1
DATA_QUALITY_DESC = "Data calculated based on original SPICE kernels"
/* TIME DATA ELEMENTS */
SPACECRAFT_CLOCK_START_COUNT = "1/0335605606.09071"
SPACECRAFT_CLOCK_STOP_COUNT = "1/0335605805.26318"
START_TIME = 2013-12-20T07:47:02.023Z
STOP_TIME = 2013-12-20T07:48:57.002Z
/* ORBITAL DATA ELEMENTS */
ASCENDING_NODE_LONGITUDE = 335.95
MAXIMUM_RESOLUTION = 30.1
FOOTPRINT_POINT_LATITUDE = (-30.5963,-30.5958,-30.5938,-30.5918, -30.5897,-30.5866,-30.5078,-30.359, -30.2101,-30.0615,-29.8385,-29.6154, -29.4668,-29.3182,-29.1698,-29.0212, -28.8728,-28.7244,-28.502,-28.3536, -28.2054,-28.0572,-27.9092,-27.7609, -27.6129,-27.4649,-27.3169,-27.1689, -27.021,-26.8732,-26.7254,-26.5775, -26.4299,-26.2823,-26.1348,-25.9872, -25.5454,-25.2507,-24.9563,-24.5828, -24.4319,-24.2058,-24.0549,-23.9043, -23.7536,-23.6031,-23.4488,-23.2173, -23.1129,-23.1139,-23.1145,-23.1144, -23.1139,-23.1127,-23.2671,-23.4218, -23.5769,-23.7296,-23.9573,-24.1094, -24.2607,-24.4084,-24.5583,-24.7096, -24.8595,-25.0069,-25.1543,-25.3756, -25.5232,-25.6708,-25.8184,-25.9662, -26.1138,-26.2616,-26.4834,-26.6313, -26.7793,-26.9273,-27.1495,-27.2976, -27.4459,-27.5941,-27.7425,-27.9651, -28.1134,-28.3362,-28.4847,-28.633, -28.7816,-28.9302,-29.079,-29.2277, -29.3765,-29.5994,-29.7486,-29.8974, -30.0466,-30.1966,-30.3464,-30.5963)
FOOTPRINT_POINT_LONGITUDE = (248.555,248.34,247.98,247.75,247.563, 247.333,247.127,247.128,247.129,247.13, 247.131,247.132,247.132,247.133,247.133 ,247.133,247.134,247.134,247.134, 247.134,247.134,247.134,247.134,247.134 ,247.134,247.134,247.134,247.133, 247.133,247.132,247.132,247.131,247.131 ,247.13,247.129,247.129,247.126,247.124 ,247.122,247.119,247.118,247.116, 247.114,247.113,247.111,247.11,247.108, 247.105,247.351,247.582,247.813,248.106 ,248.368,248.584,248.696,248.695, 248.693,248.691,248.688,248.686,248.684 ,248.685,248.684,248.682,248.681, 248.679,248.678,248.675,248.674,248.672 ,248.671,248.669,248.668,248.666, 248.664,248.662,248.66,248.659,248.656, 248.654,248.653,248.651,248.649,248.647 ,248.645,248.642,248.64,248.639,248.637 ,248.635,248.633,248.631,248.629, 248.627,248.625,248.623,248.621,248.618 ,248.616,248.555)
ORBIT_NUMBER = 12667
ORBITAL_ECCENTRICITY = 0.578
ORBITAL_INCLINATION = 86.89
ORBITAL_SEMIMAJOR_AXIS = 8803.33
PERIAPSIS_ALTITUDE = 330.76
PERIAPSIS_ARGUMENT_ANGLE = 313.36
PERIAPSIS_TIME = 2013-12-20T07:43:19.000Z
SPACECRAFT_ORIENTATION = (0.0,1.0,0.0)
^MEX_ORIENTATION_DESC = "MEX_ORIENTATION_DESC.TXT"
SPACECRAFT_POINTING_MODE = NADIR
^MEX_POINTING_DESC = "MEX_POINTING_DESC.TXT"
RIGHT_ASCENSION = -1e+32
DECLINATION = -1e+32
OFFSET_ANGLE = -1e+32
SPACECRAFT_SOLAR_DISTANCE = 2.491e+08
TARGET_NAME = MARS
/* CAMERA DATA ELEMENTS */
DETECTOR_TEMPERATURE = 18.5744
FOCAL_PLANE_TEMPERATURE = 8.5833
INST_CMPRS_NAME = "DISCRETE COSINE TRANSFORMATION (DCT)"
INST_CMPRS_RATIO = 7.12155
INST_CMPRS_QUALITY = 0
INST_CMPRS_QUANTZ_TBL_ID = 0
INSTRUMENT_TEMPERATURE = 11.8457
LENS_TEMPERATURE = 8.9911
MACROPIXEL_SIZE = 2
MISSING_FRAMES = 0
PIXEL_SUBSAMPLING_FLAG = N
SIGNAL_CHAIN_ID = 3
/* RADIOMETRIC DATA ELEMENTS */
BANDWIDTH = 177.0
CENTER_FILTER_WAVELENGTH = 676.5
RADIANCE_OFFSET = 0.895728
RADIANCE_SCALING_FACTOR = 0.018765
REFLECTANCE_SCALING_FACTOR = 0.000617379
MEX:REFLECTANCE_OFFSET = 0.02947
/* IMAGE OBJECT DEFINITIONS */
OBJECT = IMAGE
  INTERCHANGE_FORMAT = BINARY
  LINES = 17756
  LINE_SAMPLES = 3780
  SAMPLE_TYPE = UNSIGNED_INTEGER
  SAMPLE_BITS = 8
  BANDS = 1
  BAND_STORAGE_TYPE = BAND_SEQUENTIAL
  MAXIMUM = 255
  MEAN = 100.638
  MINIMUM = 1
  STANDARD_DEVIATION = 21.0916
END_OBJECT = IMAGE
/* MAP OBJECT DEFINITIONS */
OBJECT = IMAGE_MAP_PROJECTION
  ^DATA_SET_MAP_PROJECTION_CATALOG= "DSMAP.CAT"
  A_AXIS_RADIUS = 3396.0
  B_AXIS_RADIUS = 3396.0
  C_AXIS_RADIUS = 3396.0
  CENTER_LATITUDE = 0.0
  CENTER_LONGITUDE = 248.0
  COORDINATE_SYSTEM_NAME = PLANETOGRAPHIC
  COORDINATE_SYSTEM_TYPE = "BODY-FIXED ROTATING"
  EASTERNMOST_LONGITUDE = 248.696
  FIRST_STANDARD_PARALLEL = "N/A"
  LINE_FIRST_PIXEL = 1
  LINE_LAST_PIXEL = 17756
  LINE_PROJECTION_OFFSET = -54726.75
  MAP_PROJECTION_ROTATION = 0.0
  MAP_PROJECTION_TYPE = SINUSOIDAL
  MAP_RESOLUTION = 2370.85521546667
  MAP_SCALE = 0.025
  MAXIMUM_LATITUDE = -23.1127
  MINIMUM_LATITUDE = -30.5963
  POSITIVE_LONGITUDE_DIRECTION = EAST
  REFERENCE_LATITUDE = "N/A"
  REFERENCE_LONGITUDE = "N/A"
  SAMPLE_FIRST_PIXEL = 1
  SAMPLE_LAST_PIXEL = 3780
  SAMPLE_PROJECTION_OFFSET = 2106.75
  SECOND_STANDARD_PARALLEL = "N/A"
  WESTERNMOST_LONGITUDE = 247.105
END_OBJECT = IMAGE_MAP_PROJECTION
/* The JPEG2000 image data file associated with this label. */
OBJECT = COMPRESSED_FILE
  FILE_NAME = "HC667_0000_P23.JP2"
  RECORD_TYPE = UNDEFINED
  FILE_RECORDS = UNK
  ENCODING_TYPE = "JP2"
  INTERCHANGE_FORMAT = BINARY
  UNCOMPRESSED_FILE_NAME = "HC667_0000_P23.IMG"
  REQUIRED_STORAGE_BYTES = "67140360"
  ^DESCRIPTION = "JP2INFO.TXT"
END_OBJECT = COMPRESSED_FILE
END
