PDS_VERSION_ID = PDS3
/* FILE DATA ELEMENTS */
RECORD_TYPE = STREAM
/* POINTERS TO DATA OBJECTS */
^COMPRESSED_FILE = "HC667_0000_S13.JP2"
/* IDENTIFICATION DATA ELEMENTS */
DATA_SET_ID = "MEX-M-HRSC-5-REFDR-MAPPROJECTED-V3.0"
DATA_SET_NAME = "MARS EXPRESS HRSC MAP PROJECTED REFDR V3.0"
DETECTOR_ID = MEX_HRSC_S1
EVENT_TYPE = "MARS-REGIONAL-STEREO-Vo-Te"
INSTRUMENT_HOST_ID = MEX
INSTRUMENT_HOST_NAME = "MARS EXPRESS"
INSTRUMENT_ID = HRSC
INSTRUMENT_NAME = "HIGH RESOLUTION STEREO CAMERA"
MISSION_NAME = "MARS EXPRESS"
MISSION_PHASE_NAME = ME_Phase_29
PROCESSING_LEVEL_ID = 3
PRODUCT_CREATION_TIME = 2016-10-28T21:13:36.000Z
PRODUCT_ID = "HC667_0000_S13.JP2"
RELEASE_ID = 0120
REVISION_ID = 0000
/* QUALITY DATA ELEMENTS */
DATA_QUALITY_ID = 1
DATA_QUALITY_DESC = "Data calculated based on original SPICE kernels"
/* TIME DATA ELEMENTS */
SPACECRAFT_CLOCK_START_COUNT = "1/0335605606.09071"
SPACECRAFT_CLOCK_STOP_COUNT = "1/0335605805.26318"
START_TIME = 2013-12-20T07:48:00.659Z
STOP_TIME = 2013-12-20T07:50:08.004Z
/* ORBITAL DATA ELEMENTS */
ASCENDING_NODE_LONGITUDE = 335.95
MAXIMUM_RESOLUTION = 16.6
FOOTPRINT_POINT_LATITUDE = (-30.5305,-30.5296,-30.5281,-30.5267, -30.5247,-30.5238,-30.3797,-30.2356, -30.0917,-29.8763,-29.7328,-29.5894, -29.3033,-29.0177,-28.7326,-28.5141, -28.3682,-28.2223,-28.077,-27.9314, -27.7861,-27.641,-27.4935,-27.345, -27.1966,-27.0485,-26.9007,-26.7528, -26.6052,-26.3794,-26.2286,-26.0778, -25.9268,-25.7761,-25.626,-25.3963, -25.2429,-25.0897,-24.9368,-24.7842, -24.6307,-24.4746,-24.3186,-24.1628, -24.0074,-23.8524,-23.6951,-23.5366, -23.3783,-23.2202,-23.0418,-23.0416, -23.0405,-23.0397,-23.0383,-23.0371, -23.1149,-23.273,-23.4314,-23.5893, -23.8256,-23.9802,-24.134,-24.3719, -24.5293,-24.6851,-24.838,-24.9912, -25.1446,-25.2982,-25.4519,-25.6054, -25.7558,-25.9067,-26.1331,-26.2841, -26.4354,-26.5865,-26.7345,-26.8824, -27.0308,-27.1793,-27.328,-27.4767, -27.6249,-27.7704,-27.916,-28.1344, -28.2802,-28.4263,-28.5724,-28.719, -28.9332,-29.219,-29.5772,-29.793, -30.0798,-30.2939,-30.44,-30.5305)
FOOTPRINT_POINT_LONGITUDE = (248.341,248.105,247.807,247.555, 247.257,247.076,247.076,247.077,247.077 ,247.077,247.077,247.077,247.077, 247.077,247.076,247.075,247.075,247.074 ,247.074,247.073,247.072,247.072, 247.071,247.07,247.069,247.068,247.067, 247.066,247.064,247.062,247.061,247.06, 247.058,247.057,247.055,247.053,247.051 ,247.049,247.047,247.045,247.043, 247.041,247.039,247.037,247.035,247.032 ,247.03,247.027,247.025,247.022,247.106 ,247.316,247.63,247.908,248.258,248.519 ,248.788,248.786,248.784,248.781, 248.777,248.774,248.771,248.769,248.767 ,248.765,248.763,248.76,248.758,248.756 ,248.753,248.751,248.749,248.746, 248.743,248.74,248.738,248.736,248.734, 248.731,248.729,248.727,248.724,248.722 ,248.719,248.717,248.715,248.711, 248.709,248.707,248.704,248.702,248.698 ,248.693,248.687,248.684,248.679, 248.674,248.672,248.341)
ORBIT_NUMBER = 12667
ORBITAL_ECCENTRICITY = 0.578
ORBITAL_INCLINATION = 86.89
ORBITAL_SEMIMAJOR_AXIS = 8803.33
PERIAPSIS_ALTITUDE = 330.76
PERIAPSIS_ARGUMENT_ANGLE = 313.36
PERIAPSIS_TIME = 2013-12-20T07:43:19.000Z
SPACECRAFT_ORIENTATION = (0.0,1.0,0.0)
^MEX_ORIENTATION_DESC = "MEX_ORIENTATION_DESC.TXT"
SPACECRAFT_POINTING_MODE = NADIR
^MEX_POINTING_DESC = "MEX_POINTING_DESC.TXT"
RIGHT_ASCENSION = -1e+32
DECLINATION = -1e+32
OFFSET_ANGLE = -1e+32
SPACECRAFT_SOLAR_DISTANCE = 2.491e+08
TARGET_NAME = MARS
/* CAMERA DATA ELEMENTS */
DETECTOR_TEMPERATURE = 17.7588
FOCAL_PLANE_TEMPERATURE = 8.5833
INST_CMPRS_NAME = "DISCRETE COSINE TRANSFORMATION (DCT)"
INST_CMPRS_RATIO = 8.0091
INST_CMPRS_QUALITY = 0
INST_CMPRS_QUANTZ_TBL_ID = 0
INSTRUMENT_TEMPERATURE = 11.8457
LENS_TEMPERATURE = 8.9911
MACROPIXEL_SIZE = 1
MISSING_FRAMES = 0
PIXEL_SUBSAMPLING_FLAG = N
SIGNAL_CHAIN_ID = 2
/* RADIOMETRIC DATA ELEMENTS */
BANDWIDTH = 180.0
CENTER_FILTER_WAVELENGTH = 677.0
RADIANCE_OFFSET = 0.887624
RADIANCE_SCALING_FACTOR = 0.0198615
REFLECTANCE_SCALING_FACTOR = 0.000642986
MEX:REFLECTANCE_OFFSET = 0.0287355
/* IMAGE OBJECT DEFINITIONS */
OBJECT = IMAGE
  INTERCHANGE_FORMAT = BINARY
  LINES = 35511
  LINE_SAMPLES = 7559
  SAMPLE_TYPE = UNSIGNED_INTEGER
  SAMPLE_BITS = 8
  BANDS = 1
  BAND_STORAGE_TYPE = BAND_SEQUENTIAL
  MAXIMUM = 255
  MEAN = 113.343
  MINIMUM = 1
  STANDARD_DEVIATION = 23.1591
END_OBJECT = IMAGE
/* MAP OBJECT DEFINITIONS */
OBJECT = IMAGE_MAP_PROJECTION
  ^DATA_SET_MAP_PROJECTION_CATALOG= "DSMAP.CAT"
  A_AXIS_RADIUS = 3396.0
  B_AXIS_RADIUS = 3396.0
  C_AXIS_RADIUS = 3396.0
  CENTER_LATITUDE = 0.0
  CENTER_LONGITUDE = 248.0
  COORDINATE_SYSTEM_NAME = PLANETOGRAPHIC
  COORDINATE_SYSTEM_TYPE = "BODY-FIXED ROTATING"
  EASTERNMOST_LONGITUDE = 248.788
  FIRST_STANDARD_PARALLEL = "N/A"
  LINE_FIRST_PIXEL = 1
  LINE_LAST_PIXEL = 35511
  LINE_PROJECTION_OFFSET = -109453.0
  MAP_PROJECTION_ROTATION = 0.0
  MAP_PROJECTION_TYPE = SINUSOIDAL
  MAP_RESOLUTION = 4741.71043093333
  MAP_SCALE = 0.0125
  MAXIMUM_LATITUDE = -23.0371
  MINIMUM_LATITUDE = -30.5305
  POSITIVE_LONGITUDE_DIRECTION = EAST
  REFERENCE_LATITUDE = "N/A"
  REFERENCE_LONGITUDE = "N/A"
  SAMPLE_FIRST_PIXEL = 1
  SAMPLE_LAST_PIXEL = 7559
  SAMPLE_PROJECTION_OFFSET = 4214.0
  SECOND_STANDARD_PARALLEL = "N/A"
  WESTERNMOST_LONGITUDE = 247.022
END_OBJECT = IMAGE_MAP_PROJECTION
/* The JPEG2000 image data file associated with this label. */
OBJECT = COMPRESSED_FILE
  FILE_NAME = "HC667_0000_S13.JP2"
  RECORD_TYPE = UNDEFINED
  FILE_RECORDS = UNK
  ENCODING_TYPE = "JP2"
  INTERCHANGE_FORMAT = BINARY
  UNCOMPRESSED_FILE_NAME = "HC667_0000_S13.IMG"
  REQUIRED_STORAGE_BYTES = "268457885"
  ^DESCRIPTION = "JP2INFO.TXT"
END_OBJECT = COMPRESSED_FILE
END
