PDS_VERSION_ID = PDS3
/* FILE DATA ELEMENTS */
RECORD_TYPE = STREAM
/* POINTERS TO DATA OBJECTS */
^COMPRESSED_FILE = "HC672_0000_GR3.JP2"
/* IDENTIFICATION DATA ELEMENTS */
DATA_SET_ID = "MEX-M-HRSC-5-REFDR-MAPPROJECTED-V3.0"
DATA_SET_NAME = "MARS EXPRESS HRSC MAP PROJECTED REFDR V3.0"
DETECTOR_ID = MEX_HRSC_GREEN
EVENT_TYPE = "MARS-REGIONAL-STEREO-Im-Ot"
INSTRUMENT_HOST_ID = MEX
INSTRUMENT_HOST_NAME = "MARS EXPRESS"
INSTRUMENT_ID = HRSC
INSTRUMENT_NAME = "HIGH RESOLUTION STEREO CAMERA"
MISSION_NAME = "MARS EXPRESS"
MISSION_PHASE_NAME = ME_Phase_29
PROCESSING_LEVEL_ID = 3
PRODUCT_CREATION_TIME = 2016-10-28T21:13:36.000Z
PRODUCT_ID = "HC672_0000_GR3.JP2"
RELEASE_ID = 0120
REVISION_ID = 0000
/* QUALITY DATA ELEMENTS */
DATA_QUALITY_ID = 1
DATA_QUALITY_DESC = "Data calculated based on original SPICE kernels"
/* TIME DATA ELEMENTS */
SPACECRAFT_CLOCK_START_COUNT = "1/0335731485.07322"
SPACECRAFT_CLOCK_STOP_COUNT = "1/0335731644.15755"
START_TIME = 2013-12-21T18:45:34.295Z
STOP_TIME = 2013-12-21T18:46:45.927Z
/* ORBITAL DATA ELEMENTS */
ASCENDING_NODE_LONGITUDE = 335.85
MAXIMUM_RESOLUTION = 68
FOOTPRINT_POINT_LATITUDE = (-25.5856,-25.5859,-25.586,-25.5861, -25.586,-25.5858,-25.5855,-25.5851, -25.5847,-25.5841,-25.5835,-25.5828, -25.4598,-25.2967,-25.1708,-25.0031, -24.8355,-24.6681,-24.4172,-24.2918, -24.1639,-24.0784,-23.9929,-23.9075, -23.779,-23.6935,-23.5226,-23.3097, -23.1792,-23.0921,-23.005,-22.918, -22.8311,-22.7442,-22.6573,-22.5706, -22.4839,-22.3975,-22.2645,-22.1759, -22.0873,-21.9987,-21.9102,-21.8218, -21.6892,-21.6009,-21.5127,-21.4228, -21.3325,-21.2424,-21.2268,-21.2268, -21.2267,-21.2267,-21.2265,-21.2263, -21.2264,-21.2259,-21.2249,-21.224, -21.2226,-21.2679,-21.3583,-21.4488, -21.5836,-21.6722,-21.7608,-21.8937, -21.9818,-22.0706,-22.1594,-22.2925, -22.3812,-22.4681,-22.555,-22.642, -22.729,-22.816,-22.903,-22.9902, -23.0773,-23.1645,-23.2518,-23.3382, -23.5089,-23.5943,-23.7224,-23.8078, -23.9787,-24.1069,-24.1925,-24.3616, -24.5706,-24.696,-24.8218,-25.0312, -25.199,-25.3249,-25.4901,-25.5856)
FOOTPRINT_POINT_LONGITUDE = (97.8674,97.7444,97.6217,97.4072, 97.2694,97.1474,97.0255,96.9038,96.7823 ,96.6608,96.5393,96.418,96.3653,96.3623 ,96.3607,96.3585,96.3563,96.3539, 96.3504,96.3486,96.3467,96.3454,96.3441 ,96.3428,96.3414,96.3403,96.338,96.3345 ,96.3322,96.3307,96.3294,96.3278, 96.3262,96.3246,96.3231,96.3214,96.3197 ,96.3177,96.3156,96.3138,96.312,96.3103 ,96.3085,96.3067,96.304,96.3022,96.3003 ,96.2984,96.2965,96.2946,96.4066, 96.5695,96.7161,96.8301,96.9769,97.0913 ,97.2883,97.4198,97.6006,97.7486, 97.9296,98.0501,98.0493,98.0488,98.0511 ,98.0506,98.0499,98.0486,98.0462, 98.0457,98.045,98.0434,98.0423,98.0415, 98.0407,98.0401,98.0393,98.0382,98.0374 ,98.0366,98.0357,98.0348,98.0339, 98.0331,98.0317,98.0311,98.0299,98.0288 ,98.0266,98.0249,98.0237,98.0214, 98.0185,98.0165,98.0152,98.012,98.0095, 98.0095,98.0112,97.8674)
ORBIT_NUMBER = 12672
ORBITAL_ECCENTRICITY = 0.578
ORBITAL_INCLINATION = 86.89
ORBITAL_SEMIMAJOR_AXIS = 8802.69
PERIAPSIS_ALTITUDE = 330.54
PERIAPSIS_ARGUMENT_ANGLE = 312.52
PERIAPSIS_TIME = 2013-12-21T18:39:50.000Z
SPACECRAFT_ORIENTATION = (0.0,1.0,0.0)
^MEX_ORIENTATION_DESC = "MEX_ORIENTATION_DESC.TXT"
SPACECRAFT_POINTING_MODE = ACROSSTRACK
^MEX_POINTING_DESC = "MEX_POINTING_DESC.TXT"
RIGHT_ASCENSION = -1e+32
DECLINATION = -1e+32
OFFSET_ANGLE = -0.269
SPACECRAFT_SOLAR_DISTANCE = 2.49128e+08
TARGET_NAME = MARS
/* CAMERA DATA ELEMENTS */
DETECTOR_TEMPERATURE = 18.3705
FOCAL_PLANE_TEMPERATURE = 8.9911
INST_CMPRS_NAME = "DISCRETE COSINE TRANSFORMATION (DCT)"
INST_CMPRS_RATIO = 6.51443
INST_CMPRS_QUALITY = 0
INST_CMPRS_QUANTZ_TBL_ID = 0
INSTRUMENT_TEMPERATURE = 11.4379
LENS_TEMPERATURE = 9.195
MACROPIXEL_SIZE = 4
MISSING_FRAMES = 0
PIXEL_SUBSAMPLING_FLAG = N
SIGNAL_CHAIN_ID = 2
/* RADIOMETRIC DATA ELEMENTS */
BANDWIDTH = 88.0
CENTER_FILTER_WAVELENGTH = 538.0
RADIANCE_OFFSET = 0.205696
RADIANCE_SCALING_FACTOR = 0.00459791
REFLECTANCE_SCALING_FACTOR = 0.000245695
MEX:REFLECTANCE_OFFSET = 0.0109916
/* IMAGE OBJECT DEFINITIONS */
OBJECT = IMAGE
  INTERCHANGE_FORMAT = BINARY
  LINES = 5196
  LINE_SAMPLES = 2010
  SAMPLE_TYPE = UNSIGNED_INTEGER
  SAMPLE_BITS = 8
  BANDS = 1
  BAND_STORAGE_TYPE = BAND_SEQUENTIAL
  MAXIMUM = 255
  MEAN = 130.571
  MINIMUM = 1
  STANDARD_DEVIATION = 23.5918
END_OBJECT = IMAGE
/* MAP OBJECT DEFINITIONS */
OBJECT = IMAGE_MAP_PROJECTION
  ^DATA_SET_MAP_PROJECTION_CATALOG= "DSMAP.CAT"
  A_AXIS_RADIUS = 3396.0
  B_AXIS_RADIUS = 3396.0
  C_AXIS_RADIUS = 3396.0
  CENTER_LATITUDE = 0.0
  CENTER_LONGITUDE = 97.0
  COORDINATE_SYSTEM_NAME = PLANETOGRAPHIC
  COORDINATE_SYSTEM_TYPE = "BODY-FIXED ROTATING"
  EASTERNMOST_LONGITUDE = 98.05110000000001
  FIRST_STANDARD_PARALLEL = "N/A"
  LINE_FIRST_PIXEL = 1
  LINE_LAST_PIXEL = 5196
  LINE_PROJECTION_OFFSET = -25150.375
  MAP_PROJECTION_ROTATION = 0.0
  MAP_PROJECTION_TYPE = SINUSOIDAL
  MAP_RESOLUTION = 1185.42760773333
  MAP_SCALE = 0.05
  MAXIMUM_LATITUDE = -21.2226
  MINIMUM_LATITUDE = -25.5861
  POSITIVE_LONGITUDE_DIRECTION = EAST
  REFERENCE_LATITUDE = "N/A"
  REFERENCE_LONGITUDE = "N/A"
  SAMPLE_FIRST_PIXEL = 1
  SAMPLE_LAST_PIXEL = 2010
  SAMPLE_PROJECTION_OFFSET = 803.125
  SECOND_STANDARD_PARALLEL = "N/A"
  WESTERNMOST_LONGITUDE = 96.2946
END_OBJECT = IMAGE_MAP_PROJECTION
/* The JPEG2000 image data file associated with this label. */
OBJECT = COMPRESSED_FILE
  FILE_NAME = "HC672_0000_GR3.JP2"
  RECORD_TYPE = UNDEFINED
  FILE_RECORDS = UNK
  ENCODING_TYPE = "JP2"
  INTERCHANGE_FORMAT = BINARY
  UNCOMPRESSED_FILE_NAME = "HC672_0000_GR3.IMG"
  REQUIRED_STORAGE_BYTES = "10464060"
  ^DESCRIPTION = "JP2INFO.TXT"
END_OBJECT = COMPRESSED_FILE
END
