PDS_VERSION_ID = PDS3
/* FILE DATA ELEMENTS */
RECORD_TYPE = STREAM
/* POINTERS TO DATA OBJECTS */
^COMPRESSED_FILE = "HC672_0000_S23.JP2"
/* IDENTIFICATION DATA ELEMENTS */
DATA_SET_ID = "MEX-M-HRSC-5-REFDR-MAPPROJECTED-V3.0"
DATA_SET_NAME = "MARS EXPRESS HRSC MAP PROJECTED REFDR V3.0"
DETECTOR_ID = MEX_HRSC_S2
EVENT_TYPE = "MARS-REGIONAL-STEREO-Im-Ot"
INSTRUMENT_HOST_ID = MEX
INSTRUMENT_HOST_NAME = "MARS EXPRESS"
INSTRUMENT_ID = HRSC
INSTRUMENT_NAME = "HIGH RESOLUTION STEREO CAMERA"
MISSION_NAME = "MARS EXPRESS"
MISSION_PHASE_NAME = ME_Phase_29
PROCESSING_LEVEL_ID = 3
PRODUCT_CREATION_TIME = 2016-10-28T21:13:36.000Z
PRODUCT_ID = "HC672_0000_S23.JP2"
RELEASE_ID = 0120
REVISION_ID = 0000
/* QUALITY DATA ELEMENTS */
DATA_QUALITY_ID = 1
DATA_QUALITY_DESC = "Data calculated based on original SPICE kernels"
/* TIME DATA ELEMENTS */
SPACECRAFT_CLOCK_START_COUNT = "1/0335731485.07322"
SPACECRAFT_CLOCK_STOP_COUNT = "1/0335731644.15755"
START_TIME = 2013-12-21T18:44:49.762Z
STOP_TIME = 2013-12-21T18:45:56.377Z
/* ORBITAL DATA ELEMENTS */
ASCENDING_NODE_LONGITUDE = 335.85
MAXIMUM_RESOLUTION = 34.2
FOOTPRINT_POINT_LATITUDE = (-25.6099,-25.6123,-25.6146,-25.6166, -25.6185,-25.6202,-25.6217,-25.623, -25.6241,-25.625,-25.6257,-25.6262, -25.6267,-25.5329,-25.2805,-25.1128, -24.9469,-24.7379,-24.6106,-24.4403, -24.2702,-24.0999,-23.9297,-23.7612, -23.5949,-23.4224,-23.3351,-23.2481, -23.1609,-23.0737,-22.9868,-22.8999, -22.8126,-22.6819,-22.5947,-22.4624, -22.3294,-22.241,-22.1524,-22.0629, -21.9736,-21.8842,-21.7502,-21.6612, -21.572,-21.4826,-21.3931,-21.3038, -21.2493,-21.2483,-21.2463,-21.2445, -21.2425,-21.2356,-21.2318,-21.229, -21.2264,-21.2223,-21.2215,-21.3116, -21.4844,-21.6158,-21.7047,-21.794, -21.8834,-21.9759,-22.0646,-22.1543, -22.2453,-22.3799,-22.4672,-22.5543, -22.6415,-22.7292,-22.8168,-22.9042, -22.9917,-23.0795,-23.1672,-23.2984, -23.386,-23.4728,-23.6015,-23.7723, -23.8594,-23.9903,-24.1616,-24.2474, -24.3337,-24.4202,-24.5071,-24.5938, -24.6803,-24.7664,-24.934,-25.1015, -25.2653,-25.4242,-25.5872,-25.6099)
FOOTPRINT_POINT_LONGITUDE = (97.8625,97.7405,97.6188,97.4972, 97.3758,97.2546,97.1336,97.0129,96.8923 ,96.7719,96.6666,96.5613,96.4411, 96.4035,96.4005,96.3986,96.3969,96.3945 ,96.3932,96.3912,96.3893,96.3872, 96.3851,96.3832,96.3817,96.3795,96.3783 ,96.3771,96.3759,96.3746,96.3735, 96.3722,96.3709,96.3689,96.3676,96.3652 ,96.3629,96.3617,96.3604,96.3589, 96.3574,96.3558,96.3535,96.352,96.3505, 96.3489,96.3472,96.3456,96.4394,96.5829 ,96.7742,96.9019,97.0297,97.1902, 97.3672,97.5442,97.6892,97.883,98.0015, 98.0011,98.0026,98.0029,98.0026,98.0022 ,98.0016,97.9998,97.9996,97.999,97.9978 ,97.9966,97.9961,97.9957,97.9952, 97.9946,97.9939,97.9934,97.9928,97.9921 ,97.9914,97.9906,97.99,97.9898,97.989, 97.9878,97.9865,97.9844,97.983,97.9823, 97.9813,97.9802,97.979,97.9779,97.9768, 97.9758,97.9742,97.9725,97.9726,97.9749 ,97.9753,97.8625)
ORBIT_NUMBER = 12672
ORBITAL_ECCENTRICITY = 0.578
ORBITAL_INCLINATION = 86.89
ORBITAL_SEMIMAJOR_AXIS = 8802.69
PERIAPSIS_ALTITUDE = 330.54
PERIAPSIS_ARGUMENT_ANGLE = 312.52
PERIAPSIS_TIME = 2013-12-21T18:39:50.000Z
SPACECRAFT_ORIENTATION = (0.0,1.0,0.0)
^MEX_ORIENTATION_DESC = "MEX_ORIENTATION_DESC.TXT"
SPACECRAFT_POINTING_MODE = ACROSSTRACK
^MEX_POINTING_DESC = "MEX_POINTING_DESC.TXT"
RIGHT_ASCENSION = -1e+32
DECLINATION = -1e+32
OFFSET_ANGLE = -0.269
SPACECRAFT_SOLAR_DISTANCE = 2.49128e+08
TARGET_NAME = MARS
/* CAMERA DATA ELEMENTS */
DETECTOR_TEMPERATURE = 18.5744
FOCAL_PLANE_TEMPERATURE = 8.9911
INST_CMPRS_NAME = "DISCRETE COSINE TRANSFORMATION (DCT)"
INST_CMPRS_RATIO = 8.83167
INST_CMPRS_QUALITY = 0
INST_CMPRS_QUANTZ_TBL_ID = 0
INSTRUMENT_TEMPERATURE = 11.4379
LENS_TEMPERATURE = 9.195
MACROPIXEL_SIZE = 2
MISSING_FRAMES = 0
PIXEL_SUBSAMPLING_FLAG = N
SIGNAL_CHAIN_ID = 1
/* RADIOMETRIC DATA ELEMENTS */
BANDWIDTH = 178.0
CENTER_FILTER_WAVELENGTH = 679.0
RADIANCE_OFFSET = 0.440556
RADIANCE_SCALING_FACTOR = 0.0149731
REFLECTANCE_SCALING_FACTOR = 0.000492136
MEX:REFLECTANCE_OFFSET = 0.0144802
/* IMAGE OBJECT DEFINITIONS */
OBJECT = IMAGE
  INTERCHANGE_FORMAT = BINARY
  LINES = 10391
  LINE_SAMPLES = 4020
  SAMPLE_TYPE = UNSIGNED_INTEGER
  SAMPLE_BITS = 8
  BANDS = 1
  BAND_STORAGE_TYPE = BAND_SEQUENTIAL
  MAXIMUM = 255
  MEAN = 118.485
  MINIMUM = 1
  STANDARD_DEVIATION = 25.0967
END_OBJECT = IMAGE
/* MAP OBJECT DEFINITIONS */
OBJECT = IMAGE_MAP_PROJECTION
  ^DATA_SET_MAP_PROJECTION_CATALOG= "DSMAP.CAT"
  A_AXIS_RADIUS = 3396.0
  B_AXIS_RADIUS = 3396.0
  C_AXIS_RADIUS = 3396.0
  CENTER_LATITUDE = 0.0
  CENTER_LONGITUDE = 97.0
  COORDINATE_SYSTEM_NAME = PLANETOGRAPHIC
  COORDINATE_SYSTEM_TYPE = "BODY-FIXED ROTATING"
  EASTERNMOST_LONGITUDE = 98.0029
  FIRST_STANDARD_PARALLEL = "N/A"
  LINE_FIRST_PIXEL = 1
  LINE_LAST_PIXEL = 10391
  LINE_PROJECTION_OFFSET = -50300.25
  MAP_PROJECTION_ROTATION = 0.0
  MAP_PROJECTION_TYPE = SINUSOIDAL
  MAP_RESOLUTION = 2370.85521546667
  MAP_SCALE = 0.025
  MAXIMUM_LATITUDE = -21.2215
  MINIMUM_LATITUDE = -25.6267
  POSITIVE_LONGITUDE_DIRECTION = EAST
  REFERENCE_LATITUDE = "N/A"
  REFERENCE_LONGITUDE = "N/A"
  SAMPLE_FIRST_PIXEL = 1
  SAMPLE_LAST_PIXEL = 4020
  SAMPLE_PROJECTION_OFFSET = 1606.75
  SECOND_STANDARD_PARALLEL = "N/A"
  WESTERNMOST_LONGITUDE = 96.3456
END_OBJECT = IMAGE_MAP_PROJECTION
/* The JPEG2000 image data file associated with this label. */
OBJECT = COMPRESSED_FILE
  FILE_NAME = "HC672_0000_S23.JP2"
  RECORD_TYPE = UNDEFINED
  FILE_RECORDS = UNK
  ENCODING_TYPE = "JP2"
  INTERCHANGE_FORMAT = BINARY
  UNCOMPRESSED_FILE_NAME = "HC672_0000_S23.IMG"
  REQUIRED_STORAGE_BYTES = "41795940"
  ^DESCRIPTION = "JP2INFO.TXT"
END_OBJECT = COMPRESSED_FILE
END
