PDS_VERSION_ID = PDS3
/* FILE DATA ELEMENTS */
RECORD_TYPE = STREAM
/* POINTERS TO DATA OBJECTS */
^COMPRESSED_FILE = "HC674_0000_ND3.JP2"
/* IDENTIFICATION DATA ELEMENTS */
DATA_SET_ID = "MEX-M-HRSC-5-REFDR-MAPPROJECTED-V3.0"
DATA_SET_NAME = "MARS EXPRESS HRSC MAP PROJECTED REFDR V3.0"
DETECTOR_ID = MEX_HRSC_NADIR
EVENT_TYPE = "MARS-REGIONAL-STEREO-Te"
INSTRUMENT_HOST_ID = MEX
INSTRUMENT_HOST_NAME = "MARS EXPRESS"
INSTRUMENT_ID = HRSC
INSTRUMENT_NAME = "HIGH RESOLUTION STEREO CAMERA"
MISSION_NAME = "MARS EXPRESS"
MISSION_PHASE_NAME = ME_Phase_29
PROCESSING_LEVEL_ID = 3
PRODUCT_CREATION_TIME = 2016-10-28T21:13:36.000Z
PRODUCT_ID = "HC674_0000_ND3.JP2"
RELEASE_ID = 0120
REVISION_ID = 0000
/* QUALITY DATA ELEMENTS */
DATA_QUALITY_ID = 1
DATA_QUALITY_DESC = "Data calculated based on original SPICE kernels"
/* TIME DATA ELEMENTS */
SPACECRAFT_CLOCK_START_COUNT = "1/0335781728.08269"
SPACECRAFT_CLOCK_STOP_COUNT = "1/0335781910.50054"
START_TIME = 2013-12-22T08:42:46.770Z
STOP_TIME = 2013-12-22T08:44:28.767Z
/* ORBITAL DATA ELEMENTS */
ASCENDING_NODE_LONGITUDE = 335.82
MAXIMUM_RESOLUTION = 15.2
FOOTPRINT_POINT_LATITUDE = (-30.7473,-30.7469,-30.7456,-30.7442, -30.7418,-30.7388,-30.7357,-30.6093, -30.483,-30.3567,-30.2305,-30.1044, -29.9783,-29.8524,-29.7264,-29.6005, -29.4747,-29.3489,-29.2232,-28.972, -28.7211,-28.4703,-28.2199,-27.9073, -27.595,-27.404,-27.276,-27.1481, -27.0202,-26.8924,-26.7647,-26.637, -26.5094,-26.3819,-26.2511,-26.1204, -25.9898,-25.8593,-25.7288,-25.5985, -25.4682,-25.338,-25.1391,-25.0058, -24.8726,-24.7395,-24.6064,-24.4734, -24.3411,-24.3421,-24.3427,-24.3432, -24.3433,-24.3432,-24.3427,-24.3421, -24.3413,-24.4744,-24.6076,-24.7409, -24.8743,-25.0078,-25.1414,-25.3407, -25.4711,-25.6016,-25.7322,-25.8629, -26.0591,-26.19,-26.3209,-26.5141, -26.7059,-26.8338,-26.9618,-27.0899, -27.218,-27.3463,-27.4746,-27.6018, -27.8519,-28.1024,-28.3531,-28.6041, -28.8554,-28.9811,-29.1069,-29.2327, -29.3587,-29.4847,-29.6107,-29.7368, -29.863,-29.9892,-30.1155,-30.2419, -30.3683,-30.4947,-30.6213,-30.7473)
FOOTPRINT_POINT_LONGITUDE = (253.22,253.067,252.716,252.488,252.198 ,251.909,251.673,251.674,251.674, 251.675,251.675,251.676,251.676,251.677 ,251.677,251.677,251.677,251.678, 251.678,251.677,251.676,251.675,251.675 ,251.673,251.672,251.671,251.67,251.67, 251.669,251.668,251.668,251.667,251.666 ,251.665,251.664,251.663,251.662, 251.661,251.66,251.659,251.658,251.657, 251.656,251.654,251.653,251.652,251.65, 251.648,251.647,251.876,252.039,252.268 ,252.464,252.677,252.922,253.086, 253.307,253.305,253.304,253.302,253.3, 253.298,253.296,253.294,253.292,253.291 ,253.289,253.288,253.285,253.284, 253.282,253.281,253.278,253.277,253.275 ,253.273,253.272,253.27,253.267,253.265 ,253.262,253.258,253.255,253.251, 253.247,253.245,253.243,253.241,253.239 ,253.237,253.235,253.233,253.231, 253.229,253.226,253.225,253.223,253.221 ,253.218,253.22)
ORBIT_NUMBER = 12674
ORBITAL_ECCENTRICITY = 0.578
ORBITAL_INCLINATION = 86.89
ORBITAL_SEMIMAJOR_AXIS = 8801.24
PERIAPSIS_ALTITUDE = 330.74
PERIAPSIS_ARGUMENT_ANGLE = 312.17
PERIAPSIS_TIME = 2013-12-22T08:38:25.000Z
SPACECRAFT_ORIENTATION = (0.0,1.0,0.0)
^MEX_ORIENTATION_DESC = "MEX_ORIENTATION_DESC.TXT"
SPACECRAFT_POINTING_MODE = NADIR
^MEX_POINTING_DESC = "MEX_POINTING_DESC.TXT"
RIGHT_ASCENSION = -1e+32
DECLINATION = -1e+32
OFFSET_ANGLE = -1e+32
SPACECRAFT_SOLAR_DISTANCE = 2.49138e+08
TARGET_NAME = MARS
/* CAMERA DATA ELEMENTS */
DETECTOR_TEMPERATURE = 18.5744
FOCAL_PLANE_TEMPERATURE = 8.5833
INST_CMPRS_NAME = "DISCRETE COSINE TRANSFORMATION (DCT)"
INST_CMPRS_RATIO = 5.47161
INST_CMPRS_QUALITY = 0
INST_CMPRS_QUANTZ_TBL_ID = 0
INSTRUMENT_TEMPERATURE = 11.8457
LENS_TEMPERATURE = 8.7872
MACROPIXEL_SIZE = 1
MISSING_FRAMES = 0
PIXEL_SUBSAMPLING_FLAG = N
SIGNAL_CHAIN_ID = 0
/* RADIOMETRIC DATA ELEMENTS */
BANDWIDTH = 177.0
CENTER_FILTER_WAVELENGTH = 677.5
RADIANCE_OFFSET = 0.487153
RADIANCE_SCALING_FACTOR = 0.0179284
REFLECTANCE_SCALING_FACTOR = 0.000591164
MEX:REFLECTANCE_OFFSET = 0.0160632
/* IMAGE OBJECT DEFINITIONS */
OBJECT = IMAGE
  INTERCHANGE_FORMAT = BINARY
  LINES = 30377
  LINE_SAMPLES = 7589
  SAMPLE_TYPE = UNSIGNED_INTEGER
  SAMPLE_BITS = 8
  BANDS = 1
  BAND_STORAGE_TYPE = BAND_SEQUENTIAL
  MAXIMUM = 255
  MEAN = 107.751
  MINIMUM = 1
  STANDARD_DEVIATION = 30.7395
END_OBJECT = IMAGE
/* MAP OBJECT DEFINITIONS */
OBJECT = IMAGE_MAP_PROJECTION
  ^DATA_SET_MAP_PROJECTION_CATALOG= "DSMAP.CAT"
  A_AXIS_RADIUS = 3396.0
  B_AXIS_RADIUS = 3396.0
  C_AXIS_RADIUS = 3396.0
  CENTER_LATITUDE = 0.0
  CENTER_LONGITUDE = 252.0
  COORDINATE_SYSTEM_NAME = PLANETOGRAPHIC
  COORDINATE_SYSTEM_TYPE = "BODY-FIXED ROTATING"
  EASTERNMOST_LONGITUDE = 253.307
  FIRST_STANDARD_PARALLEL = "N/A"
  LINE_FIRST_PIXEL = 1
  LINE_LAST_PIXEL = 30377
  LINE_PROJECTION_OFFSET = -115419.0
  MAP_PROJECTION_ROTATION = 0.0
  MAP_PROJECTION_TYPE = SINUSOIDAL
  MAP_RESOLUTION = 4741.71043093333
  MAP_SCALE = 0.0125
  MAXIMUM_LATITUDE = -24.3411
  MINIMUM_LATITUDE = -30.7473
  POSITIVE_LONGITUDE_DIRECTION = EAST
  REFERENCE_LATITUDE = "N/A"
  REFERENCE_LONGITUDE = "N/A"
  SAMPLE_FIRST_PIXEL = 1
  SAMPLE_LAST_PIXEL = 7589
  SAMPLE_PROJECTION_OFFSET = 1738.0
  SECOND_STANDARD_PARALLEL = "N/A"
  WESTERNMOST_LONGITUDE = 251.647
END_OBJECT = IMAGE_MAP_PROJECTION
/* The JPEG2000 image data file associated with this label. */
OBJECT = COMPRESSED_FILE
  FILE_NAME = "HC674_0000_ND3.JP2"
  RECORD_TYPE = UNDEFINED
  FILE_RECORDS = UNK
  ENCODING_TYPE = "JP2"
  INTERCHANGE_FORMAT = BINARY
  UNCOMPRESSED_FILE_NAME = "HC674_0000_ND3.IMG"
  REQUIRED_STORAGE_BYTES = "230561409"
  ^DESCRIPTION = "JP2INFO.TXT"
END_OBJECT = COMPRESSED_FILE
END
