PDS_VERSION_ID = PDS3
/* FILE DATA ELEMENTS */
RECORD_TYPE = STREAM
/* POINTERS TO DATA OBJECTS */
^COMPRESSED_FILE = "HC674_0000_P13.JP2"
/* IDENTIFICATION DATA ELEMENTS */
DATA_SET_ID = "MEX-M-HRSC-5-REFDR-MAPPROJECTED-V3.0"
DATA_SET_NAME = "MARS EXPRESS HRSC MAP PROJECTED REFDR V3.0"
DETECTOR_ID = MEX_HRSC_P1
EVENT_TYPE = "MARS-REGIONAL-STEREO-Te"
INSTRUMENT_HOST_ID = MEX
INSTRUMENT_HOST_NAME = "MARS EXPRESS"
INSTRUMENT_ID = HRSC
INSTRUMENT_NAME = "HIGH RESOLUTION STEREO CAMERA"
MISSION_NAME = "MARS EXPRESS"
MISSION_PHASE_NAME = ME_Phase_29
PROCESSING_LEVEL_ID = 3
PRODUCT_CREATION_TIME = 2016-10-28T21:13:36.000Z
PRODUCT_ID = "HC674_0000_P13.JP2"
RELEASE_ID = 0120
REVISION_ID = 0000
/* QUALITY DATA ELEMENTS */
DATA_QUALITY_ID = 1
DATA_QUALITY_DESC = "Data calculated based on original SPICE kernels"
/* TIME DATA ELEMENTS */
SPACECRAFT_CLOCK_START_COUNT = "1/0335781728.08269"
SPACECRAFT_CLOCK_STOP_COUNT = "1/0335781910.50054"
START_TIME = 2013-12-22T08:43:10.922Z
STOP_TIME = 2013-12-22T08:44:57.378Z
/* ORBITAL DATA ELEMENTS */
ASCENDING_NODE_LONGITUDE = 335.82
MAXIMUM_RESOLUTION = 32.2
FOOTPRINT_POINT_LATITUDE = (-30.7149,-30.7143,-30.7132,-30.7118, -30.7102,-30.7074,-30.6423,-30.5197, -30.3968,-30.2125,-30.0898,-29.9628, -29.8401,-29.717,-29.4745,-29.3509, -29.1075,-28.9831,-28.8585,-28.734, -28.61,-28.4242,-28.3,-28.1756,-28.053, -27.8629,-27.7359,-27.6088,-27.4817, -27.2914,-27.1646,-27.038,-26.9113, -26.7817,-26.652,-26.5227,-26.3934, -26.1997,-26.0706,-25.9418,-25.7441, -25.6122,-25.4144,-25.2153,-25.0842, -24.8846,-24.7502,-24.6164,-24.4825, -24.3492,-24.3102,-24.3107,-24.3091, -24.3092,-24.3083,-24.3077,-24.3085, -24.375,-24.5091,-24.6432,-24.7776, -24.9783,-25.1082,-25.2393,-25.3716, -25.5055,-25.6371,-25.7691,-25.9012, -26.0956,-26.2905,-26.4864,-26.6176, -26.8115,-26.941,-27.0676,-27.1943, -27.3207,-27.4466,-27.5736,-27.7007, -27.8283,-27.9563,-28.1435,-28.2682, -28.3924,-28.5172,-28.6411,-28.766, -28.8908,-29.0158,-29.2622,-29.445, -29.6885,-29.9332,-30.1206,-30.244, -30.3669,-30.6111,-30.7149)
FOOTPRINT_POINT_LONGITUDE = (253.031,252.861,252.598,252.367,252.12 ,251.78,251.653,251.653,251.653,251.653 ,251.654,251.654,251.654,251.655, 251.653,251.654,251.654,251.653,251.653 ,251.652,251.651,251.65,251.649,251.649 ,251.647,251.647,251.646,251.646, 251.645,251.643,251.643,251.642,251.641 ,251.64,251.639,251.637,251.636,251.634 ,251.633,251.632,251.63,251.629,251.627 ,251.625,251.624,251.621,251.62,251.618 ,251.616,251.614,251.747,251.948, 252.117,252.385,252.737,252.921,253.106 ,253.346,253.344,253.342,253.34,253.337 ,253.334,253.332,253.33,253.329,253.327 ,253.325,253.323,253.321,253.318, 253.316,253.315,253.312,253.31,253.308, 253.305,253.303,253.301,253.298,253.296 ,253.294,253.293,253.29,253.288,253.285 ,253.283,253.281,253.279,253.277, 253.275,253.27,253.267,253.262,253.258, 253.255,253.253,253.251,253.245, 253.031)
ORBIT_NUMBER = 12674
ORBITAL_ECCENTRICITY = 0.578
ORBITAL_INCLINATION = 86.89
ORBITAL_SEMIMAJOR_AXIS = 8801.24
PERIAPSIS_ALTITUDE = 330.74
PERIAPSIS_ARGUMENT_ANGLE = 312.17
PERIAPSIS_TIME = 2013-12-22T08:38:25.000Z
SPACECRAFT_ORIENTATION = (0.0,1.0,0.0)
^MEX_ORIENTATION_DESC = "MEX_ORIENTATION_DESC.TXT"
SPACECRAFT_POINTING_MODE = NADIR
^MEX_POINTING_DESC = "MEX_POINTING_DESC.TXT"
RIGHT_ASCENSION = -1e+32
DECLINATION = -1e+32
OFFSET_ANGLE = -1e+32
SPACECRAFT_SOLAR_DISTANCE = 2.49138e+08
TARGET_NAME = MARS
/* CAMERA DATA ELEMENTS */
DETECTOR_TEMPERATURE = 17.351
FOCAL_PLANE_TEMPERATURE = 8.5833
INST_CMPRS_NAME = "DISCRETE COSINE TRANSFORMATION (DCT)"
INST_CMPRS_RATIO = 5.8946
INST_CMPRS_QUALITY = 0
INST_CMPRS_QUANTZ_TBL_ID = 0
INSTRUMENT_TEMPERATURE = 11.8457
LENS_TEMPERATURE = 8.7872
MACROPIXEL_SIZE = 2
MISSING_FRAMES = 1
PIXEL_SUBSAMPLING_FLAG = N
SIGNAL_CHAIN_ID = 3
/* RADIOMETRIC DATA ELEMENTS */
BANDWIDTH = 174.0
CENTER_FILTER_WAVELENGTH = 675.0
RADIANCE_OFFSET = 0.662682
RADIANCE_SCALING_FACTOR = 0.0184275
REFLECTANCE_SCALING_FACTOR = 0.000615227
MEX:REFLECTANCE_OFFSET = 0.0221245
/* IMAGE OBJECT DEFINITIONS */
OBJECT = IMAGE
  INTERCHANGE_FORMAT = BINARY
  LINES = 15189
  LINE_SAMPLES = 3795
  SAMPLE_TYPE = UNSIGNED_INTEGER
  SAMPLE_BITS = 8
  BANDS = 1
  BAND_STORAGE_TYPE = BAND_SEQUENTIAL
  MAXIMUM = 255
  MEAN = 111.772
  MINIMUM = 1
  STANDARD_DEVIATION = 31.8631
END_OBJECT = IMAGE
/* MAP OBJECT DEFINITIONS */
OBJECT = IMAGE_MAP_PROJECTION
  ^DATA_SET_MAP_PROJECTION_CATALOG= "DSMAP.CAT"
  A_AXIS_RADIUS = 3396.0
  B_AXIS_RADIUS = 3396.0
  C_AXIS_RADIUS = 3396.0
  CENTER_LATITUDE = 0.0
  CENTER_LONGITUDE = 252.0
  COORDINATE_SYSTEM_NAME = PLANETOGRAPHIC
  COORDINATE_SYSTEM_TYPE = "BODY-FIXED ROTATING"
  EASTERNMOST_LONGITUDE = 253.346
  FIRST_STANDARD_PARALLEL = "N/A"
  LINE_FIRST_PIXEL = 1
  LINE_LAST_PIXEL = 15189
  LINE_PROJECTION_OFFSET = -57709.75
  MAP_PROJECTION_ROTATION = 0.0
  MAP_PROJECTION_TYPE = SINUSOIDAL
  MAP_RESOLUTION = 2370.85521546667
  MAP_SCALE = 0.025
  MAXIMUM_LATITUDE = -24.3077
  MINIMUM_LATITUDE = -30.7149
  POSITIVE_LONGITUDE_DIRECTION = EAST
  REFERENCE_LATITUDE = "N/A"
  REFERENCE_LONGITUDE = "N/A"
  SAMPLE_FIRST_PIXEL = 1
  SAMPLE_LAST_PIXEL = 3795
  SAMPLE_PROJECTION_OFFSET = 868.75
  SECOND_STANDARD_PARALLEL = "N/A"
  WESTERNMOST_LONGITUDE = 251.614
END_OBJECT = IMAGE_MAP_PROJECTION
/* The JPEG2000 image data file associated with this label. */
OBJECT = COMPRESSED_FILE
  FILE_NAME = "HC674_0000_P13.JP2"
  RECORD_TYPE = UNDEFINED
  FILE_RECORDS = UNK
  ENCODING_TYPE = "JP2"
  INTERCHANGE_FORMAT = BINARY
  UNCOMPRESSED_FILE_NAME = "HC674_0000_P13.IMG"
  REQUIRED_STORAGE_BYTES = "57665025"
  ^DESCRIPTION = "JP2INFO.TXT"
END_OBJECT = COMPRESSED_FILE
END
