PDS_VERSION_ID = PDS3
/* FILE DATA ELEMENTS */
RECORD_TYPE = STREAM
/* POINTERS TO DATA OBJECTS */
^COMPRESSED_FILE = "HC674_0000_P23.JP2"
/* IDENTIFICATION DATA ELEMENTS */
DATA_SET_ID = "MEX-M-HRSC-5-REFDR-MAPPROJECTED-V3.0"
DATA_SET_NAME = "MARS EXPRESS HRSC MAP PROJECTED REFDR V3.0"
DETECTOR_ID = MEX_HRSC_P2
EVENT_TYPE = "MARS-REGIONAL-STEREO-Te"
INSTRUMENT_HOST_ID = MEX
INSTRUMENT_HOST_NAME = "MARS EXPRESS"
INSTRUMENT_ID = HRSC
INSTRUMENT_NAME = "HIGH RESOLUTION STEREO CAMERA"
MISSION_NAME = "MARS EXPRESS"
MISSION_PHASE_NAME = ME_Phase_29
PROCESSING_LEVEL_ID = 3
PRODUCT_CREATION_TIME = 2016-10-28T21:13:36.000Z
PRODUCT_ID = "HC674_0000_P23.JP2"
RELEASE_ID = 0120
REVISION_ID = 0000
/* QUALITY DATA ELEMENTS */
DATA_QUALITY_ID = 1
DATA_QUALITY_DESC = "Data calculated based on original SPICE kernels"
/* TIME DATA ELEMENTS */
SPACECRAFT_CLOCK_START_COUNT = "1/0335781728.08269"
SPACECRAFT_CLOCK_STOP_COUNT = "1/0335781910.50054"
START_TIME = 2013-12-22T08:42:24.129Z
STOP_TIME = 2013-12-22T08:44:02.651Z
/* ORBITAL DATA ELEMENTS */
ASCENDING_NODE_LONGITUDE = 335.82
MAXIMUM_RESOLUTION = 30.5
FOOTPRINT_POINT_LATITUDE = (-30.7708,-30.7703,-30.7696,-30.7683, -30.7662,-30.764,-30.7608,-30.696, -30.5687,-30.4415,-30.3145,-30.188, -29.9985,-29.8095,-29.6809,-29.5539, -29.3651,-29.2388,-29.1119,-28.985, -28.8582,-28.731,-28.5403,-28.4131, -28.2233,-28.0962,-27.9702,-27.8438, -27.6543,-27.528,-27.3388,-27.1498, -27.0237,-26.8978,-26.7089,-26.5829, -26.3312,-26.017,-25.824,-25.6311, -25.5024,-25.3751,-25.2463,-25.1179, -24.9893,-24.8609,-24.7306,-24.5985, -24.4664,-24.3625,-24.3641,-24.3644, -24.3661,-24.3671,-24.3654,-24.3639, -24.4952,-24.6274,-24.8252,-24.954, -25.0841,-25.2134,-25.3422,-25.4703, -25.5996,-25.7294,-25.8585,-25.9873, -26.1139,-26.3648,-26.5522,-26.7408, -26.8668,-26.9931,-27.1194,-27.2462, -27.3726,-27.5004,-27.6903,-27.8168, -27.9435,-28.1334,-28.2595,-28.3861, -28.5132,-28.64,-28.8308,-28.9574, -29.0844,-29.2745,-29.4017,-29.5297, -29.6569,-29.7841,-29.9751,-30.1024, -30.2301,-30.3572,-30.5482,-30.7708)
FOOTPRINT_POINT_LONGITUDE = (253.144,252.924,252.763,252.558, 252.324,252.134,251.9,251.692,251.692, 251.693,251.693,251.694,251.695,251.696 ,251.696,251.696,251.697,251.697, 251.697,251.697,251.697,251.697,251.696 ,251.696,251.696,251.695,251.695, 251.695,251.694,251.694,251.693,251.693 ,251.692,251.692,251.691,251.69,251.689 ,251.687,251.686,251.684,251.684, 251.683,251.682,251.681,251.68,251.679, 251.678,251.677,251.675,251.845,252.047 ,252.249,252.529,252.731,252.995, 253.166,253.28,253.278,253.276,253.275, 253.273,253.271,253.27,253.269,253.267, 253.266,253.264,253.263,253.262,253.259 ,253.258,253.256,253.255,253.253, 253.251,253.25,253.248,253.246,253.243, 253.242,253.24,253.238,253.236,253.235, 253.233,253.231,253.228,253.227,253.225 ,253.222,253.22,253.218,253.216,253.214 ,253.211,253.21,253.207,253.206,253.203 ,253.144)
ORBIT_NUMBER = 12674
ORBITAL_ECCENTRICITY = 0.578
ORBITAL_INCLINATION = 86.89
ORBITAL_SEMIMAJOR_AXIS = 8801.24
PERIAPSIS_ALTITUDE = 330.74
PERIAPSIS_ARGUMENT_ANGLE = 312.17
PERIAPSIS_TIME = 2013-12-22T08:38:25.000Z
SPACECRAFT_ORIENTATION = (0.0,1.0,0.0)
^MEX_ORIENTATION_DESC = "MEX_ORIENTATION_DESC.TXT"
SPACECRAFT_POINTING_MODE = NADIR
^MEX_POINTING_DESC = "MEX_POINTING_DESC.TXT"
RIGHT_ASCENSION = -1e+32
DECLINATION = -1e+32
OFFSET_ANGLE = -1e+32
SPACECRAFT_SOLAR_DISTANCE = 2.49138e+08
TARGET_NAME = MARS
/* CAMERA DATA ELEMENTS */
DETECTOR_TEMPERATURE = 17.9627
FOCAL_PLANE_TEMPERATURE = 8.5833
INST_CMPRS_NAME = "DISCRETE COSINE TRANSFORMATION (DCT)"
INST_CMPRS_RATIO = 5.7231
INST_CMPRS_QUALITY = 0
INST_CMPRS_QUANTZ_TBL_ID = 0
INSTRUMENT_TEMPERATURE = 11.8457
LENS_TEMPERATURE = 8.7872
MACROPIXEL_SIZE = 2
MISSING_FRAMES = 0
PIXEL_SUBSAMPLING_FLAG = N
SIGNAL_CHAIN_ID = 3
/* RADIOMETRIC DATA ELEMENTS */
BANDWIDTH = 177.0
CENTER_FILTER_WAVELENGTH = 676.5
RADIANCE_OFFSET = 0.668308
RADIANCE_SCALING_FACTOR = 0.0172225
REFLECTANCE_SCALING_FACTOR = 0.000566807
MEX:REFLECTANCE_OFFSET = 0.0219946
/* IMAGE OBJECT DEFINITIONS */
OBJECT = IMAGE
  INTERCHANGE_FORMAT = BINARY
  LINES = 15189
  LINE_SAMPLES = 3795
  SAMPLE_TYPE = UNSIGNED_INTEGER
  SAMPLE_BITS = 8
  BANDS = 1
  BAND_STORAGE_TYPE = BAND_SEQUENTIAL
  MAXIMUM = 255
  MEAN = 106.207
  MINIMUM = 1
  STANDARD_DEVIATION = 31.3206
END_OBJECT = IMAGE
/* MAP OBJECT DEFINITIONS */
OBJECT = IMAGE_MAP_PROJECTION
  ^DATA_SET_MAP_PROJECTION_CATALOG= "DSMAP.CAT"
  A_AXIS_RADIUS = 3396.0
  B_AXIS_RADIUS = 3396.0
  C_AXIS_RADIUS = 3396.0
  CENTER_LATITUDE = 0.0
  CENTER_LONGITUDE = 252.0
  COORDINATE_SYSTEM_NAME = PLANETOGRAPHIC
  COORDINATE_SYSTEM_TYPE = "BODY-FIXED ROTATING"
  EASTERNMOST_LONGITUDE = 253.28
  FIRST_STANDARD_PARALLEL = "N/A"
  LINE_FIRST_PIXEL = 1
  LINE_LAST_PIXEL = 15189
  LINE_PROJECTION_OFFSET = -57709.75
  MAP_PROJECTION_ROTATION = 0.0
  MAP_PROJECTION_TYPE = SINUSOIDAL
  MAP_RESOLUTION = 2370.85521546667
  MAP_SCALE = 0.025
  MAXIMUM_LATITUDE = -24.3625
  MINIMUM_LATITUDE = -30.7708
  POSITIVE_LONGITUDE_DIRECTION = EAST
  REFERENCE_LATITUDE = "N/A"
  REFERENCE_LONGITUDE = "N/A"
  SAMPLE_FIRST_PIXEL = 1
  SAMPLE_LAST_PIXEL = 3795
  SAMPLE_PROJECTION_OFFSET = 868.75
  SECOND_STANDARD_PARALLEL = "N/A"
  WESTERNMOST_LONGITUDE = 251.675
END_OBJECT = IMAGE_MAP_PROJECTION
/* The JPEG2000 image data file associated with this label. */
OBJECT = COMPRESSED_FILE
  FILE_NAME = "HC674_0000_P23.JP2"
  RECORD_TYPE = UNDEFINED
  FILE_RECORDS = UNK
  ENCODING_TYPE = "JP2"
  INTERCHANGE_FORMAT = BINARY
  UNCOMPRESSED_FILE_NAME = "HC674_0000_P23.IMG"
  REQUIRED_STORAGE_BYTES = "57665025"
  ^DESCRIPTION = "JP2INFO.TXT"
END_OBJECT = COMPRESSED_FILE
END
