PDS_VERSION_ID = PDS3
/* FILE DATA ELEMENTS */
RECORD_TYPE = STREAM
/* POINTERS TO DATA OBJECTS */
^COMPRESSED_FILE = "HC682_0000_GR3.JP2"
/* IDENTIFICATION DATA ELEMENTS */
DATA_SET_ID = "MEX-M-HRSC-5-REFDR-MAPPROJECTED-V3.0"
DATA_SET_NAME = "MARS EXPRESS HRSC MAP PROJECTED REFDR V3.0"
DETECTOR_ID = MEX_HRSC_GREEN
EVENT_TYPE = "MARS-REGIONAL-MAPPING-Im-Fl"
INSTRUMENT_HOST_ID = MEX
INSTRUMENT_HOST_NAME = "MARS EXPRESS"
INSTRUMENT_ID = HRSC
INSTRUMENT_NAME = "HIGH RESOLUTION STEREO CAMERA"
MISSION_NAME = "MARS EXPRESS"
MISSION_PHASE_NAME = ME_Phase_29
PROCESSING_LEVEL_ID = 3
PRODUCT_CREATION_TIME = 2016-10-28T21:13:36.000Z
PRODUCT_ID = "HC682_0000_GR3.JP2"
RELEASE_ID = 0120
REVISION_ID = 0000
/* QUALITY DATA ELEMENTS */
DATA_QUALITY_ID = 1
DATA_QUALITY_DESC = "Data calculated based on original SPICE kernels"
/* TIME DATA ELEMENTS */
SPACECRAFT_CLOCK_START_COUNT = "1/0335983121.07281"
SPACECRAFT_CLOCK_STOP_COUNT = "1/0335983360.08048"
START_TIME = 2013-12-24T16:39:35.170Z
STOP_TIME = 2013-12-24T16:41:49.191Z
/* ORBITAL DATA ELEMENTS */
ASCENDING_NODE_LONGITUDE = 335.67
MAXIMUM_RESOLUTION = 149.6
FOOTPRINT_POINT_LATITUDE = (-23.3979,-23.3997,-23.4006,-23.4012, -23.4013,-23.401,-23.4001,-23.0293, -22.7319,-22.5093,-22.2831,-21.9812, -21.6793,-21.372,-21.2182,-20.9111, -20.7556,-20.5991,-20.4427,-20.2866, -20.1302,-19.9715,-19.8125,-19.6538, -19.4953,-19.3373,-19.1,-18.9421, -18.7844,-18.6268,-18.4695,-18.3124, -18.1553,-17.9986,-17.842,-17.6856, -17.5294,-17.3733,-17.2175,-17.0618, -16.9064,-16.7511,-16.596,-16.4412, -16.2865,-16.132,-15.9778,-15.8238, -15.5529,-15.5516,-15.5501,-15.5483, -15.5454,-15.5434,-15.5417,-15.5392, -15.5363,-15.7687,-16.0003,-16.1546, -16.3086,-16.4637,-16.6191,-16.7753, -16.9305,-17.0864,-17.2426,-17.3989, -17.6336,-17.7901,-17.9468,-18.1039, -18.2612,-18.4187,-18.5762,-18.7341, -18.8926,-19.0509,-19.2093,-19.3679, -19.5272,-19.6857,-19.8447,-20.0034, -20.161,-20.3174,-20.474,-20.6307, -20.8657,-21.0195,-21.1735,-21.3276, -21.482,-21.6364,-21.9391,-22.2423, -22.4695,-22.8416,-23.0653,-23.3979)
FOOTPRINT_POINT_LONGITUDE = (156.257,155.906,155.64,155.359,155.096 ,154.834,154.497,154.489,154.483, 154.478,154.473,154.466,154.458,154.451 ,154.447,154.44,154.436,154.432,154.428 ,154.423,154.42,154.416,154.412,154.407 ,154.403,154.398,154.391,154.387, 154.382,154.377,154.373,154.368,154.363 ,154.358,154.353,154.348,154.343, 154.338,154.333,154.328,154.323,154.318 ,154.313,154.307,154.302,154.296, 154.291,154.285,154.368,154.54,154.769, 154.98,155.287,155.597,155.772,156.006, 156.22,156.33,156.327,156.325,156.32, 156.319,156.318,156.319,156.316,156.315 ,156.314,156.313,156.311,156.309, 156.307,156.306,156.304,156.303,156.301 ,156.3,156.301,156.299,156.298,156.297, 156.298,156.295,156.293,156.29,156.288, 156.287,156.286,156.285,156.283,156.282 ,156.281,156.28,156.279,156.278,156.276 ,156.274,156.272,156.27,156.268, 156.257)
ORBIT_NUMBER = 12682
ORBITAL_ECCENTRICITY = 0.578
ORBITAL_INCLINATION = 86.89
ORBITAL_SEMIMAJOR_AXIS = 8797.38
PERIAPSIS_ALTITUDE = 331.89
PERIAPSIS_ARGUMENT_ANGLE = 310.85
PERIAPSIS_TIME = 2013-12-24T16:32:47.000Z
SPACECRAFT_ORIENTATION = (0.0,1.0,0.0)
^MEX_ORIENTATION_DESC = "MEX_ORIENTATION_DESC.TXT"
SPACECRAFT_POINTING_MODE = ACROSSTRACK
^MEX_POINTING_DESC = "MEX_POINTING_DESC.TXT"
RIGHT_ASCENSION = -1e+32
DECLINATION = -1e+32
OFFSET_ANGLE = -0.46
SPACECRAFT_SOLAR_DISTANCE = 2.49175e+08
TARGET_NAME = MARS
/* CAMERA DATA ELEMENTS */
DETECTOR_TEMPERATURE = 18.9822
FOCAL_PLANE_TEMPERATURE = 9.8067
INST_CMPRS_NAME = "DISCRETE COSINE TRANSFORMATION (DCT)"
INST_CMPRS_RATIO = 5.57382
INST_CMPRS_QUALITY = 0
INST_CMPRS_QUANTZ_TBL_ID = 0
INSTRUMENT_TEMPERATURE = 12.2535
LENS_TEMPERATURE = 10.0106
MACROPIXEL_SIZE = 8
MISSING_FRAMES = 0
PIXEL_SUBSAMPLING_FLAG = N
SIGNAL_CHAIN_ID = 2
/* RADIOMETRIC DATA ELEMENTS */
BANDWIDTH = 88.0
CENTER_FILTER_WAVELENGTH = 538.0
RADIANCE_OFFSET = 0.283557
RADIANCE_SCALING_FACTOR = 0.00608945
REFLECTANCE_SCALING_FACTOR = 0.000325519
MEX:REFLECTANCE_OFFSET = 0.0151579
/* IMAGE OBJECT DEFINITIONS */
OBJECT = IMAGE
  INTERCHANGE_FORMAT = BINARY
  LINES = 4671
  LINE_SAMPLES = 1206
  SAMPLE_TYPE = UNSIGNED_INTEGER
  SAMPLE_BITS = 8
  BANDS = 1
  BAND_STORAGE_TYPE = BAND_SEQUENTIAL
  MAXIMUM = 254
  MEAN = 136.425
  MINIMUM = 1
  STANDARD_DEVIATION = 26.9078
END_OBJECT = IMAGE
/* MAP OBJECT DEFINITIONS */
OBJECT = IMAGE_MAP_PROJECTION
  ^DATA_SET_MAP_PROJECTION_CATALOG= "DSMAP.CAT"
  A_AXIS_RADIUS = 3396.0
  B_AXIS_RADIUS = 3396.0
  C_AXIS_RADIUS = 3396.0
  CENTER_LATITUDE = 0.0
  CENTER_LONGITUDE = 155.0
  COORDINATE_SYSTEM_NAME = PLANETOGRAPHIC
  COORDINATE_SYSTEM_TYPE = "BODY-FIXED ROTATING"
  EASTERNMOST_LONGITUDE = 156.33
  FIRST_STANDARD_PARALLEL = "N/A"
  LINE_FIRST_PIXEL = 1
  LINE_LAST_PIXEL = 4671
  LINE_PROJECTION_OFFSET = -9214.8125
  MAP_PROJECTION_ROTATION = 0.0
  MAP_PROJECTION_TYPE = SINUSOIDAL
  MAP_RESOLUTION = 592.713803866667
  MAP_SCALE = 0.1
  MAXIMUM_LATITUDE = -15.5363
  MINIMUM_LATITUDE = -23.4013
  POSITIVE_LONGITUDE_DIRECTION = EAST
  REFERENCE_LATITUDE = "N/A"
  REFERENCE_LONGITUDE = "N/A"
  SAMPLE_FIRST_PIXEL = 1
  SAMPLE_LAST_PIXEL = 1206
  SAMPLE_PROJECTION_OFFSET = 422.4375
  SECOND_STANDARD_PARALLEL = "N/A"
  WESTERNMOST_LONGITUDE = 154.285
END_OBJECT = IMAGE_MAP_PROJECTION
/* The JPEG2000 image data file associated with this label. */
OBJECT = COMPRESSED_FILE
  FILE_NAME = "HC682_0000_GR3.JP2"
  RECORD_TYPE = UNDEFINED
  FILE_RECORDS = UNK
  ENCODING_TYPE = "JP2"
  INTERCHANGE_FORMAT = BINARY
  UNCOMPRESSED_FILE_NAME = "HC682_0000_GR3.IMG"
  REQUIRED_STORAGE_BYTES = "5651316"
  ^DESCRIPTION = "JP2INFO.TXT"
END_OBJECT = COMPRESSED_FILE
END
