PDS_VERSION_ID = PDS3
/* FILE DATA ELEMENTS */
RECORD_TYPE = STREAM
/* POINTERS TO DATA OBJECTS */
^COMPRESSED_FILE = "HC685_0000_P13.JP2"
/* IDENTIFICATION DATA ELEMENTS */
DATA_SET_ID = "MEX-M-HRSC-5-REFDR-MAPPROJECTED-V3.0"
DATA_SET_NAME = "MARS EXPRESS HRSC MAP PROJECTED REFDR V3.0"
DETECTOR_ID = MEX_HRSC_P1
EVENT_TYPE = "MARS-REGIONAL-MAPPING-Fl-Lc-Ot"
INSTRUMENT_HOST_ID = MEX
INSTRUMENT_HOST_NAME = "MARS EXPRESS"
INSTRUMENT_ID = HRSC
INSTRUMENT_NAME = "HIGH RESOLUTION STEREO CAMERA"
MISSION_NAME = "MARS EXPRESS"
MISSION_PHASE_NAME = ME_Phase_29
PROCESSING_LEVEL_ID = 3
PRODUCT_CREATION_TIME = 2016-10-28T21:13:36.000Z
PRODUCT_ID = "HC685_0000_P13.JP2"
RELEASE_ID = 0120
REVISION_ID = 0000
/* QUALITY DATA ELEMENTS */
DATA_QUALITY_ID = 1
DATA_QUALITY_DESC = "Data calculated based on original SPICE kernels"
/* TIME DATA ELEMENTS */
SPACECRAFT_CLOCK_START_COUNT = "1/0336058214.09055"
SPACECRAFT_CLOCK_STOP_COUNT = "1/0336058409.56427"
START_TIME = 2013-12-25T13:31:07.789Z
STOP_TIME = 2013-12-25T13:33:21.315Z
/* ORBITAL DATA ELEMENTS */
ASCENDING_NODE_LONGITUDE = 335.61
MAXIMUM_RESOLUTION = 27
FOOTPRINT_POINT_LATITUDE = (-48.532,-48.5244,-48.5137,-48.5065, -48.4978,-48.3495,-48.1779,-48.0057, -47.8347,-47.4991,-47.3283,-47.157, -46.9802,-46.6454,-46.4747,-46.3032, -46.1292,-45.9598,-45.79,-45.62, -45.4499,-45.2797,-45.1097,-44.9392, -44.7695,-44.5997,-44.4288,-44.0974, -43.9281,-43.7536,-43.5752,-43.4007, -43.2259,-42.9649,-42.7906,-42.6172, -42.3579,-42.0975,-41.9239,-41.7507, -41.4895,-41.229,-41.0553,-40.8819, -40.7087,-40.5357,-40.3628,-40.1903, -40.0175,-39.9165,-39.9239,-39.9293, -39.9324,-40.107,-40.3666,-40.5401, -40.7997,-40.9732,-41.2335,-41.407, -41.5814,-41.8418,-42.0159,-42.19, -42.3642,-42.5386,-42.7128,-42.9748, -43.1497,-43.3242,-43.4991,-43.6734, -43.8482,-44.0183,-44.188,-44.3579, -44.5279,-44.6979,-44.8679,-45.038, -45.2083,-45.3787,-45.5475,-45.7186, -45.8898,-46.0594,-46.23,-46.4057, -46.5778,-46.7478,-46.9136,-47.1702, -47.3413,-47.5125,-47.6843,-47.8573, -48.0294,-48.2011,-48.3728,-48.532)
FOOTPRINT_POINT_LONGITUDE = (208.4,208.057,207.631,207.369,207.075, 206.863,206.876,206.89,206.902,206.922, 206.934,206.946,206.962,206.98,206.991, 207.003,207.016,207.026,207.036,207.046 ,207.056,207.066,207.076,207.086, 207.095,207.104,207.114,207.126,207.134 ,207.146,207.157,207.166,207.174, 207.185,207.193,207.2,207.21,207.22, 207.227,207.234,207.244,207.254,207.261 ,207.267,207.273,207.279,207.285, 207.291,207.296,207.764,208.182,208.538 ,208.771,208.896,208.888,208.883, 208.875,208.87,208.862,208.857,208.852, 208.843,208.838,208.832,208.827,208.821 ,208.815,208.806,208.8,208.794,208.788, 208.781,208.776,208.771,208.765,208.758 ,208.752,208.746,208.74,208.733,208.727 ,208.72,208.713,208.706,208.7,208.693, 208.686,208.682,208.676,208.668,208.657 ,208.646,208.639,208.632,208.624, 208.618,208.61,208.603,208.595,208.4)
ORBIT_NUMBER = 12685
ORBITAL_ECCENTRICITY = 0.578
ORBITAL_INCLINATION = 86.9
ORBITAL_SEMIMAJOR_AXIS = 8794.07
PERIAPSIS_ALTITUDE = 330.85
PERIAPSIS_ARGUMENT_ANGLE = 310.31
PERIAPSIS_TIME = 2013-12-25T13:30:33.000Z
SPACECRAFT_ORIENTATION = (0.0,1.0,0.0)
^MEX_ORIENTATION_DESC = "MEX_ORIENTATION_DESC.TXT"
SPACECRAFT_POINTING_MODE = NADIR
^MEX_POINTING_DESC = "MEX_POINTING_DESC.TXT"
RIGHT_ASCENSION = -1e+32
DECLINATION = -1e+32
OFFSET_ANGLE = -1e+32
SPACECRAFT_SOLAR_DISTANCE = 2.49186e+08
TARGET_NAME = MARS
/* CAMERA DATA ELEMENTS */
DETECTOR_TEMPERATURE = 18.1666
FOCAL_PLANE_TEMPERATURE = 9.6028
INST_CMPRS_NAME = "DISCRETE COSINE TRANSFORMATION (DCT)"
INST_CMPRS_RATIO = 3.94905
INST_CMPRS_QUALITY = 0
INST_CMPRS_QUANTZ_TBL_ID = 0
INSTRUMENT_TEMPERATURE = 12.2535
LENS_TEMPERATURE = 10.4184
MACROPIXEL_SIZE = 2
MISSING_FRAMES = 0
PIXEL_SUBSAMPLING_FLAG = N
SIGNAL_CHAIN_ID = 3
/* RADIOMETRIC DATA ELEMENTS */
BANDWIDTH = 174.0
CENTER_FILTER_WAVELENGTH = 675.0
RADIANCE_OFFSET = 0.0201111
RADIANCE_SCALING_FACTOR = 0.0170353
REFLECTANCE_SCALING_FACTOR = 0.000568962
MEX:REFLECTANCE_OFFSET = 0.000671691
/* IMAGE OBJECT DEFINITIONS */
OBJECT = IMAGE
  INTERCHANGE_FORMAT = BINARY
  LINES = 20530
  LINE_SAMPLES = 3528
  SAMPLE_TYPE = UNSIGNED_INTEGER
  SAMPLE_BITS = 8
  BANDS = 1
  BAND_STORAGE_TYPE = BAND_SEQUENTIAL
  MAXIMUM = 255
  MEAN = 66.8419
  MINIMUM = 1
  STANDARD_DEVIATION = 23.602
END_OBJECT = IMAGE
/* MAP OBJECT DEFINITIONS */
OBJECT = IMAGE_MAP_PROJECTION
  ^DATA_SET_MAP_PROJECTION_CATALOG= "DSMAP.CAT"
  A_AXIS_RADIUS = 3396.0
  B_AXIS_RADIUS = 3396.0
  C_AXIS_RADIUS = 3396.0
  CENTER_LATITUDE = 0.0
  CENTER_LONGITUDE = 208.0
  COORDINATE_SYSTEM_NAME = PLANETOGRAPHIC
  COORDINATE_SYSTEM_TYPE = "BODY-FIXED ROTATING"
  EASTERNMOST_LONGITUDE = 208.896
  FIRST_STANDARD_PARALLEL = "N/A"
  LINE_FIRST_PIXEL = 1
  LINE_LAST_PIXEL = 20530
  LINE_PROJECTION_OFFSET = -94649.25
  MAP_PROJECTION_ROTATION = 0.0
  MAP_PROJECTION_TYPE = SINUSOIDAL
  MAP_RESOLUTION = 2370.85521546667
  MAP_SCALE = 0.025
  MAXIMUM_LATITUDE = -39.9165
  MINIMUM_LATITUDE = -48.532
  POSITIVE_LONGITUDE_DIRECTION = EAST
  REFERENCE_LATITUDE = "N/A"
  REFERENCE_LONGITUDE = "N/A"
  SAMPLE_FIRST_PIXEL = 1
  SAMPLE_LAST_PIXEL = 3528
  SAMPLE_PROJECTION_OFFSET = 1862.25
  SECOND_STANDARD_PARALLEL = "N/A"
  WESTERNMOST_LONGITUDE = 206.863
END_OBJECT = IMAGE_MAP_PROJECTION
/* The JPEG2000 image data file associated with this label. */
OBJECT = COMPRESSED_FILE
  FILE_NAME = "HC685_0000_P13.JP2"
  RECORD_TYPE = UNDEFINED
  FILE_RECORDS = UNK
  ENCODING_TYPE = "JP2"
  INTERCHANGE_FORMAT = BINARY
  UNCOMPRESSED_FILE_NAME = "HC685_0000_P13.IMG"
  REQUIRED_STORAGE_BYTES = "72454536"
  ^DESCRIPTION = "JP2INFO.TXT"
END_OBJECT = COMPRESSED_FILE
END
