PDS_VERSION_ID = PDS3
/* FILE DATA ELEMENTS */
RECORD_TYPE = STREAM
/* POINTERS TO DATA OBJECTS */
^COMPRESSED_FILE = "HC692_0000_BL3.JP2"
/* IDENTIFICATION DATA ELEMENTS */
DATA_SET_ID = "MEX-M-HRSC-5-REFDR-MAPPROJECTED-V3.0"
DATA_SET_NAME = "MARS EXPRESS HRSC MAP PROJECTED REFDR V3.0"
DETECTOR_ID = MEX_HRSC_BLUE
EVENT_TYPE = "MARS-REGIONAL-MAPPING-Im-Lc-Ot"
INSTRUMENT_HOST_ID = MEX
INSTRUMENT_HOST_NAME = "MARS EXPRESS"
INSTRUMENT_ID = HRSC
INSTRUMENT_NAME = "HIGH RESOLUTION STEREO CAMERA"
MISSION_NAME = "MARS EXPRESS"
MISSION_PHASE_NAME = ME_Phase_29
PROCESSING_LEVEL_ID = 3
PRODUCT_CREATION_TIME = 2016-10-28T21:13:36.000Z
PRODUCT_ID = "HC692_0000_BL3.JP2"
RELEASE_ID = 0120
REVISION_ID = 0000
/* QUALITY DATA ELEMENTS */
DATA_QUALITY_ID = 1
DATA_QUALITY_DESC = "Data calculated based on original SPICE kernels"
/* TIME DATA ELEMENTS */
SPACECRAFT_CLOCK_START_COUNT = "1/0336234321.07294"
SPACECRAFT_CLOCK_STOP_COUNT = "1/0336234557.32459"
START_TIME = 2013-12-27T14:25:50.266Z
STOP_TIME = 2013-12-27T14:28:40.862Z
/* ORBITAL DATA ELEMENTS */
ASCENDING_NODE_LONGITUDE = 335.48
MAXIMUM_RESOLUTION = 104.6
FOOTPRINT_POINT_LATITUDE = (-49.0376,-49.0318,-49.0245,-49.0061, -48.9789,-48.6521,-48.4342,-48.2164, -47.9987,-47.7808,-47.454,-47.1272, -46.9093,-46.6912,-46.4733,-46.2552, -46.0373,-45.8195,-45.4928,-45.275, -45.0572,-44.8381,-44.6199,-44.4024, -44.1857,-43.9685,-43.7502,-43.5325, -43.3151,-42.9803,-42.7557,-42.4196, -42.0833,-41.859,-41.5227,-41.2984, -40.9626,-40.7382,-40.5139,-40.2894, -40.0654,-39.8415,-39.6177,-39.2823, -39.0588,-38.8362,-38.6134,-38.2799, -38.0573,-37.8475,-37.8586,-37.8643, -37.8695,-38.0927,-38.3161,-38.5397, -38.7633,-38.9869,-39.2109,-39.4349, -39.6592,-39.9956,-40.3323,-40.5563, -40.7808,-41.0052,-41.2299,-41.4531, -41.6777,-41.9029,-42.1283,-42.3532, -42.578,-42.803,-43.0282,-43.2534, -43.4721,-43.6901,-43.9085,-44.1255, -44.4523,-44.6705,-44.8888,-45.1078, -45.3272,-45.546,-45.7637,-45.9833, -46.3111,-46.5296,-46.8569,-47.0753, -47.4028,-47.6213,-47.8398,-48.0581, -48.2766,-48.604,-48.8223,-49.0376)
FOOTPRINT_POINT_LONGITUDE = (213.163,212.895,212.596,211.951, 211.465,211.491,211.508,211.524,211.541 ,211.557,211.581,211.604,211.618, 211.633,211.647,211.66,211.674,211.687, 211.707,211.719,211.732,211.741,211.752 ,211.764,211.777,211.789,211.799, 211.809,211.82,211.835,211.845,211.861, 211.876,211.885,211.899,211.907,211.921 ,211.928,211.935,211.941,211.948, 211.955,211.962,211.971,211.978,211.985 ,211.992,212.003,212.009,212.126, 212.785,213.225,213.573,213.568,213.562 ,213.556,213.55,213.545,213.538,213.532 ,213.525,213.516,213.505,213.5,213.493, 213.487,213.48,213.477,213.47,213.462, 213.454,213.447,213.44,213.433,213.426, 213.418,213.411,213.403,213.395,213.39, 213.38,213.372,213.364,213.354,213.343, 213.333,213.327,213.315,213.302,213.293 ,213.28,213.271,213.258,213.248,213.239 ,213.23,213.22,213.206,213.196,213.163)
ORBIT_NUMBER = 12692
ORBITAL_ECCENTRICITY = 0.577
ORBITAL_INCLINATION = 86.91
ORBITAL_SEMIMAJOR_AXIS = 8792.14
PERIAPSIS_ALTITUDE = 330.57
PERIAPSIS_ARGUMENT_ANGLE = 309.12
PERIAPSIS_TIME = 2013-12-27T14:25:28.000Z
SPACECRAFT_ORIENTATION = (0.0,1.0,0.0)
^MEX_ORIENTATION_DESC = "MEX_ORIENTATION_DESC.TXT"
SPACECRAFT_POINTING_MODE = NADIR
^MEX_POINTING_DESC = "MEX_POINTING_DESC.TXT"
RIGHT_ASCENSION = -1e+32
DECLINATION = -1e+32
OFFSET_ANGLE = -1e+32
SPACECRAFT_SOLAR_DISTANCE = 2.49209e+08
TARGET_NAME = MARS
/* CAMERA DATA ELEMENTS */
DETECTOR_TEMPERATURE = 18.1666
FOCAL_PLANE_TEMPERATURE = 8.1755
INST_CMPRS_NAME = "DISCRETE COSINE TRANSFORMATION (DCT)"
INST_CMPRS_RATIO = 4.68816
INST_CMPRS_QUALITY = 0
INST_CMPRS_QUANTZ_TBL_ID = 0
INSTRUMENT_TEMPERATURE = 9.8067
LENS_TEMPERATURE = 8.7872
MACROPIXEL_SIZE = 8
MISSING_FRAMES = 0
PIXEL_SUBSAMPLING_FLAG = N
SIGNAL_CHAIN_ID = 2
/* RADIOMETRIC DATA ELEMENTS */
BANDWIDTH = 76.0
CENTER_FILTER_WAVELENGTH = 444.0
RADIANCE_OFFSET = 0.0232271
RADIANCE_SCALING_FACTOR = 0.00192583
REFLECTANCE_SCALING_FACTOR = 0.000122886
MEX:REFLECTANCE_OFFSET = 0.0014821
/* IMAGE OBJECT DEFINITIONS */
OBJECT = IMAGE
  INTERCHANGE_FORMAT = BINARY
  LINES = 6624
  LINE_SAMPLES = 897
  SAMPLE_TYPE = UNSIGNED_INTEGER
  SAMPLE_BITS = 8
  BANDS = 1
  BAND_STORAGE_TYPE = BAND_SEQUENTIAL
  MAXIMUM = 255
  MEAN = 88.8552
  MINIMUM = 1
  STANDARD_DEVIATION = 24.3231
END_OBJECT = IMAGE
/* MAP OBJECT DEFINITIONS */
OBJECT = IMAGE_MAP_PROJECTION
  ^DATA_SET_MAP_PROJECTION_CATALOG= "DSMAP.CAT"
  A_AXIS_RADIUS = 3396.0
  B_AXIS_RADIUS = 3396.0
  C_AXIS_RADIUS = 3396.0
  CENTER_LATITUDE = 0.0
  CENTER_LONGITUDE = 213.0
  COORDINATE_SYSTEM_NAME = PLANETOGRAPHIC
  COORDINATE_SYSTEM_TYPE = "BODY-FIXED ROTATING"
  EASTERNMOST_LONGITUDE = 213.573
  FIRST_STANDARD_PARALLEL = "N/A"
  LINE_FIRST_PIXEL = 1
  LINE_LAST_PIXEL = 6624
  LINE_PROJECTION_OFFSET = -22434.1875
  MAP_PROJECTION_ROTATION = 0.0
  MAP_PROJECTION_TYPE = SINUSOIDAL
  MAP_RESOLUTION = 592.713803866667
  MAP_SCALE = 0.1
  MAXIMUM_LATITUDE = -37.8475
  MINIMUM_LATITUDE = -49.0376
  POSITIVE_LONGITUDE_DIRECTION = EAST
  REFERENCE_LATITUDE = "N/A"
  REFERENCE_LONGITUDE = "N/A"
  SAMPLE_FIRST_PIXEL = 1
  SAMPLE_LAST_PIXEL = 897
  SAMPLE_PROJECTION_OFFSET = 611.4375
  SECOND_STANDARD_PARALLEL = "N/A"
  WESTERNMOST_LONGITUDE = 211.465
END_OBJECT = IMAGE_MAP_PROJECTION
/* The JPEG2000 image data file associated with this label. */
OBJECT = COMPRESSED_FILE
  FILE_NAME = "HC692_0000_BL3.JP2"
  RECORD_TYPE = UNDEFINED
  FILE_RECORDS = UNK
  ENCODING_TYPE = "JP2"
  INTERCHANGE_FORMAT = BINARY
  UNCOMPRESSED_FILE_NAME = "HC692_0000_BL3.IMG"
  REQUIRED_STORAGE_BYTES = "5959668"
  ^DESCRIPTION = "JP2INFO.TXT"
END_OBJECT = COMPRESSED_FILE
END
