PDS_VERSION_ID = PDS3
/* FILE DATA ELEMENTS */
RECORD_TYPE = STREAM
/* POINTERS TO DATA OBJECTS */
^COMPRESSED_FILE = "HC692_0000_GR3.JP2"
/* IDENTIFICATION DATA ELEMENTS */
DATA_SET_ID = "MEX-M-HRSC-5-REFDR-MAPPROJECTED-V3.0"
DATA_SET_NAME = "MARS EXPRESS HRSC MAP PROJECTED REFDR V3.0"
DETECTOR_ID = MEX_HRSC_GREEN
EVENT_TYPE = "MARS-REGIONAL-MAPPING-Im-Lc-Ot"
INSTRUMENT_HOST_ID = MEX
INSTRUMENT_HOST_NAME = "MARS EXPRESS"
INSTRUMENT_ID = HRSC
INSTRUMENT_NAME = "HIGH RESOLUTION STEREO CAMERA"
MISSION_NAME = "MARS EXPRESS"
MISSION_PHASE_NAME = ME_Phase_29
PROCESSING_LEVEL_ID = 3
PRODUCT_CREATION_TIME = 2016-10-28T21:13:36.000Z
PRODUCT_ID = "HC692_0000_GR3.JP2"
RELEASE_ID = 0120
REVISION_ID = 0000
/* QUALITY DATA ELEMENTS */
DATA_QUALITY_ID = 1
DATA_QUALITY_DESC = "Data calculated based on original SPICE kernels"
/* TIME DATA ELEMENTS */
SPACECRAFT_CLOCK_START_COUNT = "1/0336234321.07294"
SPACECRAFT_CLOCK_STOP_COUNT = "1/0336234557.32459"
START_TIME = 2013-12-27T14:26:00.302Z
STOP_TIME = 2013-12-27T14:28:51.867Z
/* ORBITAL DATA ELEMENTS */
ASCENDING_NODE_LONGITUDE = 335.48
MAXIMUM_RESOLUTION = 104.8
FOOTPRINT_POINT_LATITUDE = (-48.9992,-48.9928,-48.9794,-48.9714, -48.8589,-48.6413,-48.4237,-48.0973, -47.7708,-47.5534,-47.336,-47.0099, -46.6841,-46.3584,-46.0328,-45.8157, -45.5987,-45.3818,-45.1651,-44.9487, -44.7329,-44.5163,-44.2994,-43.9742, -43.7534,-43.5301,-43.3067,-43.0836, -42.8604,-42.637,-42.4139,-42.1908, -41.9681,-41.7455,-41.4117,-41.1895, -40.967,-40.7453,-40.4131,-40.1916, -39.8595,-39.6383,-39.4171,-39.0859, -38.8644,-38.5329,-38.3117,-38.0911, -37.8721,-37.8489,-37.854,-37.861, -37.8649,-37.8702,-38.0907,-38.3114, -38.5322,-38.7532,-38.9743,-39.1955, -39.4168,-39.7488,-40.0814,-40.3032, -40.5256,-40.7479,-40.9703,-41.1928, -41.4165,-41.6397,-41.8625,-42.0847, -42.3079,-42.6431,-42.8666,-43.0901, -43.3138,-43.6494,-43.8732,-44.0933, -44.3104,-44.5272,-44.7444,-44.9612, -45.2859,-45.6112,-45.8292,-46.1543, -46.3717,-46.6985,-46.9164,-47.1342, -47.3522,-47.6792,-48.0064,-48.2246, -48.443,-48.6613,-48.9887,-48.9992)
FOOTPRINT_POINT_LONGITUDE = (212.739,212.487,212.014,211.762, 211.471,211.488,211.505,211.53,211.554, 211.57,211.585,211.607,211.629,211.649, 211.669,211.683,211.696,211.708,211.72, 211.731,211.74,211.752,211.765,211.783, 211.792,211.803,211.814,211.823,211.834 ,211.845,211.855,211.865,211.874, 211.883,211.896,211.904,211.913,211.92, 211.929,211.936,211.946,211.952,211.959 ,211.967,211.975,211.985,211.992, 211.999,212.001,212.266,212.517,212.932 ,213.23,213.581,213.576,213.57,213.564, 213.558,213.553,213.546,213.54,213.53, 213.52,213.513,213.507,213.501,213.494, 213.487,213.483,213.477,213.47,213.461, 213.454,213.443,213.436,213.428,213.421 ,213.409,213.401,213.396,213.389, 213.381,213.373,213.364,213.349,213.334 ,213.327,213.311,213.302,213.289,213.28 ,213.271,213.262,213.248,213.234, 213.224,213.215,213.205,213.189, 212.739)
ORBIT_NUMBER = 12692
ORBITAL_ECCENTRICITY = 0.577
ORBITAL_INCLINATION = 86.91
ORBITAL_SEMIMAJOR_AXIS = 8792.14
PERIAPSIS_ALTITUDE = 330.57
PERIAPSIS_ARGUMENT_ANGLE = 309.12
PERIAPSIS_TIME = 2013-12-27T14:25:28.000Z
SPACECRAFT_ORIENTATION = (0.0,1.0,0.0)
^MEX_ORIENTATION_DESC = "MEX_ORIENTATION_DESC.TXT"
SPACECRAFT_POINTING_MODE = NADIR
^MEX_POINTING_DESC = "MEX_POINTING_DESC.TXT"
RIGHT_ASCENSION = -1e+32
DECLINATION = -1e+32
OFFSET_ANGLE = -1e+32
SPACECRAFT_SOLAR_DISTANCE = 2.49209e+08
TARGET_NAME = MARS
/* CAMERA DATA ELEMENTS */
DETECTOR_TEMPERATURE = 18.1666
FOCAL_PLANE_TEMPERATURE = 8.1755
INST_CMPRS_NAME = "DISCRETE COSINE TRANSFORMATION (DCT)"
INST_CMPRS_RATIO = 4.18533
INST_CMPRS_QUALITY = 0
INST_CMPRS_QUANTZ_TBL_ID = 0
INSTRUMENT_TEMPERATURE = 9.8067
LENS_TEMPERATURE = 8.7872
MACROPIXEL_SIZE = 8
MISSING_FRAMES = 0
PIXEL_SUBSAMPLING_FLAG = N
SIGNAL_CHAIN_ID = 2
/* RADIOMETRIC DATA ELEMENTS */
BANDWIDTH = 88.0
CENTER_FILTER_WAVELENGTH = 538.0
RADIANCE_OFFSET = 0.0656878
RADIANCE_SCALING_FACTOR = 0.00475127
REFLECTANCE_SCALING_FACTOR = 0.000254054
MEX:REFLECTANCE_OFFSET = 0.00351238
/* IMAGE OBJECT DEFINITIONS */
OBJECT = IMAGE
  INTERCHANGE_FORMAT = BINARY
  LINES = 6624
  LINE_SAMPLES = 897
  SAMPLE_TYPE = UNSIGNED_INTEGER
  SAMPLE_BITS = 8
  BANDS = 1
  BAND_STORAGE_TYPE = BAND_SEQUENTIAL
  MAXIMUM = 255
  MEAN = 78.7123
  MINIMUM = 1
  STANDARD_DEVIATION = 26.5463
END_OBJECT = IMAGE
/* MAP OBJECT DEFINITIONS */
OBJECT = IMAGE_MAP_PROJECTION
  ^DATA_SET_MAP_PROJECTION_CATALOG= "DSMAP.CAT"
  A_AXIS_RADIUS = 3396.0
  B_AXIS_RADIUS = 3396.0
  C_AXIS_RADIUS = 3396.0
  CENTER_LATITUDE = 0.0
  CENTER_LONGITUDE = 213.0
  COORDINATE_SYSTEM_NAME = PLANETOGRAPHIC
  COORDINATE_SYSTEM_TYPE = "BODY-FIXED ROTATING"
  EASTERNMOST_LONGITUDE = 213.581
  FIRST_STANDARD_PARALLEL = "N/A"
  LINE_FIRST_PIXEL = 1
  LINE_LAST_PIXEL = 6624
  LINE_PROJECTION_OFFSET = -22434.1875
  MAP_PROJECTION_ROTATION = 0.0
  MAP_PROJECTION_TYPE = SINUSOIDAL
  MAP_RESOLUTION = 592.713803866667
  MAP_SCALE = 0.1
  MAXIMUM_LATITUDE = -37.8489
  MINIMUM_LATITUDE = -48.9992
  POSITIVE_LONGITUDE_DIRECTION = EAST
  REFERENCE_LATITUDE = "N/A"
  REFERENCE_LONGITUDE = "N/A"
  SAMPLE_FIRST_PIXEL = 1
  SAMPLE_LAST_PIXEL = 897
  SAMPLE_PROJECTION_OFFSET = 611.4375
  SECOND_STANDARD_PARALLEL = "N/A"
  WESTERNMOST_LONGITUDE = 211.471
END_OBJECT = IMAGE_MAP_PROJECTION
/* The JPEG2000 image data file associated with this label. */
OBJECT = COMPRESSED_FILE
  FILE_NAME = "HC692_0000_GR3.JP2"
  RECORD_TYPE = UNDEFINED
  FILE_RECORDS = UNK
  ENCODING_TYPE = "JP2"
  INTERCHANGE_FORMAT = BINARY
  UNCOMPRESSED_FILE_NAME = "HC692_0000_GR3.IMG"
  REQUIRED_STORAGE_BYTES = "5959668"
  ^DESCRIPTION = "JP2INFO.TXT"
END_OBJECT = COMPRESSED_FILE
END
