PDS_VERSION_ID = PDS3
/* FILE DATA ELEMENTS */
RECORD_TYPE = STREAM
/* POINTERS TO DATA OBJECTS */
^COMPRESSED_FILE = "HC692_0000_P23.JP2"
/* IDENTIFICATION DATA ELEMENTS */
DATA_SET_ID = "MEX-M-HRSC-5-REFDR-MAPPROJECTED-V3.0"
DATA_SET_NAME = "MARS EXPRESS HRSC MAP PROJECTED REFDR V3.0"
DETECTOR_ID = MEX_HRSC_P2
EVENT_TYPE = "MARS-REGIONAL-MAPPING-Im-Lc-Ot"
INSTRUMENT_HOST_ID = MEX
INSTRUMENT_HOST_NAME = "MARS EXPRESS"
INSTRUMENT_ID = HRSC
INSTRUMENT_NAME = "HIGH RESOLUTION STEREO CAMERA"
MISSION_NAME = "MARS EXPRESS"
MISSION_PHASE_NAME = ME_Phase_29
PROCESSING_LEVEL_ID = 3
PRODUCT_CREATION_TIME = 2016-10-28T21:13:36.000Z
PRODUCT_ID = "HC692_0000_P23.JP2"
RELEASE_ID = 0120
REVISION_ID = 0000
/* QUALITY DATA ELEMENTS */
DATA_QUALITY_ID = 1
DATA_QUALITY_DESC = "Data calculated based on original SPICE kernels"
/* TIME DATA ELEMENTS */
SPACECRAFT_CLOCK_START_COUNT = "1/0336234321.07294"
SPACECRAFT_CLOCK_STOP_COUNT = "1/0336234557.32459"
START_TIME = 2013-12-27T14:25:35.888Z
STOP_TIME = 2013-12-27T14:28:25.019Z
/* ORBITAL DATA ELEMENTS */
ASCENDING_NODE_LONGITUDE = 335.48
MAXIMUM_RESOLUTION = 26.8
FOOTPRINT_POINT_LATITUDE = (-49.0678,-49.0583,-49.043,-48.9897, -48.7722,-48.5543,-48.3365,-48.1187, -47.9014,-47.6834,-47.3568,-47.1384, -46.9201,-46.7014,-46.4826,-46.2637, -45.9355,-45.7174,-45.4985,-45.2798, -45.061,-44.8397,-44.6183,-44.2923, -44.0754,-43.8552,-43.6346,-43.4152, -43.1963,-42.9768,-42.7581,-42.5414, -42.3232,-42.0986,-41.8724,-41.5333, -41.1934,-40.9684,-40.7406,-40.5124, -40.1704,-39.8299,-39.603,-39.3767, -39.0358,-38.8124,-38.5876,-38.3644, -38.1399,-37.9101,-37.8793,-37.8829, -37.8895,-38.1186,-38.3456,-38.5725, -38.7992,-39.0263,-39.2536,-39.4813, -39.7095,-40.0509,-40.2787,-40.5049, -40.7319,-41.0723,-41.4077,-41.6341, -41.8615,-42.0918,-42.3186,-42.5377, -42.757,-42.9766,-43.3063,-43.5261, -43.7455,-43.965,-44.1799,-44.3995, -44.6187,-44.8384,-45.0592,-45.2837, -45.5055,-45.7221,-45.946,-46.2754, -46.6044,-46.8218,-47.0406,-47.2595, -47.4777,-47.6967,-48.0241,-48.2424, -48.4596,-48.6781,-48.8958,-49.0678)
FOOTPRINT_POINT_LONGITUDE = (212.85,212.471,211.96,211.44,211.458, 211.475,211.493,211.509,211.526,211.542 ,211.567,211.582,211.597,211.612, 211.626,211.64,211.66,211.674,211.687, 211.7,211.713,211.724,211.735,211.754, 211.767,211.777,211.787,211.798,211.809 ,211.819,211.829,211.84,211.85,211.86, 211.87,211.884,211.897,211.906,211.914, 211.921,211.932,211.942,211.949,211.956 ,211.966,211.974,211.981,211.989, 211.996,211.999,212.377,212.74,213.316, 213.559,213.554,213.548,213.543,213.537 ,213.531,213.524,213.518,213.508, 213.501,213.496,213.489,213.48,213.473, 213.467,213.46,213.451,213.444,213.438, 213.431,213.424,213.413,213.406,213.399 ,213.392,213.387,213.38,213.372,213.364 ,213.355,213.344,213.334,213.328, 213.316,213.303,213.29,213.282,213.273, 213.264,213.256,213.246,213.233,213.223 ,213.215,213.205,213.195,212.85)
ORBIT_NUMBER = 12692
ORBITAL_ECCENTRICITY = 0.577
ORBITAL_INCLINATION = 86.91
ORBITAL_SEMIMAJOR_AXIS = 8792.14
PERIAPSIS_ALTITUDE = 330.57
PERIAPSIS_ARGUMENT_ANGLE = 309.12
PERIAPSIS_TIME = 2013-12-27T14:25:28.000Z
SPACECRAFT_ORIENTATION = (0.0,1.0,0.0)
^MEX_ORIENTATION_DESC = "MEX_ORIENTATION_DESC.TXT"
SPACECRAFT_POINTING_MODE = NADIR
^MEX_POINTING_DESC = "MEX_POINTING_DESC.TXT"
RIGHT_ASCENSION = -1e+32
DECLINATION = -1e+32
OFFSET_ANGLE = -1e+32
SPACECRAFT_SOLAR_DISTANCE = 2.49209e+08
TARGET_NAME = MARS
/* CAMERA DATA ELEMENTS */
DETECTOR_TEMPERATURE = 18.3705
FOCAL_PLANE_TEMPERATURE = 8.1755
INST_CMPRS_NAME = "DISCRETE COSINE TRANSFORMATION (DCT)"
INST_CMPRS_RATIO = 3.87343
INST_CMPRS_QUALITY = 0
INST_CMPRS_QUANTZ_TBL_ID = 0
INSTRUMENT_TEMPERATURE = 9.8067
LENS_TEMPERATURE = 8.7872
MACROPIXEL_SIZE = 2
MISSING_FRAMES = 0
PIXEL_SUBSAMPLING_FLAG = N
SIGNAL_CHAIN_ID = 3
/* RADIOMETRIC DATA ELEMENTS */
BANDWIDTH = 177.0
CENTER_FILTER_WAVELENGTH = 676.5
RADIANCE_OFFSET = 0.0986505
RADIANCE_SCALING_FACTOR = 0.0157067
REFLECTANCE_SCALING_FACTOR = 0.000517214
MEX:REFLECTANCE_OFFSET = 0.00324851
/* IMAGE OBJECT DEFINITIONS */
OBJECT = IMAGE
  INTERCHANGE_FORMAT = BINARY
  LINES = 26493
  LINE_SAMPLES = 3586
  SAMPLE_TYPE = UNSIGNED_INTEGER
  SAMPLE_BITS = 8
  BANDS = 1
  BAND_STORAGE_TYPE = BAND_SEQUENTIAL
  MAXIMUM = 255
  MEAN = 69.2556
  MINIMUM = 1
  STANDARD_DEVIATION = 26.1999
END_OBJECT = IMAGE
/* MAP OBJECT DEFINITIONS */
OBJECT = IMAGE_MAP_PROJECTION
  ^DATA_SET_MAP_PROJECTION_CATALOG= "DSMAP.CAT"
  A_AXIS_RADIUS = 3396.0
  B_AXIS_RADIUS = 3396.0
  C_AXIS_RADIUS = 3396.0
  CENTER_LATITUDE = 0.0
  CENTER_LONGITUDE = 213.0
  COORDINATE_SYSTEM_NAME = PLANETOGRAPHIC
  COORDINATE_SYSTEM_TYPE = "BODY-FIXED ROTATING"
  EASTERNMOST_LONGITUDE = 213.559
  FIRST_STANDARD_PARALLEL = "N/A"
  LINE_FIRST_PIXEL = 1
  LINE_LAST_PIXEL = 26493
  LINE_PROJECTION_OFFSET = -89735.25
  MAP_PROJECTION_ROTATION = 0.0
  MAP_PROJECTION_TYPE = SINUSOIDAL
  MAP_RESOLUTION = 2370.85521546667
  MAP_SCALE = 0.025
  MAXIMUM_LATITUDE = -37.8793
  MINIMUM_LATITUDE = -49.0678
  POSITIVE_LONGITUDE_DIRECTION = EAST
  REFERENCE_LATITUDE = "N/A"
  REFERENCE_LONGITUDE = "N/A"
  SAMPLE_FIRST_PIXEL = 1
  SAMPLE_LAST_PIXEL = 3586
  SAMPLE_PROJECTION_OFFSET = 2447.25
  SECOND_STANDARD_PARALLEL = "N/A"
  WESTERNMOST_LONGITUDE = 211.44
END_OBJECT = IMAGE_MAP_PROJECTION
/* The JPEG2000 image data file associated with this label. */
OBJECT = COMPRESSED_FILE
  FILE_NAME = "HC692_0000_P23.JP2"
  RECORD_TYPE = UNDEFINED
  FILE_RECORDS = UNK
  ENCODING_TYPE = "JP2"
  INTERCHANGE_FORMAT = BINARY
  UNCOMPRESSED_FILE_NAME = "HC692_0000_P23.IMG"
  REQUIRED_STORAGE_BYTES = "95025414"
  ^DESCRIPTION = "JP2INFO.TXT"
END_OBJECT = COMPRESSED_FILE
END
