PDS_VERSION_ID = PDS3
/* FILE DATA ELEMENTS */
RECORD_TYPE = STREAM
/* POINTERS TO DATA OBJECTS */
^COMPRESSED_FILE = "HC705_0000_IR3.JP2"
/* IDENTIFICATION DATA ELEMENTS */
DATA_SET_ID = "MEX-M-HRSC-5-REFDR-MAPPROJECTED-V3.0"
DATA_SET_NAME = "MARS EXPRESS HRSC MAP PROJECTED REFDR V3.0"
DETECTOR_ID = MEX_HRSC_IR
EVENT_TYPE = "MARS-REGIONAL-STEREO-Im-Fl"
INSTRUMENT_HOST_ID = MEX
INSTRUMENT_HOST_NAME = "MARS EXPRESS"
INSTRUMENT_ID = HRSC
INSTRUMENT_NAME = "HIGH RESOLUTION STEREO CAMERA"
MISSION_NAME = "MARS EXPRESS"
MISSION_PHASE_NAME = ME_Phase_29
PROCESSING_LEVEL_ID = 3
PRODUCT_CREATION_TIME = 2016-10-28T21:13:36.000Z
PRODUCT_ID = "HC705_0000_IR3.JP2"
RELEASE_ID = 0120
REVISION_ID = 0000
/* QUALITY DATA ELEMENTS */
DATA_QUALITY_ID = 1
DATA_QUALITY_DESC = "Data calculated based on original SPICE kernels"
/* TIME DATA ELEMENTS */
SPACECRAFT_CLOCK_START_COUNT = "1/0336561597.07320"
SPACECRAFT_CLOCK_STOP_COUNT = "1/0336561823.63304"
START_TIME = 2013-12-31T09:21:10.763Z
STOP_TIME = 2013-12-31T09:23:37.387Z
/* ORBITAL DATA ELEMENTS */
ASCENDING_NODE_LONGITUDE = 335.24
MAXIMUM_RESOLUTION = 138.5
FOOTPRINT_POINT_LATITUDE = (-34.8301,-34.8402,-34.8501,-34.8598, -34.8693,-34.8786,-34.7522,-34.4318, -34.1928,-33.879,-33.7147,-33.548, -33.3861,-33.2251,-32.9028,-32.7375, -32.4896,-32.3248,-32.1606,-31.9964, -31.7467,-31.5785,-31.4112,-31.1603, -30.993,-30.7378,-30.567,-30.3968, -30.2268,-30.0569,-29.8839,-29.7104, -29.4525,-29.2777,-29.1051,-28.9312, -28.752,-28.5764,-28.4013,-28.1338, -27.9554,-27.7772,-27.5993,-27.4188, -27.2375,-27.0565,-26.8758,-26.693, -26.5095,-26.3981,-26.3817,-26.3614, -26.3473,-26.3342,-26.3251,-26.4057, -26.5905,-26.7729,-26.9539,-27.141, -27.3274,-27.5085,-27.6803,-27.8576, -28.1269,-28.3069,-28.4842,-28.6612, -28.8411,-29.0195,-29.1922,-29.3582, -29.5298,-29.7038,-29.8777,-30.0524, -30.3176,-30.4887,-30.6598,-30.8304, -30.9967,-31.1642,-31.329,-31.5815, -31.7496,-31.9164,-32.0788,-32.2432, -32.4131,-32.5825,-32.749,-32.9122, -33.234,-33.4748,-33.7931,-34.1131, -34.3517,-34.6692,-34.8396,-34.8301)
FOOTPRINT_POINT_LONGITUDE = (322.961,322.696,322.425,322.15,321.87, 321.584,321.354,321.368,321.377,321.379 ,321.387,321.399,321.403,321.407, 321.414,321.419,321.426,321.43,321.433, 321.437,321.443,321.447,321.45,321.455, 321.459,321.464,321.468,321.471,321.473 ,321.476,321.479,321.482,321.484, 321.489,321.489,321.489,321.495,321.497 ,321.499,321.501,321.503,321.504, 321.506,321.507,321.508,321.509,321.51, 321.511,321.511,321.649,322.027,322.494 ,322.799,323.082,323.268,323.553, 323.547,323.541,323.535,323.526,323.518 ,323.512,323.508,323.502,323.492, 323.485,323.477,323.47,323.462,323.455, 323.449,323.445,323.439,323.432,323.426 ,323.418,323.403,323.396,323.389, 323.382,323.376,323.369,323.364,323.353 ,323.346,323.339,323.333,323.326, 323.316,323.307,323.299,323.292,323.279 ,323.269,323.258,323.243,323.232, 323.218,323.204,322.961)
ORBIT_NUMBER = 12705
ORBITAL_ECCENTRICITY = 0.577
ORBITAL_INCLINATION = 86.91
ORBITAL_SEMIMAJOR_AXIS = 8787.76
PERIAPSIS_ALTITUDE = 330.74
PERIAPSIS_ARGUMENT_ANGLE = 306.91
PERIAPSIS_TIME = 2013-12-31T09:16:00.000Z
SPACECRAFT_ORIENTATION = (0.0,1.0,0.0)
^MEX_ORIENTATION_DESC = "MEX_ORIENTATION_DESC.TXT"
SPACECRAFT_POINTING_MODE = ACROSSTRACK
^MEX_POINTING_DESC = "MEX_POINTING_DESC.TXT"
RIGHT_ASCENSION = -1e+32
DECLINATION = -1e+32
OFFSET_ANGLE = 1.616
SPACECRAFT_SOLAR_DISTANCE = 2.49234e+08
TARGET_NAME = MARS
/* CAMERA DATA ELEMENTS */
DETECTOR_TEMPERATURE = 17.7588
FOCAL_PLANE_TEMPERATURE = 8.5833
INST_CMPRS_NAME = "DISCRETE COSINE TRANSFORMATION (DCT)"
INST_CMPRS_RATIO = 13.065
INST_CMPRS_QUALITY = 0
INST_CMPRS_QUANTZ_TBL_ID = 0
INSTRUMENT_TEMPERATURE = 11.4379
LENS_TEMPERATURE = 8.7872
MACROPIXEL_SIZE = 8
MISSING_FRAMES = 0
PIXEL_SUBSAMPLING_FLAG = N
SIGNAL_CHAIN_ID = 2
/* RADIOMETRIC DATA ELEMENTS */
BANDWIDTH = 81.0
CENTER_FILTER_WAVELENGTH = 955.5
RADIANCE_OFFSET = 0.0
RADIANCE_SCALING_FACTOR = 0.00312986
REFLECTANCE_SCALING_FACTOR = 0.000419439
MEX:REFLECTANCE_OFFSET = 0.0
/* IMAGE OBJECT DEFINITIONS */
OBJECT = IMAGE
  INTERCHANGE_FORMAT = BINARY
  LINES = 5086
  LINE_SAMPLES = 1164
  SAMPLE_TYPE = UNSIGNED_INTEGER
  SAMPLE_BITS = 8
  BANDS = 1
  BAND_STORAGE_TYPE = BAND_SEQUENTIAL
  MAXIMUM = 254
  MEAN = 118.333
  MINIMUM = 1
  STANDARD_DEVIATION = 20.8123
END_OBJECT = IMAGE
/* MAP OBJECT DEFINITIONS */
OBJECT = IMAGE_MAP_PROJECTION
  ^DATA_SET_MAP_PROJECTION_CATALOG= "DSMAP.CAT"
  A_AXIS_RADIUS = 3396.0
  B_AXIS_RADIUS = 3396.0
  C_AXIS_RADIUS = 3396.0
  CENTER_LATITUDE = 0.0
  CENTER_LONGITUDE = 322.0
  COORDINATE_SYSTEM_NAME = PLANETOGRAPHIC
  COORDINATE_SYSTEM_TYPE = "BODY-FIXED ROTATING"
  EASTERNMOST_LONGITUDE = 323.553
  FIRST_STANDARD_PARALLEL = "N/A"
  LINE_FIRST_PIXEL = 1
  LINE_LAST_PIXEL = 5086
  LINE_PROJECTION_OFFSET = -15617.6875
  MAP_PROJECTION_ROTATION = 0.0
  MAP_PROJECTION_TYPE = SINUSOIDAL
  MAP_RESOLUTION = 592.713803866667
  MAP_SCALE = 0.1
  MAXIMUM_LATITUDE = -26.3251
  MINIMUM_LATITUDE = -34.8786
  POSITIVE_LONGITUDE_DIRECTION = EAST
  REFERENCE_LATITUDE = "N/A"
  REFERENCE_LONGITUDE = "N/A"
  SAMPLE_FIRST_PIXEL = 1
  SAMPLE_LAST_PIXEL = 1164
  SAMPLE_PROJECTION_OFFSET = 362.5625
  SECOND_STANDARD_PARALLEL = "N/A"
  WESTERNMOST_LONGITUDE = 321.354
END_OBJECT = IMAGE_MAP_PROJECTION
/* The JPEG2000 image data file associated with this label. */
OBJECT = COMPRESSED_FILE
  FILE_NAME = "HC705_0000_IR3.JP2"
  RECORD_TYPE = UNDEFINED
  FILE_RECORDS = UNK
  ENCODING_TYPE = "JP2"
  INTERCHANGE_FORMAT = BINARY
  UNCOMPRESSED_FILE_NAME = "HC705_0000_IR3.IMG"
  REQUIRED_STORAGE_BYTES = "5939892"
  ^DESCRIPTION = "JP2INFO.TXT"
END_OBJECT = COMPRESSED_FILE
END
