PDS_VERSION_ID = PDS3
/* FILE DATA ELEMENTS */
RECORD_TYPE = STREAM
/* POINTERS TO DATA OBJECTS */
^COMPRESSED_FILE = "HC705_0000_ND3.JP2"
/* IDENTIFICATION DATA ELEMENTS */
DATA_SET_ID = "MEX-M-HRSC-5-REFDR-MAPPROJECTED-V3.0"
DATA_SET_NAME = "MARS EXPRESS HRSC MAP PROJECTED REFDR V3.0"
DETECTOR_ID = MEX_HRSC_NADIR
EVENT_TYPE = "MARS-REGIONAL-STEREO-Im-Fl"
INSTRUMENT_HOST_ID = MEX
INSTRUMENT_HOST_NAME = "MARS EXPRESS"
INSTRUMENT_ID = HRSC
INSTRUMENT_NAME = "HIGH RESOLUTION STEREO CAMERA"
MISSION_NAME = "MARS EXPRESS"
MISSION_PHASE_NAME = ME_Phase_29
PROCESSING_LEVEL_ID = 3
PRODUCT_CREATION_TIME = 2016-10-28T21:13:36.000Z
PRODUCT_ID = "HC705_0000_ND3.JP2"
RELEASE_ID = 0120
REVISION_ID = 0000
/* QUALITY DATA ELEMENTS */
DATA_QUALITY_ID = 1
DATA_QUALITY_DESC = "Data calculated based on original SPICE kernels"
/* TIME DATA ELEMENTS */
SPACECRAFT_CLOCK_START_COUNT = "1/0336561597.07320"
SPACECRAFT_CLOCK_STOP_COUNT = "1/0336561823.63304"
START_TIME = 2013-12-31T09:20:37.918Z
STOP_TIME = 2013-12-31T09:22:55.897Z
/* ORBITAL DATA ELEMENTS */
ASCENDING_NODE_LONGITUDE = 335.24
MAXIMUM_RESOLUTION = 15.9
FOOTPRINT_POINT_LATITUDE = (-34.9256,-34.9193,-34.9123,-34.9046, -34.896,-34.8866,-34.6389,-34.3231, -34.1611,-33.999,-33.6755,-33.3523, -33.0295,-32.864,-32.6987,-32.5335, -32.3684,-32.2034,-32.0386,-31.8739, -31.6221,-31.4535,-31.285,-31.1167, -30.9485,-30.7804,-30.5239,-30.352, -30.1802,-30.0086,-29.8371,-29.6658, -29.4033,-29.2282,-29.0532,-28.8784, -28.7039,-28.4371,-28.2587,-28.0805, -27.9025,-27.7247,-27.5433,-27.3617, -27.1803,-26.999,-26.818,-26.5411, -26.3565,-26.3548,-26.3603,-26.3652, -26.368,-26.3716,-26.3742,-26.5607, -26.8386,-27.0201,-27.2019,-27.3838, -27.5659,-27.7481,-27.9265,-28.105, -28.2837,-28.4625,-28.7302,-28.9053, -29.0806,-29.2561,-29.4317,-29.6951, -29.8669,-30.0389,-30.2108,-30.3831, -30.5555,-30.8129,-30.9815,-31.1502, -31.319,-31.488,-31.657,-31.9097, -32.0748,-32.2401,-32.4055,-32.571, -32.7366,-32.9024,-33.1494,-33.3113, -33.4733,-33.6353,-33.7975,-33.9598, -34.1222,-34.2846,-34.6827,-34.9256)
FOOTPRINT_POINT_LONGITUDE = (323.057,322.79,322.517,322.24,321.957, 321.668,321.387,321.401,321.406,321.407 ,321.422,321.434,321.443,321.447, 321.452,321.457,321.462,321.466,321.47, 321.474,321.481,321.485,321.489,321.493 ,321.497,321.5,321.506,321.51,321.513, 321.516,321.52,321.523,321.527,321.531, 321.532,321.532,321.539,321.543,321.545 ,321.547,321.549,321.551,321.553, 321.554,321.557,321.558,321.56,321.562, 321.562,321.921,322.234,322.561,322.77, 323.088,323.364,323.494,323.487,323.478 ,323.471,323.464,323.459,323.456,323.45 ,323.444,323.437,323.431,323.421, 323.413,323.407,323.402,323.398,323.389 ,323.383,323.377,323.365,323.358, 323.352,323.342,323.337,323.33,323.325, 323.318,323.312,323.302,323.296,323.289 ,323.279,323.271,323.264,323.257, 323.248,323.242,323.237,323.231,323.226 ,323.219,323.211,323.204,323.186, 323.057)
ORBIT_NUMBER = 12705
ORBITAL_ECCENTRICITY = 0.577
ORBITAL_INCLINATION = 86.91
ORBITAL_SEMIMAJOR_AXIS = 8787.76
PERIAPSIS_ALTITUDE = 330.74
PERIAPSIS_ARGUMENT_ANGLE = 306.91
PERIAPSIS_TIME = 2013-12-31T09:16:00.000Z
SPACECRAFT_ORIENTATION = (0.0,1.0,0.0)
^MEX_ORIENTATION_DESC = "MEX_ORIENTATION_DESC.TXT"
SPACECRAFT_POINTING_MODE = ACROSSTRACK
^MEX_POINTING_DESC = "MEX_POINTING_DESC.TXT"
RIGHT_ASCENSION = -1e+32
DECLINATION = -1e+32
OFFSET_ANGLE = 1.616
SPACECRAFT_SOLAR_DISTANCE = 2.49234e+08
TARGET_NAME = MARS
/* CAMERA DATA ELEMENTS */
DETECTOR_TEMPERATURE = 18.3705
FOCAL_PLANE_TEMPERATURE = 8.5833
INST_CMPRS_NAME = "DISCRETE COSINE TRANSFORMATION (DCT)"
INST_CMPRS_RATIO = 7.13694
INST_CMPRS_QUALITY = 0
INST_CMPRS_QUANTZ_TBL_ID = 0
INSTRUMENT_TEMPERATURE = 11.4379
LENS_TEMPERATURE = 8.7872
MACROPIXEL_SIZE = 1
MISSING_FRAMES = 0
PIXEL_SUBSAMPLING_FLAG = N
SIGNAL_CHAIN_ID = 0
/* RADIOMETRIC DATA ELEMENTS */
BANDWIDTH = 177.0
CENTER_FILTER_WAVELENGTH = 677.5
RADIANCE_OFFSET = 0.0
RADIANCE_SCALING_FACTOR = 0.0129625
REFLECTANCE_SCALING_FACTOR = 0.000427746
MEX:REFLECTANCE_OFFSET = 0.0
/* IMAGE OBJECT DEFINITIONS */
OBJECT = IMAGE
  INTERCHANGE_FORMAT = BINARY
  LINES = 40684
  LINE_SAMPLES = 9309
  SAMPLE_TYPE = UNSIGNED_INTEGER
  SAMPLE_BITS = 8
  BANDS = 1
  BAND_STORAGE_TYPE = BAND_SEQUENTIAL
  MAXIMUM = 255
  MEAN = 117.204
  MINIMUM = 1
  STANDARD_DEVIATION = 20.361
END_OBJECT = IMAGE
/* MAP OBJECT DEFINITIONS */
OBJECT = IMAGE_MAP_PROJECTION
  ^DATA_SET_MAP_PROJECTION_CATALOG= "DSMAP.CAT"
  A_AXIS_RADIUS = 3396.0
  B_AXIS_RADIUS = 3396.0
  C_AXIS_RADIUS = 3396.0
  CENTER_LATITUDE = 0.0
  CENTER_LONGITUDE = 322.0
  COORDINATE_SYSTEM_NAME = PLANETOGRAPHIC
  COORDINATE_SYSTEM_TYPE = "BODY-FIXED ROTATING"
  EASTERNMOST_LONGITUDE = 323.494
  FIRST_STANDARD_PARALLEL = "N/A"
  LINE_FIRST_PIXEL = 1
  LINE_LAST_PIXEL = 40684
  LINE_PROJECTION_OFFSET = -124938.0
  MAP_PROJECTION_ROTATION = 0.0
  MAP_PROJECTION_TYPE = SINUSOIDAL
  MAP_RESOLUTION = 4741.71043093333
  MAP_SCALE = 0.0125
  MAXIMUM_LATITUDE = -26.3548
  MINIMUM_LATITUDE = -34.9256
  POSITIVE_LONGITUDE_DIRECTION = EAST
  REFERENCE_LATITUDE = "N/A"
  REFERENCE_LONGITUDE = "N/A"
  SAMPLE_FIRST_PIXEL = 1
  SAMPLE_LAST_PIXEL = 9309
  SAMPLE_PROJECTION_OFFSET = 2904.0
  SECOND_STANDARD_PARALLEL = "N/A"
  WESTERNMOST_LONGITUDE = 321.387
END_OBJECT = IMAGE_MAP_PROJECTION
/* The JPEG2000 image data file associated with this label. */
OBJECT = COMPRESSED_FILE
  FILE_NAME = "HC705_0000_ND3.JP2"
  RECORD_TYPE = UNDEFINED
  FILE_RECORDS = UNK
  ENCODING_TYPE = "JP2"
  INTERCHANGE_FORMAT = BINARY
  UNCOMPRESSED_FILE_NAME = "HC705_0000_ND3.IMG"
  REQUIRED_STORAGE_BYTES = "378764592"
  ^DESCRIPTION = "JP2INFO.TXT"
END_OBJECT = COMPRESSED_FILE
END
