PDS_VERSION_ID = PDS3
/* FILE DATA ELEMENTS */
RECORD_TYPE = STREAM
/* POINTERS TO DATA OBJECTS */
^COMPRESSED_FILE = "HC705_0000_P13.JP2"
/* IDENTIFICATION DATA ELEMENTS */
DATA_SET_ID = "MEX-M-HRSC-5-REFDR-MAPPROJECTED-V3.0"
DATA_SET_NAME = "MARS EXPRESS HRSC MAP PROJECTED REFDR V3.0"
DETECTOR_ID = MEX_HRSC_P1
EVENT_TYPE = "MARS-REGIONAL-STEREO-Im-Fl"
INSTRUMENT_HOST_ID = MEX
INSTRUMENT_HOST_NAME = "MARS EXPRESS"
INSTRUMENT_ID = HRSC
INSTRUMENT_NAME = "HIGH RESOLUTION STEREO CAMERA"
MISSION_NAME = "MARS EXPRESS"
MISSION_PHASE_NAME = ME_Phase_29
PROCESSING_LEVEL_ID = 3
PRODUCT_CREATION_TIME = 2016-10-28T21:13:36.000Z
PRODUCT_ID = "HC705_0000_P13.JP2"
RELEASE_ID = 0120
REVISION_ID = 0000
/* QUALITY DATA ELEMENTS */
DATA_QUALITY_ID = 1
DATA_QUALITY_DESC = "Data calculated based on original SPICE kernels"
/* TIME DATA ELEMENTS */
SPACECRAFT_CLOCK_START_COUNT = "1/0336561597.07320"
SPACECRAFT_CLOCK_STOP_COUNT = "1/0336561823.63304"
START_TIME = 2013-12-31T09:21:03.553Z
STOP_TIME = 2013-12-31T09:23:28.131Z
/* ORBITAL DATA ELEMENTS */
ASCENDING_NODE_LONGITUDE = 335.24
MAXIMUM_RESOLUTION = 33.7
FOOTPRINT_POINT_LATITUDE = (-34.8507,-34.8579,-34.8648,-34.8714, -34.8777,-34.8837,-34.8893,-34.6771, -34.5156,-34.3539,-34.192,-33.875, -33.7122,-33.4695,-33.3062,-33.1427, -32.8978,-32.7344,-32.4894,-32.3235, -32.1569,-31.9071,-31.7406,-31.5742, -31.3233,-31.069,-30.8993,-30.7301, -30.4766,-30.3041,-30.0454,-29.8734, -29.7013,-29.5314,-29.3533,-29.1779, -29.0053,-28.8298,-28.6529,-28.4749, -28.297,-28.1192,-27.9418,-27.7624, -27.5815,-27.4011,-27.2205,-27.0403, -26.8565,-26.6731,-26.4902,-26.3917, -26.3824,-26.3717,-26.3611,-26.3538, -26.3434,-26.3326,-26.5166,-26.6994, -26.8846,-27.1637,-27.3462,-27.5263, -27.7929,-27.9704,-28.1493,-28.329, -28.5983,-28.7768,-28.9534,-29.1285, -29.3013,-29.5592,-29.7311,-29.9037, -30.0785,-30.259,-30.4322,-30.6017, -30.7711,-30.9388,-31.1089,-31.2771, -31.5282,-31.7783,-32.0275,-32.1939, -32.3622,-32.6135,-32.7786,-32.943, -33.1055,-33.3488,-33.5098,-33.8272, -34.0687,-34.2298,-34.5502,-34.8507)
FOOTPRINT_POINT_LONGITUDE = (323.216,322.947,322.673,322.394,322.11 ,321.82,321.525,321.353,321.359,321.366 ,321.374,321.376,321.386,321.396,321.4, 321.404,321.41,321.414,321.421,321.425, 321.429,321.435,321.439,321.443,321.449 ,321.454,321.457,321.461,321.466, 321.469,321.473,321.476,321.479,321.478 ,321.485,321.487,321.486,321.489, 321.494,321.496,321.497,321.499,321.501 ,321.503,321.504,321.505,321.507, 321.508,321.509,321.51,321.51,321.778, 322.082,322.421,322.735,322.949,323.236 ,323.545,323.539,323.533,323.526, 323.514,323.507,323.501,323.494,323.488 ,323.481,323.474,323.464,323.456, 323.448,323.442,323.437,323.429,323.423 ,323.416,323.408,323.397,323.39,323.383 ,323.377,323.371,323.364,323.358, 323.348,323.338,323.328,323.321,323.314 ,323.299,323.291,323.284,323.278, 323.269,323.263,323.251,323.24,323.233, 323.219,323.216)
ORBIT_NUMBER = 12705
ORBITAL_ECCENTRICITY = 0.577
ORBITAL_INCLINATION = 86.91
ORBITAL_SEMIMAJOR_AXIS = 8787.76
PERIAPSIS_ALTITUDE = 330.74
PERIAPSIS_ARGUMENT_ANGLE = 306.91
PERIAPSIS_TIME = 2013-12-31T09:16:00.000Z
SPACECRAFT_ORIENTATION = (0.0,1.0,0.0)
^MEX_ORIENTATION_DESC = "MEX_ORIENTATION_DESC.TXT"
SPACECRAFT_POINTING_MODE = ACROSSTRACK
^MEX_POINTING_DESC = "MEX_POINTING_DESC.TXT"
RIGHT_ASCENSION = -1e+32
DECLINATION = -1e+32
OFFSET_ANGLE = 1.616
SPACECRAFT_SOLAR_DISTANCE = 2.49234e+08
TARGET_NAME = MARS
/* CAMERA DATA ELEMENTS */
DETECTOR_TEMPERATURE = 17.7588
FOCAL_PLANE_TEMPERATURE = 8.5833
INST_CMPRS_NAME = "DISCRETE COSINE TRANSFORMATION (DCT)"
INST_CMPRS_RATIO = 9.71805
INST_CMPRS_QUALITY = 0
INST_CMPRS_QUANTZ_TBL_ID = 0
INSTRUMENT_TEMPERATURE = 11.4379
LENS_TEMPERATURE = 8.7872
MACROPIXEL_SIZE = 2
MISSING_FRAMES = 0
PIXEL_SUBSAMPLING_FLAG = N
SIGNAL_CHAIN_ID = 3
/* RADIOMETRIC DATA ELEMENTS */
BANDWIDTH = 174.0
CENTER_FILTER_WAVELENGTH = 675.0
RADIANCE_OFFSET = 0.203929
RADIANCE_SCALING_FACTOR = 0.0137552
REFLECTANCE_SCALING_FACTOR = 0.000459587
MEX:REFLECTANCE_OFFSET = 0.00681365
/* IMAGE OBJECT DEFINITIONS */
OBJECT = IMAGE
  INTERCHANGE_FORMAT = BINARY
  LINES = 20342
  LINE_SAMPLES = 4655
  SAMPLE_TYPE = UNSIGNED_INTEGER
  SAMPLE_BITS = 8
  BANDS = 1
  BAND_STORAGE_TYPE = BAND_SEQUENTIAL
  MAXIMUM = 255
  MEAN = 118.091
  MINIMUM = 1
  STANDARD_DEVIATION = 20.0224
END_OBJECT = IMAGE
/* MAP OBJECT DEFINITIONS */
OBJECT = IMAGE_MAP_PROJECTION
  ^DATA_SET_MAP_PROJECTION_CATALOG= "DSMAP.CAT"
  A_AXIS_RADIUS = 3396.0
  B_AXIS_RADIUS = 3396.0
  C_AXIS_RADIUS = 3396.0
  CENTER_LATITUDE = 0.0
  CENTER_LONGITUDE = 322.0
  COORDINATE_SYSTEM_NAME = PLANETOGRAPHIC
  COORDINATE_SYSTEM_TYPE = "BODY-FIXED ROTATING"
  EASTERNMOST_LONGITUDE = 323.545
  FIRST_STANDARD_PARALLEL = "N/A"
  LINE_FIRST_PIXEL = 1
  LINE_LAST_PIXEL = 20342
  LINE_PROJECTION_OFFSET = -62469.25
  MAP_PROJECTION_ROTATION = 0.0
  MAP_PROJECTION_TYPE = SINUSOIDAL
  MAP_RESOLUTION = 2370.85521546667
  MAP_SCALE = 0.025
  MAXIMUM_LATITUDE = -26.3326
  MINIMUM_LATITUDE = -34.8893
  POSITIVE_LONGITUDE_DIRECTION = EAST
  REFERENCE_LATITUDE = "N/A"
  REFERENCE_LONGITUDE = "N/A"
  SAMPLE_FIRST_PIXEL = 1
  SAMPLE_LAST_PIXEL = 4655
  SAMPLE_PROJECTION_OFFSET = 1451.75
  SECOND_STANDARD_PARALLEL = "N/A"
  WESTERNMOST_LONGITUDE = 321.353
END_OBJECT = IMAGE_MAP_PROJECTION
/* The JPEG2000 image data file associated with this label. */
OBJECT = COMPRESSED_FILE
  FILE_NAME = "HC705_0000_P13.JP2"
  RECORD_TYPE = UNDEFINED
  FILE_RECORDS = UNK
  ENCODING_TYPE = "JP2"
  INTERCHANGE_FORMAT = BINARY
  UNCOMPRESSED_FILE_NAME = "HC705_0000_P13.IMG"
  REQUIRED_STORAGE_BYTES = "94719940"
  ^DESCRIPTION = "JP2INFO.TXT"
END_OBJECT = COMPRESSED_FILE
END
