PDS_VERSION_ID = PDS3
/* FILE DATA ELEMENTS */
RECORD_TYPE = STREAM
/* POINTERS TO DATA OBJECTS */
^COMPRESSED_FILE = "HC707_0000_P13.JP2"
/* IDENTIFICATION DATA ELEMENTS */
DATA_SET_ID = "MEX-M-HRSC-5-REFDR-MAPPROJECTED-V3.0"
DATA_SET_NAME = "MARS EXPRESS HRSC MAP PROJECTED REFDR V3.0"
DETECTOR_ID = MEX_HRSC_P1
EVENT_TYPE = "MARS-REGIONAL-STEREO-Im-Gl-Pf"
INSTRUMENT_HOST_ID = MEX
INSTRUMENT_HOST_NAME = "MARS EXPRESS"
INSTRUMENT_ID = HRSC
INSTRUMENT_NAME = "HIGH RESOLUTION STEREO CAMERA"
MISSION_NAME = "MARS EXPRESS"
MISSION_PHASE_NAME = ME_Phase_29
PROCESSING_LEVEL_ID = 3
PRODUCT_CREATION_TIME = 2016-10-28T21:13:36.000Z
PRODUCT_ID = "HC707_0000_P13.JP2"
RELEASE_ID = 0120
REVISION_ID = 0000
/* QUALITY DATA ELEMENTS */
DATA_QUALITY_ID = 1
DATA_QUALITY_DESC = "Data calculated based on original SPICE kernels"
/* TIME DATA ELEMENTS */
SPACECRAFT_CLOCK_START_COUNT = "1/0336611945.07340"
SPACECRAFT_CLOCK_STOP_COUNT = "1/0336612182.07080"
START_TIME = 2013-12-31T23:20:12.792Z
STOP_TIME = 2013-12-31T23:22:44.915Z
/* ORBITAL DATA ELEMENTS */
ASCENDING_NODE_LONGITUDE = 335.2
MAXIMUM_RESOLUTION = 35
FOOTPRINT_POINT_LATITUDE = (-32.9487,-32.9487,-32.9484,-32.9477, -32.9467,-32.9631,-32.6438,-32.4779, -32.23,-32.0662,-31.7388,-31.4886, -31.3204,-31.0718,-30.9053,-30.6546, -30.4864,-30.316,-30.1453,-29.9757, -29.7189,-29.5465,-29.3738,-29.2012, -29.0292,-28.8545,-28.679,-28.4162, -28.2413,-28.0644,-27.8858,-27.6183, -27.4403,-27.1696,-26.9886,-26.8081, -26.6277,-26.4439,-26.1682,-25.893, -25.6135,-25.4271,-25.2416,-25.0524, -24.8625,-24.6745,-24.3888,-24.1477, -24.1461,-24.1435,-24.1392,-24.1353, -24.1315,-24.1285,-24.3209,-24.5128, -24.7018,-24.8913,-25.0809,-25.3626, -25.5495,-25.7368,-25.9234,-26.1066, -26.2906,-26.475,-26.6587,-26.8398, -27.0214,-27.2032,-27.3849,-27.6526, -27.8313,-28.0101,-28.1879,-28.3633, -28.5392,-28.8033,-28.9796,-29.1518, -29.4111,-29.6708,-29.844,-30.0137, -30.1836,-30.3537,-30.5241,-30.7788, -30.9455,-31.1126,-31.2799,-31.4473, -31.6148,-31.7802,-32.1081,-32.2725, -32.4369,-32.6017,-32.9255,-32.9487)
FOOTPRINT_POINT_LONGITUDE = (120.03,119.792,119.52,119.248,118.974, 118.714,118.714,118.716,118.719,118.72, 118.721,118.722,118.723,118.723,118.723 ,118.722,118.721,118.721,118.721, 118.721,118.721,118.72,118.719,118.718, 118.717,118.716,118.715,118.713,118.712 ,118.71,118.709,118.707,118.705,118.702 ,118.7,118.698,118.695,118.693,118.69, 118.686,118.681,118.679,118.675,118.672 ,118.67,118.666,118.661,118.755,118.973 ,119.289,119.742,120.095,120.409,120.69 ,120.686,120.682,120.678,120.675, 120.671,120.665,120.662,120.658,120.654 ,120.65,120.646,120.643,120.639,120.635 ,120.632,120.628,120.624,120.618, 120.615,120.611,120.607,120.603,120.599 ,120.593,120.589,120.585,120.579, 120.573,120.569,120.565,120.561,120.557 ,120.553,120.547,120.543,120.539, 120.535,120.531,120.527,120.523,120.514 ,120.51,120.506,120.502,120.493,120.03)
ORBIT_NUMBER = 12707
ORBITAL_ECCENTRICITY = 0.578
ORBITAL_INCLINATION = 86.89
ORBITAL_SEMIMAJOR_AXIS = 8792.44
PERIAPSIS_ALTITUDE = 330.43
PERIAPSIS_ARGUMENT_ANGLE = 306.56
PERIAPSIS_TIME = 2013-12-31T23:14:32.000Z
SPACECRAFT_ORIENTATION = (0.0,1.0,0.0)
^MEX_ORIENTATION_DESC = "MEX_ORIENTATION_DESC.TXT"
SPACECRAFT_POINTING_MODE = ACROSSTRACK
^MEX_POINTING_DESC = "MEX_POINTING_DESC.TXT"
RIGHT_ASCENSION = -1e+32
DECLINATION = -1e+32
OFFSET_ANGLE = 0.269
SPACECRAFT_SOLAR_DISTANCE = 2.49236e+08
TARGET_NAME = MARS
/* CAMERA DATA ELEMENTS */
DETECTOR_TEMPERATURE = 18.7783
FOCAL_PLANE_TEMPERATURE = 8.1755
INST_CMPRS_NAME = "DISCRETE COSINE TRANSFORMATION (DCT)"
INST_CMPRS_RATIO = 5.82696
INST_CMPRS_QUALITY = 0
INST_CMPRS_QUANTZ_TBL_ID = 0
INSTRUMENT_TEMPERATURE = 11.4379
LENS_TEMPERATURE = 9.195
MACROPIXEL_SIZE = 2
MISSING_FRAMES = 0
PIXEL_SUBSAMPLING_FLAG = N
SIGNAL_CHAIN_ID = 3
/* RADIOMETRIC DATA ELEMENTS */
BANDWIDTH = 174.0
CENTER_FILTER_WAVELENGTH = 675.0
RADIANCE_OFFSET = 0.431294
RADIANCE_SCALING_FACTOR = 0.0187176
REFLECTANCE_SCALING_FACTOR = 0.000625399
MEX:REFLECTANCE_OFFSET = 0.0144105
/* IMAGE OBJECT DEFINITIONS */
OBJECT = IMAGE
  INTERCHANGE_FORMAT = BINARY
  LINES = 20950
  LINE_SAMPLES = 4297
  SAMPLE_TYPE = UNSIGNED_INTEGER
  SAMPLE_BITS = 8
  BANDS = 1
  BAND_STORAGE_TYPE = BAND_SEQUENTIAL
  MAXIMUM = 255
  MEAN = 126.229
  MINIMUM = 1
  STANDARD_DEVIATION = 19.8614
END_OBJECT = IMAGE
/* MAP OBJECT DEFINITIONS */
OBJECT = IMAGE_MAP_PROJECTION
  ^DATA_SET_MAP_PROJECTION_CATALOG= "DSMAP.CAT"
  A_AXIS_RADIUS = 3396.0
  B_AXIS_RADIUS = 3396.0
  C_AXIS_RADIUS = 3396.0
  CENTER_LATITUDE = 0.0
  CENTER_LONGITUDE = 120.0
  COORDINATE_SYSTEM_NAME = PLANETOGRAPHIC
  COORDINATE_SYSTEM_TYPE = "BODY-FIXED ROTATING"
  EASTERNMOST_LONGITUDE = 120.69
  FIRST_STANDARD_PARALLEL = "N/A"
  LINE_FIRST_PIXEL = 1
  LINE_LAST_PIXEL = 20950
  LINE_PROJECTION_OFFSET = -57271.75
  MAP_PROJECTION_ROTATION = 0.0
  MAP_PROJECTION_TYPE = SINUSOIDAL
  MAP_RESOLUTION = 2370.85521546667
  MAP_SCALE = 0.025
  MAXIMUM_LATITUDE = -24.1285
  MINIMUM_LATITUDE = -32.9631
  POSITIVE_LONGITUDE_DIRECTION = EAST
  REFERENCE_LATITUDE = "N/A"
  REFERENCE_LONGITUDE = "N/A"
  SAMPLE_FIRST_PIXEL = 1
  SAMPLE_LAST_PIXEL = 4297
  SAMPLE_PROJECTION_OFFSET = 2888.75
  SECOND_STANDARD_PARALLEL = "N/A"
  WESTERNMOST_LONGITUDE = 118.661
END_OBJECT = IMAGE_MAP_PROJECTION
/* The JPEG2000 image data file associated with this label. */
OBJECT = COMPRESSED_FILE
  FILE_NAME = "HC707_0000_P13.JP2"
  RECORD_TYPE = UNDEFINED
  FILE_RECORDS = UNK
  ENCODING_TYPE = "JP2"
  INTERCHANGE_FORMAT = BINARY
  UNCOMPRESSED_FILE_NAME = "HC707_0000_P13.IMG"
  REQUIRED_STORAGE_BYTES = "90047932"
  ^DESCRIPTION = "JP2INFO.TXT"
END_OBJECT = COMPRESSED_FILE
END
