PDS_VERSION_ID = PDS3
/* FILE DATA ELEMENTS */
RECORD_TYPE = STREAM
/* POINTERS TO DATA OBJECTS */
^COMPRESSED_FILE = "HC708_0000_P13.JP2"
/* IDENTIFICATION DATA ELEMENTS */
DATA_SET_ID = "MEX-M-HRSC-5-REFDR-MAPPROJECTED-V3.0"
DATA_SET_NAME = "MARS EXPRESS HRSC MAP PROJECTED REFDR V3.0"
DETECTOR_ID = MEX_HRSC_P1
EVENT_TYPE = "MARS-LOCAL-STEREO-Im-Gl-Pf"
INSTRUMENT_HOST_ID = MEX
INSTRUMENT_HOST_NAME = "MARS EXPRESS"
INSTRUMENT_ID = HRSC
INSTRUMENT_NAME = "HIGH RESOLUTION STEREO CAMERA"
MISSION_NAME = "MARS EXPRESS"
MISSION_PHASE_NAME = ME_Phase_29
PROCESSING_LEVEL_ID = 3
PRODUCT_CREATION_TIME = 2016-10-29T02:00:08.000Z
PRODUCT_ID = "HC708_0000_P13.JP2"
RELEASE_ID = 0121
REVISION_ID = 0000
/* QUALITY DATA ELEMENTS */
DATA_QUALITY_ID = 1
DATA_QUALITY_DESC = "Data calculated based on original SPICE kernels"
/* TIME DATA ELEMENTS */
SPACECRAFT_CLOCK_START_COUNT = "1/0336636920.08234"
SPACECRAFT_CLOCK_STOP_COUNT = "1/0336637078.33342"
START_TIME = 2014-01-01T06:16:15.708Z
STOP_TIME = 2014-01-01T06:17:48.835Z
/* ORBITAL DATA ELEMENTS */
ASCENDING_NODE_LONGITUDE = 335.18
MAXIMUM_RESOLUTION = 28.4
FOOTPRINT_POINT_LATITUDE = (-45.1035,-45.0973,-45.0907,-45.0836, -45.0761,-45.0677,-45.09,-44.9764, -44.8064,-44.6364,-44.5232,-44.4097, -44.2966,-44.1836,-44.0138,-43.9018, -43.7337,-43.5672,-43.4553,-43.2874, -43.1749,-43.0604,-42.9469,-42.7771, -42.609,-42.4968,-42.3845,-42.2724, -42.1045,-41.9924,-41.8799,-41.7682, -41.6007,-41.4333,-41.3217,-40.9877, -40.7648,-40.6323,-40.4996,-40.367, -40.2346,-40.036,-39.9031,-39.7702, -39.6382,-39.5059,-39.374,-39.2094, -39.215,-39.2213,-39.2274,-39.2298, -39.2346,-39.2392,-39.2469,-39.382, -39.5816,-39.7804,-39.9129,-40.0451, -40.1753,-40.3034,-40.5016,-40.6346, -40.8294,-40.9409,-41.1088,-41.2765, -41.3883,-41.5001,-41.6118,-41.7796, -41.8917,-42.0036,-42.1155,-42.2276, -42.3402,-42.4525,-42.565,-42.7338, -42.8466,-42.9592,-43.0717,-43.184, -43.2959,-43.4651,-43.5779,-43.6908, -43.8038,-43.9167,-44.0293,-44.1427, -44.3123,-44.4255,-44.5388,-44.6526, -44.7673,-44.9414,-45.0552,-45.1035)
FOOTPRINT_POINT_LONGITUDE = (18.5137,18.2513,17.9898,17.7295, 17.4705,17.196,16.9871,16.9922,16.9995, 17.0068,17.0115,17.0163,17.0209,17.0254 ,17.0322,17.0363,17.0423,17.0476, 17.0514,17.0572,17.0611,17.0657,17.07, 17.0761,17.0815,17.0851,17.0888,17.0923 ,17.0974,17.1008,17.1043,17.1075, 17.1122,17.1168,17.1199,17.1285,17.1342 ,17.1373,17.1405,17.1436,17.1466,17.151 ,17.1541,17.1571,17.1598,17.1626, 17.1651,17.2329,17.4618,17.7241,18.0038 ,18.152,18.4332,18.6332,18.8756,18.8751 ,18.8714,18.8669,18.8637,18.8601, 18.8547,18.8474,18.8414,18.8381,18.8336 ,18.8306,18.8267,18.8224,18.8194, 18.8164,18.8131,18.8085,18.8054,18.8021 ,18.7988,18.7956,18.7927,18.7895, 18.7864,18.7817,18.7786,18.7754,18.772, 18.7684,18.7642,18.7592,18.7557,18.7522 ,18.7488,18.7452,18.7412,18.7379, 18.7324,18.7287,18.7251,18.7218,18.7194 ,18.7175,18.714,18.5137)
ORBIT_NUMBER = 12708
ORBITAL_ECCENTRICITY = 0.577
ORBITAL_INCLINATION = 86.89
ORBITAL_SEMIMAJOR_AXIS = 8790.48
PERIAPSIS_ALTITUDE = 330.92
PERIAPSIS_ARGUMENT_ANGLE = 306.38
PERIAPSIS_TIME = 2014-01-01T06:13:47.000Z
SPACECRAFT_ORIENTATION = (0.0,1.0,0.0)
^MEX_ORIENTATION_DESC = "MEX_ORIENTATION_DESC.TXT"
SPACECRAFT_POINTING_MODE = ACROSSTRACK
^MEX_POINTING_DESC = "MEX_POINTING_DESC.TXT"
RIGHT_ASCENSION = -1e+32
DECLINATION = -1e+32
OFFSET_ANGLE = -0.3
SPACECRAFT_SOLAR_DISTANCE = 2.49237e+08
TARGET_NAME = MARS
/* CAMERA DATA ELEMENTS */
DETECTOR_TEMPERATURE = 17.351
FOCAL_PLANE_TEMPERATURE = 8.7872
INST_CMPRS_NAME = "DISCRETE COSINE TRANSFORMATION (DCT)"
INST_CMPRS_RATIO = 3.80544
INST_CMPRS_QUALITY = 0
INST_CMPRS_QUANTZ_TBL_ID = 0
INSTRUMENT_TEMPERATURE = 13.0691
LENS_TEMPERATURE = 8.7872
MACROPIXEL_SIZE = 2
MISSING_FRAMES = 0
PIXEL_SUBSAMPLING_FLAG = N
SIGNAL_CHAIN_ID = 3
/* RADIOMETRIC DATA ELEMENTS */
BANDWIDTH = 174.0
CENTER_FILTER_WAVELENGTH = 675.0
RADIANCE_OFFSET = 0.120667
RADIANCE_SCALING_FACTOR = 0.0115935
REFLECTANCE_SCALING_FACTOR = 0.000387369
MEX:REFLECTANCE_OFFSET = 0.0040318
/* IMAGE OBJECT DEFINITIONS */
OBJECT = IMAGE
  INTERCHANGE_FORMAT = BINARY
  LINES = 14025
  LINE_SAMPLES = 3343
  SAMPLE_TYPE = UNSIGNED_INTEGER
  SAMPLE_BITS = 8
  BANDS = 1
  BAND_STORAGE_TYPE = BAND_SEQUENTIAL
  MAXIMUM = 255
  MEAN = 94.7706
  MINIMUM = 1
  STANDARD_DEVIATION = 23.8693
END_OBJECT = IMAGE
/* MAP OBJECT DEFINITIONS */
OBJECT = IMAGE_MAP_PROJECTION
  ^DATA_SET_MAP_PROJECTION_CATALOG= "DSMAP.CAT"
  A_AXIS_RADIUS = 3396.0
  B_AXIS_RADIUS = 3396.0
  C_AXIS_RADIUS = 3396.0
  CENTER_LATITUDE = 0.0
  CENTER_LONGITUDE = 18.0
  COORDINATE_SYSTEM_NAME = PLANETOGRAPHIC
  COORDINATE_SYSTEM_TYPE = "BODY-FIXED ROTATING"
  EASTERNMOST_LONGITUDE = 18.8756
  FIRST_STANDARD_PARALLEL = "N/A"
  LINE_FIRST_PIXEL = 1
  LINE_LAST_PIXEL = 14025
  LINE_PROJECTION_OFFSET = -93015.75
  MAP_PROJECTION_ROTATION = 0.0
  MAP_PROJECTION_TYPE = SINUSOIDAL
  MAP_RESOLUTION = 2370.85521546667
  MAP_SCALE = 0.025
  MAXIMUM_LATITUDE = -39.2094
  MINIMUM_LATITUDE = -45.1035
  POSITIVE_LONGITUDE_DIRECTION = EAST
  REFERENCE_LATITUDE = "N/A"
  REFERENCE_LONGITUDE = "N/A"
  SAMPLE_FIRST_PIXEL = 1
  SAMPLE_LAST_PIXEL = 3343
  SAMPLE_PROJECTION_OFFSET = 1706.75
  SECOND_STANDARD_PARALLEL = "N/A"
  WESTERNMOST_LONGITUDE = 16.9871
END_OBJECT = IMAGE_MAP_PROJECTION
/* The JPEG2000 image data file associated with this label. */
OBJECT = COMPRESSED_FILE
  FILE_NAME = "HC708_0000_P13.JP2"
  RECORD_TYPE = UNDEFINED
  FILE_RECORDS = UNK
  ENCODING_TYPE = "JP2"
  INTERCHANGE_FORMAT = BINARY
  UNCOMPRESSED_FILE_NAME = "HC708_0000_P13.IMG"
  REQUIRED_STORAGE_BYTES = "46908976"
  ^DESCRIPTION = "JP2INFO.TXT"
END_OBJECT = COMPRESSED_FILE
END
