PDS_VERSION_ID = PDS3
/* FILE DATA ELEMENTS */
RECORD_TYPE = STREAM
/* POINTERS TO DATA OBJECTS */
^COMPRESSED_FILE = "HC715_0000_P13.JP2"
/* IDENTIFICATION DATA ELEMENTS */
DATA_SET_ID = "MEX-M-HRSC-5-REFDR-MAPPROJECTED-V3.0"
DATA_SET_NAME = "MARS EXPRESS HRSC MAP PROJECTED REFDR V3.0"
DETECTOR_ID = MEX_HRSC_P1
EVENT_TYPE = "MARS-REGIONAL-MAPPING-Im-Fl-Pf"
INSTRUMENT_HOST_ID = MEX
INSTRUMENT_HOST_NAME = "MARS EXPRESS"
INSTRUMENT_ID = HRSC
INSTRUMENT_NAME = "HIGH RESOLUTION STEREO CAMERA"
MISSION_NAME = "MARS EXPRESS"
MISSION_PHASE_NAME = ME_Phase_29
PROCESSING_LEVEL_ID = 3
PRODUCT_CREATION_TIME = 2016-10-29T02:00:08.000Z
PRODUCT_ID = "HC715_0000_P13.JP2"
RELEASE_ID = 0121
REVISION_ID = 0000
/* QUALITY DATA ELEMENTS */
DATA_QUALITY_ID = 1
DATA_QUALITY_DESC = "Data calculated based on original SPICE kernels"
/* TIME DATA ELEMENTS */
SPACECRAFT_CLOCK_START_COUNT = "1/0336812994.09050"
SPACECRAFT_CLOCK_STOP_COUNT = "1/0336813277.32419"
START_TIME = 2014-01-03T07:10:49.312Z
STOP_TIME = 2014-01-03T07:12:56.905Z
/* ORBITAL DATA ELEMENTS */
ASCENDING_NODE_LONGITUDE = 335.05
MAXIMUM_RESOLUTION = 28
FOOTPRINT_POINT_LATITUDE = (-47.5266,-47.5191,-47.5137,-47.5077, -47.5013,-47.3742,-47.2194,-47.0645, -46.9112,-46.7566,-46.6019,-46.4471, -46.2149,-46.06,-45.906,-45.7515, -45.5971,-45.442,-45.2842,-45.1279, -44.8971,-44.6679,-44.5147,-44.2093, -44.0559,-43.9029,-43.7493,-43.5966, -43.4437,-43.2911,-43.1383,-42.9859, -42.7574,-42.6049,-42.3003,-41.996, -41.8173,-41.6366,-41.4556,-41.2749, -41.0947,-40.9137,-40.6419,-40.4622, -40.283,-40.0143,-39.8354,-39.6565, -39.4776,-39.4822,-39.4848,-39.4863, -39.4916,-39.4939,-39.6725,-39.8472, -40.1167,-40.2969,-40.4763,-40.6569, -40.8419,-41.1169,-41.2978,-41.4787, -41.6589,-41.8369,-42.0178,-42.1708, -42.3235,-42.5524,-42.7816,-42.9344, -43.1639,-43.3168,-43.47,-43.6234, -43.7765,-43.9298,-44.0833,-44.2368, -44.3905,-44.5444,-44.6985,-44.8521, -45.005,-45.159,-45.3135,-45.467, -45.6221,-45.8543,-46.0083,-46.1632, -46.3189,-46.4739,-46.6291,-46.8616, -47.0143,-47.1709,-47.4057,-47.5266)
FOOTPRINT_POINT_LONGITUDE = (22.0404,21.6238,21.3561,21.0877, 20.8178,20.6185,20.6294,20.6403,20.6495 ,20.6601,20.6707,20.6812,20.697,20.7075 ,20.7171,20.7271,20.737,20.7475,20.7607 ,20.7723,20.7859,20.7977,20.8059, 20.8213,20.8297,20.8375,20.846,20.8535, 20.8612,20.8686,20.8761,20.8832,20.8938 ,20.901,20.9149,20.9284,20.9348,20.942, 20.9494,20.9566,20.9633,20.9707,20.9821 ,20.9883,20.9941,21.0025,21.008,21.0136 ,21.019,21.4596,21.7294,21.9649,22.3501 ,22.6508,22.7496,22.7413,22.731,22.7242 ,22.717,22.71,22.7044,22.6948,22.6875, 22.6801,22.6723,22.6637,22.6562,22.65, 22.6436,22.6338,22.6239,22.6171,22.6069 ,22.6,22.5931,22.5861,22.5789,22.5717, 22.5644,22.5571,22.5497,22.5423,22.5348 ,22.5271,22.5191,22.5113,22.5035, 22.4954,22.4876,22.4757,22.4673,22.4591 ,22.4511,22.4427,22.4343,22.4214, 22.4119,22.4035,22.3907,22.0404)
ORBIT_NUMBER = 12715
ORBITAL_ECCENTRICITY = 0.577
ORBITAL_INCLINATION = 86.89
ORBITAL_SEMIMAJOR_AXIS = 8788.87
PERIAPSIS_ALTITUDE = 330.76
PERIAPSIS_ARGUMENT_ANGLE = 305.19
PERIAPSIS_TIME = 2014-01-03T07:08:40.000Z
SPACECRAFT_ORIENTATION = (0.0,1.0,0.0)
^MEX_ORIENTATION_DESC = "MEX_ORIENTATION_DESC.TXT"
SPACECRAFT_POINTING_MODE = ACROSSTRACK
^MEX_POINTING_DESC = "MEX_POINTING_DESC.TXT"
RIGHT_ASCENSION = -1e+32
DECLINATION = -1e+32
OFFSET_ANGLE = 0.269
SPACECRAFT_SOLAR_DISTANCE = 2.49239e+08
TARGET_NAME = MARS
/* CAMERA DATA ELEMENTS */
DETECTOR_TEMPERATURE = 17.5549
FOCAL_PLANE_TEMPERATURE = 8.7872
INST_CMPRS_NAME = "DISCRETE COSINE TRANSFORMATION (DCT)"
INST_CMPRS_RATIO = 5.06855
INST_CMPRS_QUALITY = 0
INST_CMPRS_QUANTZ_TBL_ID = 0
INSTRUMENT_TEMPERATURE = 11.8457
LENS_TEMPERATURE = 8.9911
MACROPIXEL_SIZE = 2
MISSING_FRAMES = 0
PIXEL_SUBSAMPLING_FLAG = N
SIGNAL_CHAIN_ID = 3
/* RADIOMETRIC DATA ELEMENTS */
BANDWIDTH = 174.0
CENTER_FILTER_WAVELENGTH = 675.0
RADIANCE_OFFSET = 0.143384
RADIANCE_SCALING_FACTOR = 0.0141697
REFLECTANCE_SCALING_FACTOR = 0.000473456
MEX:REFLECTANCE_OFFSET = 0.00479092
/* IMAGE OBJECT DEFINITIONS */
OBJECT = IMAGE
  INTERCHANGE_FORMAT = BINARY
  LINES = 32005
  LINE_SAMPLES = 4068
  SAMPLE_TYPE = UNSIGNED_INTEGER
  SAMPLE_BITS = 8
  BANDS = 1
  BAND_STORAGE_TYPE = BAND_SEQUENTIAL
  MAXIMUM = 255
  MEAN = 83.7009
  MINIMUM = 1
  STANDARD_DEVIATION = 23.0059
END_OBJECT = IMAGE
/* MAP OBJECT DEFINITIONS */
OBJECT = IMAGE_MAP_PROJECTION
  ^DATA_SET_MAP_PROJECTION_CATALOG= "DSMAP.CAT"
  A_AXIS_RADIUS = 3396.0
  B_AXIS_RADIUS = 3396.0
  C_AXIS_RADIUS = 3396.0
  CENTER_LATITUDE = 0.0
  CENTER_LONGITUDE = 22.0
  COORDINATE_SYSTEM_NAME = PLANETOGRAPHIC
  COORDINATE_SYSTEM_TYPE = "BODY-FIXED ROTATING"
  EASTERNMOST_LONGITUDE = 22.7496
  FIRST_STANDARD_PARALLEL = "N/A"
  LINE_FIRST_PIXEL = 1
  LINE_LAST_PIXEL = 32005
  LINE_PROJECTION_OFFSET = -80847.75
  MAP_PROJECTION_ROTATION = 0.0
  MAP_PROJECTION_TYPE = SINUSOIDAL
  MAP_RESOLUTION = 2370.85521546667
  MAP_SCALE = 0.025
  MAXIMUM_LATITUDE = -39.4776
  MINIMUM_LATITUDE = -47.5266
  POSITIVE_LONGITUDE_DIRECTION = EAST
  REFERENCE_LATITUDE = "N/A"
  REFERENCE_LONGITUDE = "N/A"
  SAMPLE_FIRST_PIXEL = 1
  SAMPLE_LAST_PIXEL = 4068
  SAMPLE_PROJECTION_OFFSET = 2291.25
  SECOND_STANDARD_PARALLEL = "N/A"
  WESTERNMOST_LONGITUDE = 20.6185
END_OBJECT = IMAGE_MAP_PROJECTION
/* The JPEG2000 image data file associated with this label. */
OBJECT = COMPRESSED_FILE
  FILE_NAME = "HC715_0000_P13.JP2"
  RECORD_TYPE = UNDEFINED
  FILE_RECORDS = UNK
  ENCODING_TYPE = "JP2"
  INTERCHANGE_FORMAT = BINARY
  UNCOMPRESSED_FILE_NAME = "HC715_0000_P13.IMG"
  REQUIRED_STORAGE_BYTES = "130220748"
  ^DESCRIPTION = "JP2INFO.TXT"
END_OBJECT = COMPRESSED_FILE
END
