PDS_VERSION_ID = PDS3
/* FILE DATA ELEMENTS */
RECORD_TYPE = STREAM
/* POINTERS TO DATA OBJECTS */
^COMPRESSED_FILE = "HC715_0000_RE3.JP2"
/* IDENTIFICATION DATA ELEMENTS */
DATA_SET_ID = "MEX-M-HRSC-5-REFDR-MAPPROJECTED-V3.0"
DATA_SET_NAME = "MARS EXPRESS HRSC MAP PROJECTED REFDR V3.0"
DETECTOR_ID = MEX_HRSC_RED
EVENT_TYPE = "MARS-REGIONAL-MAPPING-Im-Fl-Pf"
INSTRUMENT_HOST_ID = MEX
INSTRUMENT_HOST_NAME = "MARS EXPRESS"
INSTRUMENT_ID = HRSC
INSTRUMENT_NAME = "HIGH RESOLUTION STEREO CAMERA"
MISSION_NAME = "MARS EXPRESS"
MISSION_PHASE_NAME = ME_Phase_29
PROCESSING_LEVEL_ID = 3
PRODUCT_CREATION_TIME = 2016-10-29T02:00:08.000Z
PRODUCT_ID = "HC715_0000_RE3.JP2"
RELEASE_ID = 0121
REVISION_ID = 0000
/* QUALITY DATA ELEMENTS */
DATA_QUALITY_ID = 1
DATA_QUALITY_DESC = "Data calculated based on original SPICE kernels"
/* TIME DATA ELEMENTS */
SPACECRAFT_CLOCK_START_COUNT = "1/0336812994.09050"
SPACECRAFT_CLOCK_STOP_COUNT = "1/0336813277.32419"
START_TIME = 2014-01-03T07:10:03.934Z
STOP_TIME = 2014-01-03T07:13:28.151Z
/* ORBITAL DATA ELEMENTS */
ASCENDING_NODE_LONGITUDE = 335.05
MAXIMUM_RESOLUTION = 55.3
FOOTPRINT_POINT_LATITUDE = (-47.6611,-47.6398,-47.6172,-47.4323, -47.1857,-46.9361,-46.6893,-46.4432, -46.192,-45.9377,-45.5561,-45.3056, -45.0555,-44.7998,-44.543,-44.2862, -44.0315,-43.649,-43.3939,-43.0114, -42.6292,-42.3745,-42.1202,-41.8642, -41.6086,-41.3542,-41.0991,-40.8463, -40.5925,-40.3373,-40.0817,-39.8265, -39.5717,-39.3171,-39.0628,-38.6558, -38.3521,-37.8972,-37.5941,-37.1396, -36.8366,-36.3824,-36.08,-35.7752, -35.324,-35.0218,-34.7189,-34.4175, -34.1138,-34.1271,-34.1357,-34.1433, -34.1551,-34.4578,-34.7599,-35.0634, -35.3663,-35.8202,-36.1231,-36.4251, -36.7287,-37.1847,-37.4884,-37.7918, -38.0961,-38.4002,-38.705,-39.1158, -39.3658,-39.7532,-40.012,-40.3941, -40.6498,-40.8957,-41.1494,-41.4049, -41.6616,-41.9209,-42.175,-42.4297, -42.6849,-42.9403,-43.3233,-43.5787, -43.8344,-44.0902,-44.4731,-44.729, -44.987,-45.2419,-45.4986,-45.7528, -46.0089,-46.2636,-46.5162,-46.7635, -47.0143,-47.2589,-47.5044,-47.6611)
FOOTPRINT_POINT_LONGITUDE = (22.0595,21.5131,21.0107,20.6383, 20.6568,20.6729,20.6905,20.7083,20.7262 ,20.7438,20.7693,20.7886,20.8076, 20.8226,20.8365,20.85,20.8646,20.8856, 20.8991,20.9187,20.9378,20.9501,20.9624 ,20.9732,20.984,20.9952,21.0057,21.0172 ,21.0278,21.0372,21.0461,21.0549, 21.0636,21.0721,21.0805,21.093,21.1019, 21.1149,21.1231,21.1347,21.1418,21.1519 ,21.1584,21.163,21.1727,21.1779,21.1822 ,21.1869,21.1899,21.7233,22.004,22.3149 ,22.8616,22.8539,22.8463,22.8382, 22.8301,22.818,22.8097,22.8016,22.7928, 22.7794,22.7703,22.7612,22.7517,22.7421 ,22.7322,22.7181,22.7111,22.6967, 22.6868,22.6735,22.6642,22.6576,22.6487 ,22.639,22.6289,22.6178,22.6082,22.5982 ,22.5879,22.5775,22.5615,22.5506, 22.5394,22.5281,22.511,22.4991,22.4865, 22.4746,22.4619,22.4498,22.437,22.4243, 22.4115,22.3986,22.3843,22.3719,22.359, 22.0595)
ORBIT_NUMBER = 12715
ORBITAL_ECCENTRICITY = 0.577
ORBITAL_INCLINATION = 86.89
ORBITAL_SEMIMAJOR_AXIS = 8788.87
PERIAPSIS_ALTITUDE = 330.76
PERIAPSIS_ARGUMENT_ANGLE = 305.19
PERIAPSIS_TIME = 2014-01-03T07:08:40.000Z
SPACECRAFT_ORIENTATION = (0.0,1.0,0.0)
^MEX_ORIENTATION_DESC = "MEX_ORIENTATION_DESC.TXT"
SPACECRAFT_POINTING_MODE = ACROSSTRACK
^MEX_POINTING_DESC = "MEX_POINTING_DESC.TXT"
RIGHT_ASCENSION = -1e+32
DECLINATION = -1e+32
OFFSET_ANGLE = 0.269
SPACECRAFT_SOLAR_DISTANCE = 2.49239e+08
TARGET_NAME = MARS
/* CAMERA DATA ELEMENTS */
DETECTOR_TEMPERATURE = 18.5744
FOCAL_PLANE_TEMPERATURE = 8.7872
INST_CMPRS_NAME = "DISCRETE COSINE TRANSFORMATION (DCT)"
INST_CMPRS_RATIO = 9.84192
INST_CMPRS_QUALITY = 0
INST_CMPRS_QUANTZ_TBL_ID = 0
INSTRUMENT_TEMPERATURE = 11.8457
LENS_TEMPERATURE = 8.9911
MACROPIXEL_SIZE = 4
MISSING_FRAMES = 0
PIXEL_SUBSAMPLING_FLAG = N
SIGNAL_CHAIN_ID = 2
/* RADIOMETRIC DATA ELEMENTS */
BANDWIDTH = 48.0
CENTER_FILTER_WAVELENGTH = 748.0
RADIANCE_OFFSET = 0.0285913
RADIANCE_SCALING_FACTOR = 0.00381217
REFLECTANCE_SCALING_FACTOR = 0.00054042
MEX:REFLECTANCE_OFFSET = 0.00405315
/* IMAGE OBJECT DEFINITIONS */
OBJECT = IMAGE
  INTERCHANGE_FORMAT = BINARY
  LINES = 16003
  LINE_SAMPLES = 2034
  SAMPLE_TYPE = UNSIGNED_INTEGER
  SAMPLE_BITS = 8
  BANDS = 1
  BAND_STORAGE_TYPE = BAND_SEQUENTIAL
  MAXIMUM = 255
  MEAN = 92.2155
  MINIMUM = 1
  STANDARD_DEVIATION = 27.291
END_OBJECT = IMAGE
/* MAP OBJECT DEFINITIONS */
OBJECT = IMAGE_MAP_PROJECTION
  ^DATA_SET_MAP_PROJECTION_CATALOG= "DSMAP.CAT"
  A_AXIS_RADIUS = 3396.0
  B_AXIS_RADIUS = 3396.0
  C_AXIS_RADIUS = 3396.0
  CENTER_LATITUDE = 0.0
  CENTER_LONGITUDE = 22.0
  COORDINATE_SYSTEM_NAME = PLANETOGRAPHIC
  COORDINATE_SYSTEM_TYPE = "BODY-FIXED ROTATING"
  EASTERNMOST_LONGITUDE = 22.8616
  FIRST_STANDARD_PARALLEL = "N/A"
  LINE_FIRST_PIXEL = 1
  LINE_LAST_PIXEL = 16003
  LINE_PROJECTION_OFFSET = -40424.125
  MAP_PROJECTION_ROTATION = 0.0
  MAP_PROJECTION_TYPE = SINUSOIDAL
  MAP_RESOLUTION = 1185.42760773333
  MAP_SCALE = 0.05
  MAXIMUM_LATITUDE = -34.1138
  MINIMUM_LATITUDE = -47.6611
  POSITIVE_LONGITUDE_DIRECTION = EAST
  REFERENCE_LATITUDE = "N/A"
  REFERENCE_LONGITUDE = "N/A"
  SAMPLE_FIRST_PIXEL = 1
  SAMPLE_LAST_PIXEL = 2034
  SAMPLE_PROJECTION_OFFSET = 1145.375
  SECOND_STANDARD_PARALLEL = "N/A"
  WESTERNMOST_LONGITUDE = 20.6383
END_OBJECT = IMAGE_MAP_PROJECTION
/* The JPEG2000 image data file associated with this label. */
OBJECT = COMPRESSED_FILE
  FILE_NAME = "HC715_0000_RE3.JP2"
  RECORD_TYPE = UNDEFINED
  FILE_RECORDS = UNK
  ENCODING_TYPE = "JP2"
  INTERCHANGE_FORMAT = BINARY
  UNCOMPRESSED_FILE_NAME = "HC715_0000_RE3.IMG"
  REQUIRED_STORAGE_BYTES = "32570442"
  ^DESCRIPTION = "JP2INFO.TXT"
END_OBJECT = COMPRESSED_FILE
END
