PDS_VERSION_ID = PDS3
/* FILE DATA ELEMENTS */
RECORD_TYPE = STREAM
/* POINTERS TO DATA OBJECTS */
^COMPRESSED_FILE = "HC717_0000_IR3.JP2"
/* IDENTIFICATION DATA ELEMENTS */
DATA_SET_ID = "MEX-M-HRSC-5-REFDR-MAPPROJECTED-V3.0"
DATA_SET_NAME = "MARS EXPRESS HRSC MAP PROJECTED REFDR V3.0"
DETECTOR_ID = MEX_HRSC_IR
EVENT_TYPE = "MARS-REGIONAL-MAPPING-Im-Fl-Mw"
INSTRUMENT_HOST_ID = MEX
INSTRUMENT_HOST_NAME = "MARS EXPRESS"
INSTRUMENT_ID = HRSC
INSTRUMENT_NAME = "HIGH RESOLUTION STEREO CAMERA"
MISSION_NAME = "MARS EXPRESS"
MISSION_PHASE_NAME = ME_Phase_29
PROCESSING_LEVEL_ID = 3
PRODUCT_CREATION_TIME = 2016-10-29T02:00:08.000Z
PRODUCT_ID = "HC717_0000_IR3.JP2"
RELEASE_ID = 0121
REVISION_ID = 0000
/* QUALITY DATA ELEMENTS */
DATA_QUALITY_ID = 1
DATA_QUALITY_DESC = "Data calculated based on original SPICE kernels"
/* TIME DATA ELEMENTS */
SPACECRAFT_CLOCK_START_COUNT = "1/0336863374.09044"
SPACECRAFT_CLOCK_STOP_COUNT = "1/0336863646.64373"
START_TIME = 2014-01-03T21:10:38.631Z
STOP_TIME = 2014-01-03T21:14:01.403Z
/* ORBITAL DATA ELEMENTS */
ASCENDING_NODE_LONGITUDE = 335.01
MAXIMUM_RESOLUTION = 121.6
FOOTPRINT_POINT_LATITUDE = (-43.5192,-43.5227,-43.5246,-43.2129, -42.9731,-42.7333,-42.3743,-42.1357, -41.8971,-41.6593,-41.3035,-41.0661, -40.829,-40.4737,-40.1189,-39.8832, -39.6479,-39.2949,-39.0603,-38.826, -38.5922,-38.3588,-38.1258,-37.8932, -37.6605,-37.4231,-37.0668,-36.8293, -36.5925,-36.3525,-36.1096,-35.8673, -35.6235,-35.3845,-35.1371,-34.89, -34.6413,-34.3957,-34.1435,-33.8939, -33.6416,-33.3902,-33.1351,-32.88, -32.6266,-32.3691,-32.1101,-31.8511, -31.5925,-31.3655,-31.3574,-31.3513, -31.3434,-31.3301,-31.5925,-31.8517, -32.1114,-32.5002,-32.7542,-33.0131, -33.3957,-33.6449,-33.8959,-34.1503, -34.3992,-34.6458,-34.8929,-35.141, -35.3892,-35.6331,-35.8766,-36.2414, -36.4843,-36.7218,-36.9593,-37.1974, -37.4362,-37.7899,-38.2506,-38.4869, -38.7246,-38.96,-39.3131,-39.5486, -39.9043,-40.2579,-40.4948,-40.8511, -41.0888,-41.3269,-41.5654,-41.8034, -42.0409,-42.2814,-42.5212,-42.7616, -43.0019,-43.2432,-43.4866,-43.5192)
FOOTPRINT_POINT_LONGITUDE = (176.769,176.245,175.71,175.433,175.448 ,175.463,175.485,175.499,175.513, 175.526,175.545,175.557,175.57,175.588, 175.606,175.616,175.627,175.643,175.653 ,175.663,175.672,175.681,175.69,175.698 ,175.707,175.715,175.726,175.734, 175.741,175.748,175.756,175.763,175.772 ,175.775,175.782,175.788,175.797, 175.802,175.808,175.812,175.819,175.824 ,175.828,175.833,175.835,175.839, 175.842,175.846,175.848,176.054,176.48, 176.755,177.117,177.635,177.778,177.769 ,177.759,177.745,177.736,177.726, 177.711,177.701,177.691,177.681,177.671 ,177.661,177.651,177.64,177.63,177.619, 177.608,177.592,177.581,177.571,177.56, 177.549,177.538,177.521,177.5,177.488, 177.476,177.464,177.446,177.434,177.415 ,177.396,177.383,177.364,177.351, 177.337,177.324,177.31,177.296,177.282, 177.267,177.253,177.238,177.223,177.207 ,176.769)
ORBIT_NUMBER = 12717
ORBITAL_ECCENTRICITY = 0.577
ORBITAL_INCLINATION = 86.9
ORBITAL_SEMIMAJOR_AXIS = 8785.89
PERIAPSIS_ALTITUDE = 330.82
PERIAPSIS_ARGUMENT_ANGLE = 304.87
PERIAPSIS_TIME = 2014-01-03T21:07:16.000Z
SPACECRAFT_ORIENTATION = (0.0,1.0,0.0)
^MEX_ORIENTATION_DESC = "MEX_ORIENTATION_DESC.TXT"
SPACECRAFT_POINTING_MODE = ACROSSTRACK
^MEX_POINTING_DESC = "MEX_POINTING_DESC.TXT"
RIGHT_ASCENSION = -1e+32
DECLINATION = -1e+32
OFFSET_ANGLE = 0.98
SPACECRAFT_SOLAR_DISTANCE = 2.49239e+08
TARGET_NAME = MARS
/* CAMERA DATA ELEMENTS */
DETECTOR_TEMPERATURE = 17.7588
FOCAL_PLANE_TEMPERATURE = 7.9716
INST_CMPRS_NAME = "DISCRETE COSINE TRANSFORMATION (DCT)"
INST_CMPRS_RATIO = 7.04345
INST_CMPRS_QUALITY = 0
INST_CMPRS_QUANTZ_TBL_ID = 0
INSTRUMENT_TEMPERATURE = 11.6418
LENS_TEMPERATURE = 8.7872
MACROPIXEL_SIZE = 8
MISSING_FRAMES = 0
PIXEL_SUBSAMPLING_FLAG = N
SIGNAL_CHAIN_ID = 2
/* RADIOMETRIC DATA ELEMENTS */
BANDWIDTH = 81.0
CENTER_FILTER_WAVELENGTH = 955.5
RADIANCE_OFFSET = 0.0148601
RADIANCE_SCALING_FACTOR = 0.00378787
REFLECTANCE_SCALING_FACTOR = 0.000507639
MEX:REFLECTANCE_OFFSET = 0.00199151
/* IMAGE OBJECT DEFINITIONS */
OBJECT = IMAGE
  INTERCHANGE_FORMAT = BINARY
  LINES = 7259
  LINE_SAMPLES = 1093
  SAMPLE_TYPE = UNSIGNED_INTEGER
  SAMPLE_BITS = 8
  BANDS = 1
  BAND_STORAGE_TYPE = BAND_SEQUENTIAL
  MAXIMUM = 255
  MEAN = 98.274
  MINIMUM = 1
  STANDARD_DEVIATION = 21.992
END_OBJECT = IMAGE
/* MAP OBJECT DEFINITIONS */
OBJECT = IMAGE_MAP_PROJECTION
  ^DATA_SET_MAP_PROJECTION_CATALOG= "DSMAP.CAT"
  A_AXIS_RADIUS = 3396.0
  B_AXIS_RADIUS = 3396.0
  C_AXIS_RADIUS = 3396.0
  CENTER_LATITUDE = 0.0
  CENTER_LONGITUDE = 177.0
  COORDINATE_SYSTEM_NAME = PLANETOGRAPHIC
  COORDINATE_SYSTEM_TYPE = "BODY-FIXED ROTATING"
  EASTERNMOST_LONGITUDE = 177.778
  FIRST_STANDARD_PARALLEL = "N/A"
  LINE_FIRST_PIXEL = 1
  LINE_LAST_PIXEL = 7259
  LINE_PROJECTION_OFFSET = -18585.8125
  MAP_PROJECTION_ROTATION = 0.0
  MAP_PROJECTION_TYPE = SINUSOIDAL
  MAP_RESOLUTION = 592.713803866667
  MAP_SCALE = 0.1
  MAXIMUM_LATITUDE = -31.3301
  MINIMUM_LATITUDE = -43.5246
  POSITIVE_LONGITUDE_DIRECTION = EAST
  REFERENCE_LATITUDE = "N/A"
  REFERENCE_LONGITUDE = "N/A"
  SAMPLE_FIRST_PIXEL = 1
  SAMPLE_LAST_PIXEL = 1093
  SAMPLE_PROJECTION_OFFSET = 719.1875
  SECOND_STANDARD_PARALLEL = "N/A"
  WESTERNMOST_LONGITUDE = 175.433
END_OBJECT = IMAGE_MAP_PROJECTION
/* The JPEG2000 image data file associated with this label. */
OBJECT = COMPRESSED_FILE
  FILE_NAME = "HC717_0000_IR3.JP2"
  RECORD_TYPE = UNDEFINED
  FILE_RECORDS = UNK
  ENCODING_TYPE = "JP2"
  INTERCHANGE_FORMAT = BINARY
  UNCOMPRESSED_FILE_NAME = "HC717_0000_IR3.IMG"
  REQUIRED_STORAGE_BYTES = "7952668"
  ^DESCRIPTION = "JP2INFO.TXT"
END_OBJECT = COMPRESSED_FILE
END
