PDS_VERSION_ID = PDS3
/* FILE DATA ELEMENTS */
RECORD_TYPE = STREAM
/* POINTERS TO DATA OBJECTS */
^COMPRESSED_FILE = "HC727_0000_ND3.JP2"
/* IDENTIFICATION DATA ELEMENTS */
DATA_SET_ID = "MEX-M-HRSC-5-REFDR-MAPPROJECTED-V3.0"
DATA_SET_NAME = "MARS EXPRESS HRSC MAP PROJECTED REFDR V3.0"
DETECTOR_ID = MEX_HRSC_NADIR
EVENT_TYPE = "MARS-REGIONAL-MAPPING-Im-Fl-Pf"
INSTRUMENT_HOST_ID = MEX
INSTRUMENT_HOST_NAME = "MARS EXPRESS"
INSTRUMENT_ID = HRSC
INSTRUMENT_NAME = "HIGH RESOLUTION STEREO CAMERA"
MISSION_NAME = "MARS EXPRESS"
MISSION_PHASE_NAME = ME_Phase_29
PROCESSING_LEVEL_ID = 3
PRODUCT_CREATION_TIME = 2016-10-29T02:00:08.000Z
PRODUCT_ID = "HC727_0000_ND3.JP2"
RELEASE_ID = 0121
REVISION_ID = 0000
/* QUALITY DATA ELEMENTS */
DATA_QUALITY_ID = 1
DATA_QUALITY_DESC = "Data calculated based on original SPICE kernels"
/* TIME DATA ELEMENTS */
SPACECRAFT_CLOCK_START_COUNT = "1/0337114951.08413"
SPACECRAFT_CLOCK_STOP_COUNT = "1/0337115150.57972"
START_TIME = 2014-01-06T19:03:08.188Z
STOP_TIME = 2014-01-06T19:05:12.177Z
/* ORBITAL DATA ELEMENTS */
ASCENDING_NODE_LONGITUDE = 334.83
MAXIMUM_RESOLUTION = 14.2
FOOTPRINT_POINT_LATITUDE = (-44.4525,-44.4441,-44.435,-44.4251, -44.4143,-44.4027,-44.2606,-43.9886, -43.7168,-43.4452,-43.2097,-43.0478, -42.886,-42.7243,-42.5625,-42.4009, -42.2395,-42.0781,-41.9168,-41.7556, -41.5944,-41.4333,-41.2724,-41.1115, -40.9507,-40.7899,-40.6292,-40.4687, -40.3082,-40.1477,-39.9874,-39.8272, -39.6671,-39.507,-39.3471,-39.1873, -39.0275,-38.8679,-38.7084,-38.5489, -38.3896,-38.0712,-37.7532,-37.4356, -37.1926,-37.0298,-36.8672,-36.7047, -36.5423,-36.5292,-36.5393,-36.5477, -36.5554,-36.5595,-36.5653,-36.7281, -36.891,-37.054,-37.2172,-37.4614, -37.7797,-37.9391,-38.0985,-38.258, -38.4177,-38.5774,-38.7372,-38.8972, -39.0572,-39.2173,-39.3776,-39.5379, -39.6983,-39.8588,-40.0195,-40.1802, -40.341,-40.5019,-40.6629,-40.8239, -40.9851,-41.1464,-41.3077,-41.4691, -41.6306,-41.7922,-41.9538,-42.1156, -42.2775,-42.4394,-42.6014,-42.7635, -42.9257,-43.088,-43.2503,-43.4896, -43.7619,-44.0345,-44.3072,-44.4525)
FOOTPRINT_POINT_LONGITUDE = (234.904,234.633,234.359,234.081,233.8, 233.515,233.375,233.395,233.415,233.434 ,233.45,233.461,233.472,233.483,233.488 ,233.499,233.513,233.522,233.533, 233.544,233.554,233.564,233.574,233.584 ,233.593,233.602,233.611,233.619, 233.627,233.634,233.642,233.649,233.656 ,233.663,233.67,233.677,233.684,233.691 ,233.699,233.705,233.712,233.724, 233.737,233.749,233.757,233.763,233.769 ,233.775,233.78,234.002,234.367,234.708 ,235.064,235.273,235.593,235.586, 235.578,235.571,235.563,235.552,235.537 ,235.53,235.522,235.515,235.507,235.499 ,235.492,235.484,235.476,235.468, 235.459,235.451,235.443,235.435,235.426 ,235.418,235.409,235.4,235.391,235.382, 235.374,235.365,235.356,235.347,235.338 ,235.33,235.322,235.311,235.301,235.291 ,235.28,235.27,235.259,235.249,235.239, 235.224,235.207,235.189,235.17,234.904)
ORBIT_NUMBER = 12727
ORBITAL_ECCENTRICITY = 0.577
ORBITAL_INCLINATION = 86.9
ORBITAL_SEMIMAJOR_AXIS = 8783.7
PERIAPSIS_ALTITUDE = 329.43
PERIAPSIS_ARGUMENT_ANGLE = 303.14
PERIAPSIS_TIME = 2014-01-06T19:00:00.000Z
SPACECRAFT_ORIENTATION = (0.0,1.0,0.0)
^MEX_ORIENTATION_DESC = "MEX_ORIENTATION_DESC.TXT"
SPACECRAFT_POINTING_MODE = ACROSSTRACK
^MEX_POINTING_DESC = "MEX_POINTING_DESC.TXT"
RIGHT_ASCENSION = -1e+32
DECLINATION = -1e+32
OFFSET_ANGLE = 1.0
SPACECRAFT_SOLAR_DISTANCE = 2.49229e+08
TARGET_NAME = MARS
/* CAMERA DATA ELEMENTS */
DETECTOR_TEMPERATURE = 18.3705
FOCAL_PLANE_TEMPERATURE = 8.9911
INST_CMPRS_NAME = "DISCRETE COSINE TRANSFORMATION (DCT)"
INST_CMPRS_RATIO = 5.32921
INST_CMPRS_QUALITY = 0
INST_CMPRS_QUANTZ_TBL_ID = 0
INSTRUMENT_TEMPERATURE = 11.6418
LENS_TEMPERATURE = 8.9911
MACROPIXEL_SIZE = 1
MISSING_FRAMES = 0
PIXEL_SUBSAMPLING_FLAG = N
SIGNAL_CHAIN_ID = 0
/* RADIOMETRIC DATA ELEMENTS */
BANDWIDTH = 177.0
CENTER_FILTER_WAVELENGTH = 677.5
RADIANCE_OFFSET = 0.639708
RADIANCE_SCALING_FACTOR = 0.0130887
REFLECTANCE_SCALING_FACTOR = 0.000431893
MEX:REFLECTANCE_OFFSET = 0.0211088
/* IMAGE OBJECT DEFINITIONS */
OBJECT = IMAGE
  INTERCHANGE_FORMAT = BINARY
  LINES = 37645
  LINE_SAMPLES = 8077
  SAMPLE_TYPE = UNSIGNED_INTEGER
  SAMPLE_BITS = 8
  BANDS = 1
  BAND_STORAGE_TYPE = BAND_SEQUENTIAL
  MAXIMUM = 255
  MEAN = 68.0055
  MINIMUM = 1
  STANDARD_DEVIATION = 22.0876
END_OBJECT = IMAGE
/* MAP OBJECT DEFINITIONS */
OBJECT = IMAGE_MAP_PROJECTION
  ^DATA_SET_MAP_PROJECTION_CATALOG= "DSMAP.CAT"
  A_AXIS_RADIUS = 3396.0
  B_AXIS_RADIUS = 3396.0
  C_AXIS_RADIUS = 3396.0
  CENTER_LATITUDE = 0.0
  CENTER_LONGITUDE = 235.0
  COORDINATE_SYSTEM_NAME = PLANETOGRAPHIC
  COORDINATE_SYSTEM_TYPE = "BODY-FIXED ROTATING"
  EASTERNMOST_LONGITUDE = 235.593
  FIRST_STANDARD_PARALLEL = "N/A"
  LINE_FIRST_PIXEL = 1
  LINE_LAST_PIXEL = 37645
  LINE_PROJECTION_OFFSET = -173174.0
  MAP_PROJECTION_ROTATION = 0.0
  MAP_PROJECTION_TYPE = SINUSOIDAL
  MAP_RESOLUTION = 4741.71043093333
  MAP_SCALE = 0.0125
  MAXIMUM_LATITUDE = -36.5292
  MINIMUM_LATITUDE = -44.4525
  POSITIVE_LONGITUDE_DIRECTION = EAST
  REFERENCE_LATITUDE = "N/A"
  REFERENCE_LONGITUDE = "N/A"
  SAMPLE_FIRST_PIXEL = 1
  SAMPLE_LAST_PIXEL = 8077
  SAMPLE_PROJECTION_OFFSET = 5806.0
  SECOND_STANDARD_PARALLEL = "N/A"
  WESTERNMOST_LONGITUDE = 233.375
END_OBJECT = IMAGE_MAP_PROJECTION
/* The JPEG2000 image data file associated with this label. */
OBJECT = COMPRESSED_FILE
  FILE_NAME = "HC727_0000_ND3.JP2"
  RECORD_TYPE = UNDEFINED
  FILE_RECORDS = UNK
  ENCODING_TYPE = "JP2"
  INTERCHANGE_FORMAT = BINARY
  UNCOMPRESSED_FILE_NAME = "HC727_0000_ND3.IMG"
  REQUIRED_STORAGE_BYTES = "304090973"
  ^DESCRIPTION = "JP2INFO.TXT"
END_OBJECT = COMPRESSED_FILE
END
