PDS_VERSION_ID = PDS3
/* FILE DATA ELEMENTS */
RECORD_TYPE = STREAM
/* POINTERS TO DATA OBJECTS */
^COMPRESSED_FILE = "HC730_0009_ND3.JP2"
/* IDENTIFICATION DATA ELEMENTS */
DATA_SET_ID = "MEX-M-HRSC-5-REFDR-MAPPROJECTED-V3.0"
DATA_SET_NAME = "MARS EXPRESS HRSC MAP PROJECTED REFDR V3.0"
DETECTOR_ID = MEX_HRSC_NADIR
EVENT_TYPE = "MARS-REGIONAL-MAPPING-Im-Gl-Pf"
INSTRUMENT_HOST_ID = MEX
INSTRUMENT_HOST_NAME = "MARS EXPRESS"
INSTRUMENT_ID = HRSC
INSTRUMENT_NAME = "HIGH RESOLUTION STEREO CAMERA"
MISSION_NAME = "MARS EXPRESS"
MISSION_PHASE_NAME = ME_Phase_29
PROCESSING_LEVEL_ID = 3
PRODUCT_CREATION_TIME = 2016-10-29T02:00:08.000Z
PRODUCT_ID = "HC730_0009_ND3.JP2"
RELEASE_ID = 0121
REVISION_ID = 0000
/* QUALITY DATA ELEMENTS */
DATA_QUALITY_ID = 1
DATA_QUALITY_DESC = "Data calculated based on original SPICE kernels"
/* TIME DATA ELEMENTS */
SPACECRAFT_CLOCK_START_COUNT = "1/0337190420.08242"
SPACECRAFT_CLOCK_STOP_COUNT = "1/0337190661.48790"
START_TIME = 2014-01-07T16:00:56.326Z
STOP_TIME = 2014-01-07T16:03:41.310Z
/* ORBITAL DATA ELEMENTS */
ASCENDING_NODE_LONGITUDE = 334.77
MAXIMUM_RESOLUTION = 14
FOOTPRINT_POINT_LATITUDE = (-45.7543,-45.7467,-45.7366,-45.7291, -45.7198,-45.5312,-45.3463,-45.1615, -44.9769,-44.6077,-44.3277,-43.9593, -43.5912,-43.2235,-42.9034,-42.6844, -42.4655,-42.2468,-42.0283,-41.8099, -41.5917,-41.3736,-41.1557,-40.938, -40.7204,-40.503,-40.2858,-40.0687, -39.8519,-39.6352,-39.4187,-39.2024, -38.9862,-38.7703,-38.5545,-38.3389, -38.1236,-37.9084,-37.6934,-37.4786, -37.259,-37.0388,-36.8189,-36.5992, -36.3797,-36.1568,-35.932,-35.7074, -35.4831,-35.259,-35.2452,-35.249, -35.2522,-35.2567,-35.2586,-35.5962, -35.8211,-36.0463,-36.3828,-36.6027, -36.8229,-37.0433,-37.2639,-37.4845, -37.6997,-37.9151,-38.1307,-38.3465, -38.5625,-38.7787,-38.9951,-39.2117, -39.4284,-39.6454,-39.8625,-40.0798, -40.2973,-40.515,-40.7328,-40.9508, -41.169,-41.3873,-41.6058,-41.8245, -42.0434,-42.2624,-42.4815,-42.7009, -42.9203,-43.2441,-43.6126,-43.9814, -44.3507,-44.6313,-44.8162,-45.0012, -45.1863,-45.3715,-45.5568,-45.7543)
FOOTPRINT_POINT_LONGITUDE = (289.694,289.303,288.862,288.574, 288.252,288.136,288.146,288.155,288.164 ,288.182,288.194,288.211,288.227, 288.243,288.256,288.264,288.273,288.281 ,288.288,288.296,288.303,288.31,288.317 ,288.323,288.33,288.336,288.342,288.348 ,288.353,288.358,288.364,288.369, 288.374,288.378,288.383,288.387,288.391 ,288.395,288.398,288.402,288.405, 288.409,288.412,288.414,288.415,288.418 ,288.42,288.422,288.426,288.428,288.749 ,289.016,289.283,289.781,290.12,290.227 ,290.221,290.215,290.206,290.2,290.194, 290.188,290.182,290.176,290.17,290.163, 290.157,290.151,290.145,290.138,290.132 ,290.125,290.118,290.111,290.105, 290.098,290.09,290.083,290.076,290.069, 290.061,290.053,290.046,290.038,290.03, 290.023,290.015,290.007,289.999,289.986 ,289.972,289.957,289.942,289.93,289.922 ,289.914,289.906,289.898,289.89, 289.694)
ORBIT_NUMBER = 12730
ORBITAL_ECCENTRICITY = 0.577
ORBITAL_INCLINATION = 86.88
ORBITAL_SEMIMAJOR_AXIS = 8783.26
PERIAPSIS_ALTITUDE = 330.29
PERIAPSIS_ARGUMENT_ANGLE = 302.66
PERIAPSIS_TIME = 2014-01-07T15:58:00.000Z
SPACECRAFT_ORIENTATION = (0.0,1.0,0.0)
^MEX_ORIENTATION_DESC = "MEX_ORIENTATION_DESC.TXT"
SPACECRAFT_POINTING_MODE = NADIR
^MEX_POINTING_DESC = "MEX_POINTING_DESC.TXT"
RIGHT_ASCENSION = -1e+32
DECLINATION = -1e+32
OFFSET_ANGLE = -1e+32
SPACECRAFT_SOLAR_DISTANCE = 2.49223e+08
TARGET_NAME = MARS
/* CAMERA DATA ELEMENTS */
DETECTOR_TEMPERATURE = 18.3705
FOCAL_PLANE_TEMPERATURE = 9.195
INST_CMPRS_NAME = "DISCRETE COSINE TRANSFORMATION (DCT)"
INST_CMPRS_RATIO = 5.80873
INST_CMPRS_QUALITY = 0
INST_CMPRS_QUANTZ_TBL_ID = 0
INSTRUMENT_TEMPERATURE = 11.8457
LENS_TEMPERATURE = 9.3989
MACROPIXEL_SIZE = 1
MISSING_FRAMES = 2
PIXEL_SUBSAMPLING_FLAG = N
SIGNAL_CHAIN_ID = 0
/* RADIOMETRIC DATA ELEMENTS */
BANDWIDTH = 177.0
CENTER_FILTER_WAVELENGTH = 677.5
RADIANCE_OFFSET = 0.16688
RADIANCE_SCALING_FACTOR = 0.00970742
REFLECTANCE_SCALING_FACTOR = 0.000320306
MEX:REFLECTANCE_OFFSET = 0.00550639
/* IMAGE OBJECT DEFINITIONS */
OBJECT = IMAGE
  INTERCHANGE_FORMAT = BINARY
  LINES = 49871
  LINE_SAMPLES = 7921
  SAMPLE_TYPE = UNSIGNED_INTEGER
  SAMPLE_BITS = 8
  BANDS = 1
  BAND_STORAGE_TYPE = BAND_SEQUENTIAL
  MAXIMUM = 255
  MEAN = 97.5312
  MINIMUM = 1
  STANDARD_DEVIATION = 24.6664
END_OBJECT = IMAGE
/* MAP OBJECT DEFINITIONS */
OBJECT = IMAGE_MAP_PROJECTION
  ^DATA_SET_MAP_PROJECTION_CATALOG= "DSMAP.CAT"
  A_AXIS_RADIUS = 3396.0
  B_AXIS_RADIUS = 3396.0
  C_AXIS_RADIUS = 3396.0
  CENTER_LATITUDE = 0.0
  CENTER_LONGITUDE = 289.0
  COORDINATE_SYSTEM_NAME = PLANETOGRAPHIC
  COORDINATE_SYSTEM_TYPE = "BODY-FIXED ROTATING"
  EASTERNMOST_LONGITUDE = 290.227
  FIRST_STANDARD_PARALLEL = "N/A"
  LINE_FIRST_PIXEL = 1
  LINE_LAST_PIXEL = 49871
  LINE_PROJECTION_OFFSET = -167098.0
  MAP_PROJECTION_ROTATION = 0.0
  MAP_PROJECTION_TYPE = SINUSOIDAL
  MAP_RESOLUTION = 4741.71043093333
  MAP_SCALE = 0.0125
  MAXIMUM_LATITUDE = -35.2452
  MINIMUM_LATITUDE = -45.7543
  POSITIVE_LONGITUDE_DIRECTION = EAST
  REFERENCE_LATITUDE = "N/A"
  REFERENCE_LONGITUDE = "N/A"
  SAMPLE_FIRST_PIXEL = 1
  SAMPLE_LAST_PIXEL = 7921
  SAMPLE_PROJECTION_OFFSET = 3006.0
  SECOND_STANDARD_PARALLEL = "N/A"
  WESTERNMOST_LONGITUDE = 288.136
END_OBJECT = IMAGE_MAP_PROJECTION
/* The JPEG2000 image data file associated with this label. */
OBJECT = COMPRESSED_FILE
  FILE_NAME = "HC730_0009_ND3.JP2"
  RECORD_TYPE = UNDEFINED
  FILE_RECORDS = UNK
  ENCODING_TYPE = "JP2"
  INTERCHANGE_FORMAT = BINARY
  UNCOMPRESSED_FILE_NAME = "HC730_0009_ND3.IMG"
  REQUIRED_STORAGE_BYTES = "395059875"
  ^DESCRIPTION = "JP2INFO.TXT"
END_OBJECT = COMPRESSED_FILE
END
