PDS_VERSION_ID = PDS3
/* FILE DATA ELEMENTS */
RECORD_TYPE = STREAM
/* POINTERS TO DATA OBJECTS */
^COMPRESSED_FILE = "HC730_0009_S13.JP2"
/* IDENTIFICATION DATA ELEMENTS */
DATA_SET_ID = "MEX-M-HRSC-5-REFDR-MAPPROJECTED-V3.0"
DATA_SET_NAME = "MARS EXPRESS HRSC MAP PROJECTED REFDR V3.0"
DETECTOR_ID = MEX_HRSC_S1
EVENT_TYPE = "MARS-REGIONAL-MAPPING-Im-Gl-Pf"
INSTRUMENT_HOST_ID = MEX
INSTRUMENT_HOST_NAME = "MARS EXPRESS"
INSTRUMENT_ID = HRSC
INSTRUMENT_NAME = "HIGH RESOLUTION STEREO CAMERA"
MISSION_NAME = "MARS EXPRESS"
MISSION_PHASE_NAME = ME_Phase_29
PROCESSING_LEVEL_ID = 3
PRODUCT_CREATION_TIME = 2016-10-29T02:00:08.000Z
PRODUCT_ID = "HC730_0009_S13.JP2"
RELEASE_ID = 0121
REVISION_ID = 0000
/* QUALITY DATA ELEMENTS */
DATA_QUALITY_ID = 1
DATA_QUALITY_DESC = "Data calculated based on original SPICE kernels"
/* TIME DATA ELEMENTS */
SPACECRAFT_CLOCK_START_COUNT = "1/0337190420.08242"
SPACECRAFT_CLOCK_STOP_COUNT = "1/0337190661.48790"
START_TIME = 2014-01-07T16:01:29.711Z
STOP_TIME = 2014-01-07T16:04:24.477Z
/* ORBITAL DATA ELEMENTS */
ASCENDING_NODE_LONGITUDE = 334.77
MAXIMUM_RESOLUTION = 30.8
FOOTPRINT_POINT_LATITUDE = (-45.6724,-45.6674,-45.6602,-45.6539, -45.6472,-45.4984,-45.1148,-44.8004, -44.5897,-44.3793,-44.1701,-43.9603, -43.7506,-43.5406,-43.3311,-43.017, -42.8086,-42.5994,-42.391,-42.1839, -41.9771,-41.6668,-41.3577,-41.0493, -40.8438,-40.6386,-40.4338,-40.2291, -40.0248,-39.821,-39.5079,-39.299, -39.0907,-38.7786,-38.4614,-38.2492, -38.037,-37.8254,-37.5038,-37.2878, -37.0721,-36.8554,-36.6373,-36.426, -36.2067,-35.8782,-35.5444,-35.3172, -35.206,-35.2099,-35.2124,-35.2146, -35.2176,-35.2192,-35.4426,-35.6664, -35.9975,-36.2165,-36.4359,-36.7652, -36.9808,-37.1966,-37.4134,-37.7375, -37.9496,-38.1623,-38.375,-38.5883, -38.8003,-39.0087,-39.2172,-39.4263, -39.6355,-39.8454,-40.0497,-40.357, -40.562,-40.7675,-40.9738,-41.18, -41.4894,-41.6959,-41.9057,-42.2168, -42.425,-42.634,-42.8429,-43.1561, -43.3657,-43.5757,-43.7854,-43.9955, -44.2047,-44.4143,-44.6257,-44.8381, -45.0492,-45.363,-45.7181,-45.6724)
FOOTPRINT_POINT_LONGITUDE = (289.528,289.268,288.921,288.644, 288.367,288.111,288.129,288.143,288.152 ,288.162,288.171,288.179,288.188, 288.197,288.205,288.218,288.225,288.233 ,288.241,288.247,288.254,288.264, 288.273,288.281,288.287,288.292,288.297 ,288.303,288.307,288.312,288.319, 288.323,288.327,288.333,288.338,288.342 ,288.345,288.348,288.353,288.355, 288.358,288.361,288.364,288.362,288.364 ,288.367,288.369,288.372,288.634, 289.028,289.309,289.591,290.023,290.311 ,290.305,290.298,290.288,290.281, 290.274,290.264,290.257,290.251,290.244 ,290.234,290.227,290.22,290.213,290.206 ,290.199,290.192,290.185,290.178, 290.171,290.164,290.156,290.145,290.138 ,290.13,290.123,290.115,290.104,290.096 ,290.089,290.076,290.068,290.06,290.052 ,290.039,290.031,290.022,290.013, 290.004,289.994,289.985,289.976,289.967 ,289.957,289.942,289.925,289.528)
ORBIT_NUMBER = 12730
ORBITAL_ECCENTRICITY = 0.577
ORBITAL_INCLINATION = 86.88
ORBITAL_SEMIMAJOR_AXIS = 8783.26
PERIAPSIS_ALTITUDE = 330.29
PERIAPSIS_ARGUMENT_ANGLE = 302.66
PERIAPSIS_TIME = 2014-01-07T15:58:00.000Z
SPACECRAFT_ORIENTATION = (0.0,1.0,0.0)
^MEX_ORIENTATION_DESC = "MEX_ORIENTATION_DESC.TXT"
SPACECRAFT_POINTING_MODE = NADIR
^MEX_POINTING_DESC = "MEX_POINTING_DESC.TXT"
RIGHT_ASCENSION = -1e+32
DECLINATION = -1e+32
OFFSET_ANGLE = -1e+32
SPACECRAFT_SOLAR_DISTANCE = 2.49223e+08
TARGET_NAME = MARS
/* CAMERA DATA ELEMENTS */
DETECTOR_TEMPERATURE = 17.9627
FOCAL_PLANE_TEMPERATURE = 9.195
INST_CMPRS_NAME = "DISCRETE COSINE TRANSFORMATION (DCT)"
INST_CMPRS_RATIO = 9.02775
INST_CMPRS_QUALITY = 0
INST_CMPRS_QUANTZ_TBL_ID = 0
INSTRUMENT_TEMPERATURE = 11.8457
LENS_TEMPERATURE = 9.3989
MACROPIXEL_SIZE = 2
MISSING_FRAMES = 0
PIXEL_SUBSAMPLING_FLAG = N
SIGNAL_CHAIN_ID = 1
/* RADIOMETRIC DATA ELEMENTS */
BANDWIDTH = 180.0
CENTER_FILTER_WAVELENGTH = 677.0
RADIANCE_OFFSET = 0.305542
RADIANCE_SCALING_FACTOR = 0.0113285
REFLECTANCE_SCALING_FACTOR = 0.000367105
MEX:REFLECTANCE_OFFSET = 0.00990125
/* IMAGE OBJECT DEFINITIONS */
OBJECT = IMAGE
  INTERCHANGE_FORMAT = BINARY
  LINES = 24936
  LINE_SAMPLES = 3961
  SAMPLE_TYPE = UNSIGNED_INTEGER
  SAMPLE_BITS = 8
  BANDS = 1
  BAND_STORAGE_TYPE = BAND_SEQUENTIAL
  MAXIMUM = 255
  MEAN = 101.372
  MINIMUM = 1
  STANDARD_DEVIATION = 23.9476
END_OBJECT = IMAGE
/* MAP OBJECT DEFINITIONS */
OBJECT = IMAGE_MAP_PROJECTION
  ^DATA_SET_MAP_PROJECTION_CATALOG= "DSMAP.CAT"
  A_AXIS_RADIUS = 3396.0
  B_AXIS_RADIUS = 3396.0
  C_AXIS_RADIUS = 3396.0
  CENTER_LATITUDE = 0.0
  CENTER_LONGITUDE = 289.0
  COORDINATE_SYSTEM_NAME = PLANETOGRAPHIC
  COORDINATE_SYSTEM_TYPE = "BODY-FIXED ROTATING"
  EASTERNMOST_LONGITUDE = 290.311
  FIRST_STANDARD_PARALLEL = "N/A"
  LINE_FIRST_PIXEL = 1
  LINE_LAST_PIXEL = 24936
  LINE_PROJECTION_OFFSET = -83549.25
  MAP_PROJECTION_ROTATION = 0.0
  MAP_PROJECTION_TYPE = SINUSOIDAL
  MAP_RESOLUTION = 2370.85521546667
  MAP_SCALE = 0.025
  MAXIMUM_LATITUDE = -35.206
  MINIMUM_LATITUDE = -45.7181
  POSITIVE_LONGITUDE_DIRECTION = EAST
  REFERENCE_LATITUDE = "N/A"
  REFERENCE_LONGITUDE = "N/A"
  SAMPLE_FIRST_PIXEL = 1
  SAMPLE_LAST_PIXEL = 3961
  SAMPLE_PROJECTION_OFFSET = 1502.75
  SECOND_STANDARD_PARALLEL = "N/A"
  WESTERNMOST_LONGITUDE = 288.111
END_OBJECT = IMAGE_MAP_PROJECTION
/* The JPEG2000 image data file associated with this label. */
OBJECT = COMPRESSED_FILE
  FILE_NAME = "HC730_0009_S13.JP2"
  RECORD_TYPE = UNDEFINED
  FILE_RECORDS = UNK
  ENCODING_TYPE = "JP2"
  INTERCHANGE_FORMAT = BINARY
  UNCOMPRESSED_FILE_NAME = "HC730_0009_S13.IMG"
  REQUIRED_STORAGE_BYTES = "98795262"
  ^DESCRIPTION = "JP2INFO.TXT"
END_OBJECT = COMPRESSED_FILE
END
