PDS_VERSION_ID = PDS3
/* FILE DATA ELEMENTS */
RECORD_TYPE = STREAM
/* POINTERS TO DATA OBJECTS */
^COMPRESSED_FILE = "HC731_0000_BL3.JP2"
/* IDENTIFICATION DATA ELEMENTS */
DATA_SET_ID = "MEX-M-HRSC-5-REFDR-MAPPROJECTED-V3.0"
DATA_SET_NAME = "MARS EXPRESS HRSC MAP PROJECTED REFDR V3.0"
DETECTOR_ID = MEX_HRSC_BLUE
EVENT_TYPE = "MARS-REGIONAL-MAPPING-Im-Fl"
INSTRUMENT_HOST_ID = MEX
INSTRUMENT_HOST_NAME = "MARS EXPRESS"
INSTRUMENT_ID = HRSC
INSTRUMENT_NAME = "HIGH RESOLUTION STEREO CAMERA"
MISSION_NAME = "MARS EXPRESS"
MISSION_PHASE_NAME = ME_Phase_29
PROCESSING_LEVEL_ID = 3
PRODUCT_CREATION_TIME = 2016-10-29T02:00:08.000Z
PRODUCT_ID = "HC731_0000_BL3.JP2"
RELEASE_ID = 0121
REVISION_ID = 0000
/* QUALITY DATA ELEMENTS */
DATA_QUALITY_ID = 1
DATA_QUALITY_DESC = "Data calculated based on original SPICE kernels"
/* TIME DATA ELEMENTS */
SPACECRAFT_CLOCK_START_COUNT = "1/0337215857.07339"
SPACECRAFT_CLOCK_STOP_COUNT = "1/0337216241.00629"
START_TIME = 2014-01-07T23:05:01.105Z
STOP_TIME = 2014-01-07T23:08:53.171Z
/* ORBITAL DATA ELEMENTS */
ASCENDING_NODE_LONGITUDE = 334.75
MAXIMUM_RESOLUTION = 81.1
FOOTPRINT_POINT_LATITUDE = (-27.3061,-27.3056,-27.3044,-27.3025, -27.3,-27.1786,-26.7133,-26.244, -26.0067,-25.7698,-25.5306,-25.2897, -25.0494,-24.6837,-24.4397,-24.1932, -23.9452,-23.6977,-23.4463,-23.0693, -22.8145,-22.4326,-22.1735,-21.915, -21.5229,-21.2611,-20.9958,-20.7306, -20.4627,-20.194,-19.787,-19.5154, -19.2388,-18.8236,-18.544,-18.2627, -17.9812,-17.6959,-17.2658,-16.9773, -16.686,-16.2446,-15.7997,-15.3508, -14.8974,-14.5933,-14.2853,-13.9724, -13.9673,-13.9601,-13.9544,-13.9454, -13.9385,-14.0916,-14.4005,-14.7081, -15.0145,-15.3172,-15.7682,-16.0666, -16.3629,-16.6568,-16.9495,-17.2394, -17.6712,-17.9576,-18.2407,-18.5235, -18.8034,-19.0822,-19.3588,-19.6341, -19.9071,-20.1791,-20.4484,-20.7172, -20.9833,-21.2497,-21.5122,-21.9055, -22.1647,-22.4237,-22.6787,-22.935, -23.3154,-23.5678,-23.9426,-24.1915, -24.4384,-24.6833,-25.0503,-25.2913, -25.5327,-25.7728,-26.0102,-26.2482, -26.485,-26.9527,-27.3006,-27.3061)
FOOTPRINT_POINT_LONGITUDE = (187.408,187.114,186.82,186.525,186.23, 185.993,185.988,185.98,185.976,185.972, 185.967,185.963,185.959,185.951,185.947 ,185.941,185.936,185.931,185.926, 185.916,185.91,185.901,185.894,185.886, 185.875,185.868,185.86,185.852,185.844, 185.836,185.823,185.816,185.804,185.79, 185.778,185.769,185.76,185.749,185.733, 185.722,185.711,185.69,185.671,185.652, 185.633,185.62,185.605,185.687,186.12, 186.698,187.082,187.61,187.97,188.169, 188.165,188.162,188.157,188.154,188.148 ,188.145,188.141,188.138,188.134, 188.131,188.125,188.122,188.118,188.114 ,188.111,188.107,188.103,188.099, 188.095,188.092,188.089,188.085,188.082 ,188.078,188.074,188.069,188.065, 188.062,188.059,188.054,188.047,188.044 ,188.038,188.033,188.03,188.026,188.019 ,188.015,188.012,188.007,188.003, 187.999,187.994,187.986,187.98,187.408)
ORBIT_NUMBER = 12731
ORBITAL_ECCENTRICITY = 0.577
ORBITAL_INCLINATION = 86.9
ORBITAL_SEMIMAJOR_AXIS = 8782.11
PERIAPSIS_ALTITUDE = 330.37
PERIAPSIS_ARGUMENT_ANGLE = 302.49
PERIAPSIS_TIME = 2014-01-07T22:57:15.000Z
SPACECRAFT_ORIENTATION = (0.0,1.0,0.0)
^MEX_ORIENTATION_DESC = "MEX_ORIENTATION_DESC.TXT"
SPACECRAFT_POINTING_MODE = ACROSSTRACK
^MEX_POINTING_DESC = "MEX_POINTING_DESC.TXT"
RIGHT_ASCENSION = -1e+32
DECLINATION = -1e+32
OFFSET_ANGLE = 0.2
SPACECRAFT_SOLAR_DISTANCE = 2.49221e+08
TARGET_NAME = MARS
/* CAMERA DATA ELEMENTS */
DETECTOR_TEMPERATURE = 19.39
FOCAL_PLANE_TEMPERATURE = 8.5833
INST_CMPRS_NAME = "DISCRETE COSINE TRANSFORMATION (DCT)"
INST_CMPRS_RATIO = 10.4412
INST_CMPRS_QUALITY = 0
INST_CMPRS_QUANTZ_TBL_ID = 0
INSTRUMENT_TEMPERATURE = 11.6418
LENS_TEMPERATURE = 8.7872
MACROPIXEL_SIZE = 4
MISSING_FRAMES = 0
PIXEL_SUBSAMPLING_FLAG = N
SIGNAL_CHAIN_ID = 2
/* RADIOMETRIC DATA ELEMENTS */
BANDWIDTH = 76.0
CENTER_FILTER_WAVELENGTH = 444.0
RADIANCE_OFFSET = 0.130695
RADIANCE_SCALING_FACTOR = 0.00274354
REFLECTANCE_SCALING_FACTOR = 0.00017508
MEX:REFLECTANCE_OFFSET = 0.00834037
/* IMAGE OBJECT DEFINITIONS */
OBJECT = IMAGE
  INTERCHANGE_FORMAT = BINARY
  LINES = 7927
  LINE_SAMPLES = 1572
  SAMPLE_TYPE = UNSIGNED_INTEGER
  SAMPLE_BITS = 8
  BANDS = 1
  BAND_STORAGE_TYPE = BAND_SEQUENTIAL
  MAXIMUM = 255
  MEAN = 136.572
  MINIMUM = 1
  STANDARD_DEVIATION = 20.9895
END_OBJECT = IMAGE
/* MAP OBJECT DEFINITIONS */
OBJECT = IMAGE_MAP_PROJECTION
  ^DATA_SET_MAP_PROJECTION_CATALOG= "DSMAP.CAT"
  A_AXIS_RADIUS = 3396.0
  B_AXIS_RADIUS = 3396.0
  C_AXIS_RADIUS = 3396.0
  CENTER_LATITUDE = 0.0
  CENTER_LONGITUDE = 187.0
  COORDINATE_SYSTEM_NAME = PLANETOGRAPHIC
  COORDINATE_SYSTEM_TYPE = "BODY-FIXED ROTATING"
  EASTERNMOST_LONGITUDE = 188.169
  FIRST_STANDARD_PARALLEL = "N/A"
  LINE_FIRST_PIXEL = 1
  LINE_LAST_PIXEL = 7927
  LINE_PROJECTION_OFFSET = -8254.625
  MAP_PROJECTION_ROTATION = 0.0
  MAP_PROJECTION_TYPE = SINUSOIDAL
  MAP_RESOLUTION = 592.713803866667
  MAP_SCALE = 0.1
  MAXIMUM_LATITUDE = -13.9385
  MINIMUM_LATITUDE = -27.3061
  POSITIVE_LONGITUDE_DIRECTION = EAST
  REFERENCE_LATITUDE = "N/A"
  REFERENCE_LONGITUDE = "N/A"
  SAMPLE_FIRST_PIXEL = 1
  SAMPLE_LAST_PIXEL = 1572
  SAMPLE_PROJECTION_OFFSET = 863.375
  SECOND_STANDARD_PARALLEL = "N/A"
  WESTERNMOST_LONGITUDE = 185.605
END_OBJECT = IMAGE_MAP_PROJECTION
/* The JPEG2000 image data file associated with this label. */
OBJECT = COMPRESSED_FILE
  FILE_NAME = "HC731_0000_BL3.JP2"
  RECORD_TYPE = UNDEFINED
  FILE_RECORDS = UNK
  ENCODING_TYPE = "JP2"
  INTERCHANGE_FORMAT = BINARY
  UNCOMPRESSED_FILE_NAME = "HC731_0000_BL3.IMG"
  REQUIRED_STORAGE_BYTES = "12480108"
  ^DESCRIPTION = "JP2INFO.TXT"
END_OBJECT = COMPRESSED_FILE
END
