PDS_VERSION_ID = PDS3
/* FILE DATA ELEMENTS */
RECORD_TYPE = STREAM
/* POINTERS TO DATA OBJECTS */
^COMPRESSED_FILE = "HC736_0000_P13.JP2"
/* IDENTIFICATION DATA ELEMENTS */
DATA_SET_ID = "MEX-M-HRSC-5-REFDR-MAPPROJECTED-V3.0"
DATA_SET_NAME = "MARS EXPRESS HRSC MAP PROJECTED REFDR V3.0"
DETECTOR_ID = MEX_HRSC_P1
EVENT_TYPE = "MARS-REGIONAL-MAPPING-Vo-Im-Fl"
INSTRUMENT_HOST_ID = MEX
INSTRUMENT_HOST_NAME = "MARS EXPRESS"
INSTRUMENT_ID = HRSC
INSTRUMENT_NAME = "HIGH RESOLUTION STEREO CAMERA"
MISSION_NAME = "MARS EXPRESS"
MISSION_PHASE_NAME = ME_Phase_29
PROCESSING_LEVEL_ID = 3
PRODUCT_CREATION_TIME = 2016-10-29T02:00:08.000Z
PRODUCT_ID = "HC736_0000_P13.JP2"
RELEASE_ID = 0121
REVISION_ID = 0000
/* QUALITY DATA ELEMENTS */
DATA_QUALITY_ID = 1
DATA_QUALITY_DESC = "Data calculated based on original SPICE kernels"
/* TIME DATA ELEMENTS */
SPACECRAFT_CLOCK_START_COUNT = "1/0337341353.07309"
SPACECRAFT_CLOCK_STOP_COUNT = "1/0337341582.62403"
START_TIME = 2014-01-09T09:56:50.215Z
STOP_TIME = 2014-01-09T09:59:30.809Z
/* ORBITAL DATA ELEMENTS */
ASCENDING_NODE_LONGITUDE = 334.66
MAXIMUM_RESOLUTION = 29.4
FOOTPRINT_POINT_LATITUDE = (-47.4262,-47.4188,-47.4084,-47.4012, -47.3885,-47.1624,-46.9903,-46.8183, -46.5645,-46.3891,-46.2154,-45.8713, -45.5932,-45.2855,-45.0803,-44.8757, -44.5687,-44.2682,-44.0647,-43.8625, -43.6606,-43.4586,-43.2534,-42.9479, -42.7409,-42.5393,-42.2375,-41.9357, -41.7342,-41.5336,-41.3327,-41.037, -40.8376,-40.536,-40.3341,-40.1349, -39.8298,-39.5248,-39.3216,-39.1184, -38.9128,-38.7053,-38.4976,-38.2902, -37.9794,-37.7682,-37.5564,-37.5273, -37.5321,-37.5354,-37.5409,-37.5432, -37.5458,-37.7578,-38.0745,-38.2817, -38.4893,-38.6981,-38.9066,-39.1132, -39.3163,-39.519,-39.723,-40.0291, -40.2317,-40.4312,-40.631,-40.8311, -41.0317,-41.2327,-41.4339,-41.6348, -41.836,-42.0375,-42.2391,-42.542, -42.7439,-42.9465,-43.1487,-43.3515, -43.555,-43.8595,-44.0641,-44.2683, -44.473,-44.6785,-44.9859,-45.1908, -45.3961,-45.6054,-45.8027,-45.9751, -46.2306,-46.4035,-46.5763,-46.7493, -46.9224,-47.0957,-47.2687,-47.4262)
FOOTPRINT_POINT_LONGITUDE = (36.4509,36.0852,35.6324,35.354,34.9012 ,34.8147,34.8244,34.8338,34.8448, 34.8566,34.867,34.8851,34.8999,34.9155, 34.9258,34.9356,34.9501,34.96,34.9687, 34.9764,34.9839,34.9913,35.0009,35.0136 ,35.0242,35.0311,35.041,35.0508,35.0574 ,35.0635,35.0697,35.0752,35.0804, 35.0897,35.0964,35.1013,35.1078,35.1142 ,35.1184,35.1225,35.1266,35.1302, 35.1339,35.1374,35.1426,35.1461,35.1493 ,35.3873,35.7361,35.956,36.4332,36.7268 ,37.0457,37.0392,37.0301,37.0234, 37.0168,37.0105,37.0038,36.9969,36.99, 36.9826,36.9757,36.9649,36.9577,36.9507 ,36.9436,36.9365,36.9294,36.9223, 36.9151,36.9075,36.8999,36.8922,36.8843 ,36.8724,36.8642,36.8561,36.8475, 36.8391,36.8309,36.8176,36.8094,36.8008 ,36.7921,36.7838,36.7702,36.761,36.7516 ,36.7444,36.7353,36.7271,36.7127, 36.7044,36.6958,36.6872,36.6785,36.6697 ,36.6606,36.4509)
ORBIT_NUMBER = 12736
ORBITAL_ECCENTRICITY = 0.577
ORBITAL_INCLINATION = 86.89
ORBITAL_SEMIMAJOR_AXIS = 8783.95
PERIAPSIS_ALTITUDE = 330.4
PERIAPSIS_ARGUMENT_ANGLE = 301.64
PERIAPSIS_TIME = 2014-01-09T09:53:43.000Z
SPACECRAFT_ORIENTATION = (0.0,1.0,0.0)
^MEX_ORIENTATION_DESC = "MEX_ORIENTATION_DESC.TXT"
SPACECRAFT_POINTING_MODE = NADIR
^MEX_POINTING_DESC = "MEX_POINTING_DESC.TXT"
RIGHT_ASCENSION = -1e+32
DECLINATION = -1e+32
OFFSET_ANGLE = -1e+32
SPACECRAFT_SOLAR_DISTANCE = 2.49209e+08
TARGET_NAME = MARS
/* CAMERA DATA ELEMENTS */
DETECTOR_TEMPERATURE = 15.9237
FOCAL_PLANE_TEMPERATURE = 8.1755
INST_CMPRS_NAME = "DISCRETE COSINE TRANSFORMATION (DCT)"
INST_CMPRS_RATIO = 6.39077
INST_CMPRS_QUALITY = 0
INST_CMPRS_QUANTZ_TBL_ID = 0
INSTRUMENT_TEMPERATURE = 11.4379
LENS_TEMPERATURE = 8.7872
MACROPIXEL_SIZE = 2
MISSING_FRAMES = 0
PIXEL_SUBSAMPLING_FLAG = N
SIGNAL_CHAIN_ID = 3
/* RADIOMETRIC DATA ELEMENTS */
BANDWIDTH = 174.0
CENTER_FILTER_WAVELENGTH = 675.0
RADIANCE_OFFSET = 0.144162
RADIANCE_SCALING_FACTOR = 0.0139451
REFLECTANCE_SCALING_FACTOR = 0.000465836
MEX:REFLECTANCE_OFFSET = 0.00481574
/* IMAGE OBJECT DEFINITIONS */
OBJECT = IMAGE
  INTERCHANGE_FORMAT = BINARY
  LINES = 23526
  LINE_SAMPLES = 3845
  SAMPLE_TYPE = UNSIGNED_INTEGER
  SAMPLE_BITS = 8
  BANDS = 1
  BAND_STORAGE_TYPE = BAND_SEQUENTIAL
  MAXIMUM = 255
  MEAN = 90.2998
  MINIMUM = 1
  STANDARD_DEVIATION = 25.0243
END_OBJECT = IMAGE
/* MAP OBJECT DEFINITIONS */
OBJECT = IMAGE_MAP_PROJECTION
  ^DATA_SET_MAP_PROJECTION_CATALOG= "DSMAP.CAT"
  A_AXIS_RADIUS = 3396.0
  B_AXIS_RADIUS = 3396.0
  C_AXIS_RADIUS = 3396.0
  CENTER_LATITUDE = 0.0
  CENTER_LONGITUDE = 36.0
  COORDINATE_SYSTEM_NAME = PLANETOGRAPHIC
  COORDINATE_SYSTEM_TYPE = "BODY-FIXED ROTATING"
  EASTERNMOST_LONGITUDE = 37.0457
  FIRST_STANDARD_PARALLEL = "N/A"
  LINE_FIRST_PIXEL = 1
  LINE_LAST_PIXEL = 23526
  LINE_PROJECTION_OFFSET = -89031.75
  MAP_PROJECTION_ROTATION = 0.0
  MAP_PROJECTION_TYPE = SINUSOIDAL
  MAP_RESOLUTION = 2370.85521546667
  MAP_SCALE = 0.025
  MAXIMUM_LATITUDE = -37.5273
  MINIMUM_LATITUDE = -47.4262
  POSITIVE_LONGITUDE_DIRECTION = EAST
  REFERENCE_LATITUDE = "N/A"
  REFERENCE_LONGITUDE = "N/A"
  SAMPLE_FIRST_PIXEL = 1
  SAMPLE_LAST_PIXEL = 3845
  SAMPLE_PROJECTION_OFFSET = 1927.25
  SECOND_STANDARD_PARALLEL = "N/A"
  WESTERNMOST_LONGITUDE = 34.8147
END_OBJECT = IMAGE_MAP_PROJECTION
/* The JPEG2000 image data file associated with this label. */
OBJECT = COMPRESSED_FILE
  FILE_NAME = "HC736_0000_P13.JP2"
  RECORD_TYPE = UNDEFINED
  FILE_RECORDS = UNK
  ENCODING_TYPE = "JP2"
  INTERCHANGE_FORMAT = BINARY
  UNCOMPRESSED_FILE_NAME = "HC736_0000_P13.IMG"
  REQUIRED_STORAGE_BYTES = "90480540"
  ^DESCRIPTION = "JP2INFO.TXT"
END_OBJECT = COMPRESSED_FILE
END
