PDS_VERSION_ID = PDS3
/* FILE DATA ELEMENTS */
RECORD_TYPE = STREAM
/* POINTERS TO DATA OBJECTS */
^COMPRESSED_FILE = "HC737_0000_BL3.JP2"
/* IDENTIFICATION DATA ELEMENTS */
DATA_SET_ID = "MEX-M-HRSC-5-REFDR-MAPPROJECTED-V3.0"
DATA_SET_NAME = "MARS EXPRESS HRSC MAP PROJECTED REFDR V3.0"
DETECTOR_ID = MEX_HRSC_BLUE
EVENT_TYPE = "MARS-REGIONAL-MAPPING-Im-Gl-Pf"
INSTRUMENT_HOST_ID = MEX
INSTRUMENT_HOST_NAME = "MARS EXPRESS"
INSTRUMENT_ID = HRSC
INSTRUMENT_NAME = "HIGH RESOLUTION STEREO CAMERA"
MISSION_NAME = "MARS EXPRESS"
MISSION_PHASE_NAME = ME_Phase_29
PROCESSING_LEVEL_ID = 3
PRODUCT_CREATION_TIME = 2016-10-29T02:00:08.000Z
PRODUCT_ID = "HC737_0000_BL3.JP2"
RELEASE_ID = 0121
REVISION_ID = 0000
/* QUALITY DATA ELEMENTS */
DATA_QUALITY_ID = 1
DATA_QUALITY_DESC = "Data calculated based on original SPICE kernels"
/* TIME DATA ELEMENTS */
SPACECRAFT_CLOCK_START_COUNT = "1/0337366533.07319"
SPACECRAFT_CLOCK_STOP_COUNT = "1/0337366766.05599"
START_TIME = 2014-01-09T16:56:04.129Z
STOP_TIME = 2014-01-09T16:58:38.626Z
/* ORBITAL DATA ELEMENTS */
ASCENDING_NODE_LONGITUDE = 334.64
MAXIMUM_RESOLUTION = 56.3
FOOTPRINT_POINT_LATITUDE = (-46.4426,-46.4355,-46.428,-46.4173, -46.4056,-46.2221,-46.0505,-45.8791, -45.7077,-45.5365,-45.3652,-45.0232, -44.5105,-44.1686,-43.8656,-43.6622, -43.4588,-43.2555,-43.0524,-42.8496, -42.6468,-42.4441,-42.2415,-42.039, -41.8366,-41.6341,-41.4321,-41.1291, -40.9272,-40.7257,-40.5234,-40.221, -40.0207,-39.8199,-39.6187,-39.4178, -39.2169,-39.0163,-38.8157,-38.6154, -38.4154,-38.2108,-38.0057,-37.8008, -37.596,-37.3916,-37.1855,-36.9469, -36.7376,-36.5282,-36.5188,-36.5225, -36.5265,-36.5295,-36.5319,-36.5346, -36.6419,-36.9566,-37.1961,-37.5048, -37.7099,-37.9153,-38.1208,-38.4289, -38.6295,-38.9308,-39.232,-39.4329, -39.634,-39.8354,-40.037,-40.2388, -40.5418,-40.7432,-40.9454,-41.1482, -41.452,-41.6545,-41.8572,-42.0602, -42.3645,-42.5677,-42.771,-42.9746, -43.1782,-43.4837,-43.6875,-43.8914, -44.1967,-44.4533,-44.6244,-44.7957, -45.0528,-45.2243,-45.3956,-45.6531, -45.8249,-45.9967,-46.1688,-46.4426)
FOOTPRINT_POINT_LONGITUDE = (294.266,293.91,293.587,293.183,292.795 ,292.683,292.693,292.702,292.711,292.72 ,292.729,292.747,292.772,292.786,292.8, 292.808,292.817,292.825,292.833,292.842 ,292.85,292.857,292.865,292.872,292.879 ,292.885,292.892,292.902,292.908, 292.914,292.918,292.925,292.933,292.938 ,292.943,292.947,292.951,292.955, 292.959,292.963,292.967,292.971,292.974 ,292.978,292.981,292.985,292.987, 292.991,292.994,292.996,293.281,293.5, 293.769,294.005,294.224,294.561,294.799 ,294.791,294.784,294.776,294.77,294.764 ,294.758,294.749,294.743,294.733, 294.724,294.719,294.712,294.706,294.699 ,294.692,294.682,294.677,294.67,294.661 ,294.65,294.643,294.636,294.629,294.618 ,294.611,294.603,294.595,294.586, 294.574,294.567,294.558,294.547,294.537 ,294.53,294.523,294.512,294.504,294.497 ,294.485,294.477,294.469,294.461, 294.266)
ORBIT_NUMBER = 12737
ORBITAL_ECCENTRICITY = 0.577
ORBITAL_INCLINATION = 86.88
ORBITAL_SEMIMAJOR_AXIS = 8781.18
PERIAPSIS_ALTITUDE = 330.3
PERIAPSIS_ARGUMENT_ANGLE = 301.48
PERIAPSIS_TIME = 2014-01-09T16:53:06.000Z
SPACECRAFT_ORIENTATION = (0.0,1.0,0.0)
^MEX_ORIENTATION_DESC = "MEX_ORIENTATION_DESC.TXT"
SPACECRAFT_POINTING_MODE = NADIR
^MEX_POINTING_DESC = "MEX_POINTING_DESC.TXT"
RIGHT_ASCENSION = -1e+32
DECLINATION = -1e+32
OFFSET_ANGLE = -1e+32
SPACECRAFT_SOLAR_DISTANCE = 2.49206e+08
TARGET_NAME = MARS
/* CAMERA DATA ELEMENTS */
DETECTOR_TEMPERATURE = 18.3705
FOCAL_PLANE_TEMPERATURE = 8.5833
INST_CMPRS_NAME = "DISCRETE COSINE TRANSFORMATION (DCT)"
INST_CMPRS_RATIO = 4.16291
INST_CMPRS_QUALITY = 0
INST_CMPRS_QUANTZ_TBL_ID = 0
INSTRUMENT_TEMPERATURE = 11.4379
LENS_TEMPERATURE = 9.6028
MACROPIXEL_SIZE = 4
MISSING_FRAMES = 16
PIXEL_SUBSAMPLING_FLAG = N
SIGNAL_CHAIN_ID = 2
/* RADIOMETRIC DATA ELEMENTS */
BANDWIDTH = 76.0
CENTER_FILTER_WAVELENGTH = 444.0
RADIANCE_OFFSET = 0.0706934
RADIANCE_SCALING_FACTOR = 0.00181739
REFLECTANCE_SCALING_FACTOR = 0.000115963
MEX:REFLECTANCE_OFFSET = 0.00451078
/* IMAGE OBJECT DEFINITIONS */
OBJECT = IMAGE
  INTERCHANGE_FORMAT = BINARY
  LINES = 11784
  LINE_SAMPLES = 1923
  SAMPLE_TYPE = UNSIGNED_INTEGER
  SAMPLE_BITS = 8
  BANDS = 1
  BAND_STORAGE_TYPE = BAND_SEQUENTIAL
  MAXIMUM = 255
  MEAN = 114.425
  MINIMUM = 1
  STANDARD_DEVIATION = 20.7935
END_OBJECT = IMAGE
/* MAP OBJECT DEFINITIONS */
OBJECT = IMAGE_MAP_PROJECTION
  ^DATA_SET_MAP_PROJECTION_CATALOG= "DSMAP.CAT"
  A_AXIS_RADIUS = 3396.0
  B_AXIS_RADIUS = 3396.0
  C_AXIS_RADIUS = 3396.0
  CENTER_LATITUDE = 0.0
  CENTER_LONGITUDE = 294.0
  COORDINATE_SYSTEM_NAME = PLANETOGRAPHIC
  COORDINATE_SYSTEM_TYPE = "BODY-FIXED ROTATING"
  EASTERNMOST_LONGITUDE = 294.799
  FIRST_STANDARD_PARALLEL = "N/A"
  LINE_FIRST_PIXEL = 1
  LINE_LAST_PIXEL = 11784
  LINE_PROJECTION_OFFSET = -43260.375
  MAP_PROJECTION_ROTATION = 0.0
  MAP_PROJECTION_TYPE = SINUSOIDAL
  MAP_RESOLUTION = 1185.42760773333
  MAP_SCALE = 0.05
  MAXIMUM_LATITUDE = -36.5188
  MINIMUM_LATITUDE = -46.4426
  POSITIVE_LONGITUDE_DIRECTION = EAST
  REFERENCE_LATITUDE = "N/A"
  REFERENCE_LONGITUDE = "N/A"
  SAMPLE_FIRST_PIXEL = 1
  SAMPLE_LAST_PIXEL = 1923
  SAMPLE_PROJECTION_OFFSET = 1117.625
  SECOND_STANDARD_PARALLEL = "N/A"
  WESTERNMOST_LONGITUDE = 292.683
END_OBJECT = IMAGE_MAP_PROJECTION
/* The JPEG2000 image data file associated with this label. */
OBJECT = COMPRESSED_FILE
  FILE_NAME = "HC737_0000_BL3.JP2"
  RECORD_TYPE = UNDEFINED
  FILE_RECORDS = UNK
  ENCODING_TYPE = "JP2"
  INTERCHANGE_FORMAT = BINARY
  UNCOMPRESSED_FILE_NAME = "HC737_0000_BL3.IMG"
  REQUIRED_STORAGE_BYTES = "22679862"
  ^DESCRIPTION = "JP2INFO.TXT"
END_OBJECT = COMPRESSED_FILE
END
