PDS_VERSION_ID = PDS3
/* FILE DATA ELEMENTS */
RECORD_TYPE = STREAM
/* POINTERS TO DATA OBJECTS */
^COMPRESSED_FILE = "HC737_0000_S23.JP2"
/* IDENTIFICATION DATA ELEMENTS */
DATA_SET_ID = "MEX-M-HRSC-5-REFDR-MAPPROJECTED-V3.0"
DATA_SET_NAME = "MARS EXPRESS HRSC MAP PROJECTED REFDR V3.0"
DETECTOR_ID = MEX_HRSC_S2
EVENT_TYPE = "MARS-REGIONAL-MAPPING-Im-Gl-Pf"
INSTRUMENT_HOST_ID = MEX
INSTRUMENT_HOST_NAME = "MARS EXPRESS"
INSTRUMENT_ID = HRSC
INSTRUMENT_NAME = "HIGH RESOLUTION STEREO CAMERA"
MISSION_NAME = "MARS EXPRESS"
MISSION_PHASE_NAME = ME_Phase_29
PROCESSING_LEVEL_ID = 3
PRODUCT_CREATION_TIME = 2016-10-29T02:00:08.000Z
PRODUCT_ID = "HC737_0000_S23.JP2"
RELEASE_ID = 0121
REVISION_ID = 0000
/* QUALITY DATA ELEMENTS */
DATA_QUALITY_ID = 1
DATA_QUALITY_DESC = "Data calculated based on original SPICE kernels"
/* TIME DATA ELEMENTS */
SPACECRAFT_CLOCK_START_COUNT = "1/0337366533.07319"
SPACECRAFT_CLOCK_STOP_COUNT = "1/0337366766.05599"
START_TIME = 2014-01-09T16:55:37.837Z
STOP_TIME = 2014-01-09T16:58:07.326Z
/* ORBITAL DATA ELEMENTS */
ASCENDING_NODE_LONGITUDE = 334.64
MAXIMUM_RESOLUTION = 29.2
FOOTPRINT_POINT_LATITUDE = (-46.5292,-46.5197,-46.5071,-46.4935, -46.3494,-46.1698,-45.9907,-45.8118, -45.6331,-45.3648,-45.1859,-45.0084, -44.7418,-44.5624,-44.382,-44.2022, -44.0234,-43.7554,-43.487,-43.308, -43.1298,-42.9519,-42.685,-42.5075, -42.2076,-41.9951,-41.6738,-41.3552, -41.1424,-40.8232,-40.606,-40.3893, -40.1791,-39.9734,-39.7596,-39.4385, -39.1178,-38.9038,-38.5842,-38.2657, -38.0532,-37.8411,-37.5239,-37.3093, -37.0963,-36.8879,-36.6747,-36.5552, -36.5613,-36.5647,-36.5693,-36.5725, -36.5753,-36.6839,-36.8961,-37.2147, -37.4273,-37.7463,-37.9591,-38.1722, -38.385,-38.5981,-38.8128,-39.0271, -39.2393,-39.4511,-39.6637,-39.8771, -40.0912,-40.3058,-40.6262,-40.8365, -41.0513,-41.2692,-41.4824,-41.695, -42.0157,-42.2304,-42.4425,-42.6218, -42.8909,-43.0709,-43.2507,-43.4304, -43.6085,-43.7873,-44.0556,-44.2323, -44.4113,-44.6795,-44.8581,-45.0379, -45.2175,-45.3952,-45.6646,-45.8444, -46.0242,-46.2052,-46.3852,-46.5292)
FOOTPRINT_POINT_LONGITUDE = (294.193,293.762,293.298,292.884, 292.684,292.694,292.704,292.714,292.723 ,292.738,292.747,292.757,292.771, 292.779,292.787,292.795,292.804,292.816 ,292.828,292.835,292.843,292.85,292.861 ,292.869,292.88,292.888,292.899,292.91, 292.917,292.927,292.932,292.937,292.944 ,292.953,292.958,292.965,292.973, 292.977,292.984,292.991,292.995,292.999 ,293.005,293.008,293.011,293.016, 293.018,293.121,293.443,293.629,293.9, 294.171,294.476,294.768,294.762,294.754 ,294.749,294.74,294.735,294.729,294.723 ,294.717,294.71,294.704,294.698,294.692 ,294.686,294.68,294.673,294.666,294.656 ,294.65,294.643,294.634,294.627,294.62, 294.609,294.601,294.594,294.588,294.578 ,294.571,294.564,294.557,294.551, 294.544,294.534,294.528,294.521,294.51, 294.503,294.495,294.488,294.481,294.469 ,294.461,294.453,294.444,294.435, 294.193)
ORBIT_NUMBER = 12737
ORBITAL_ECCENTRICITY = 0.577
ORBITAL_INCLINATION = 86.88
ORBITAL_SEMIMAJOR_AXIS = 8781.18
PERIAPSIS_ALTITUDE = 330.3
PERIAPSIS_ARGUMENT_ANGLE = 301.48
PERIAPSIS_TIME = 2014-01-09T16:53:06.000Z
SPACECRAFT_ORIENTATION = (0.0,1.0,0.0)
^MEX_ORIENTATION_DESC = "MEX_ORIENTATION_DESC.TXT"
SPACECRAFT_POINTING_MODE = NADIR
^MEX_POINTING_DESC = "MEX_POINTING_DESC.TXT"
RIGHT_ASCENSION = -1e+32
DECLINATION = -1e+32
OFFSET_ANGLE = -1e+32
SPACECRAFT_SOLAR_DISTANCE = 2.49206e+08
TARGET_NAME = MARS
/* CAMERA DATA ELEMENTS */
DETECTOR_TEMPERATURE = 18.3705
FOCAL_PLANE_TEMPERATURE = 8.5833
INST_CMPRS_NAME = "DISCRETE COSINE TRANSFORMATION (DCT)"
INST_CMPRS_RATIO = 10.2666
INST_CMPRS_QUALITY = 0
INST_CMPRS_QUANTZ_TBL_ID = 0
INSTRUMENT_TEMPERATURE = 11.4379
LENS_TEMPERATURE = 9.6028
MACROPIXEL_SIZE = 2
MISSING_FRAMES = 0
PIXEL_SUBSAMPLING_FLAG = N
SIGNAL_CHAIN_ID = 1
/* RADIOMETRIC DATA ELEMENTS */
BANDWIDTH = 178.0
CENTER_FILTER_WAVELENGTH = 679.0
RADIANCE_OFFSET = 0.286198
RADIANCE_SCALING_FACTOR = 0.0097644
REFLECTANCE_SCALING_FACTOR = 0.000321139
MEX:REFLECTANCE_OFFSET = 0.00941269
/* IMAGE OBJECT DEFINITIONS */
OBJECT = IMAGE
  INTERCHANGE_FORMAT = BINARY
  LINES = 23568
  LINE_SAMPLES = 3845
  SAMPLE_TYPE = UNSIGNED_INTEGER
  SAMPLE_BITS = 8
  BANDS = 1
  BAND_STORAGE_TYPE = BAND_SEQUENTIAL
  MAXIMUM = 255
  MEAN = 97.2846
  MINIMUM = 1
  STANDARD_DEVIATION = 22.4599
END_OBJECT = IMAGE
/* MAP OBJECT DEFINITIONS */
OBJECT = IMAGE_MAP_PROJECTION
  ^DATA_SET_MAP_PROJECTION_CATALOG= "DSMAP.CAT"
  A_AXIS_RADIUS = 3396.0
  B_AXIS_RADIUS = 3396.0
  C_AXIS_RADIUS = 3396.0
  CENTER_LATITUDE = 0.0
  CENTER_LONGITUDE = 294.0
  COORDINATE_SYSTEM_NAME = PLANETOGRAPHIC
  COORDINATE_SYSTEM_TYPE = "BODY-FIXED ROTATING"
  EASTERNMOST_LONGITUDE = 294.768
  FIRST_STANDARD_PARALLEL = "N/A"
  LINE_FIRST_PIXEL = 1
  LINE_LAST_PIXEL = 23568
  LINE_PROJECTION_OFFSET = -86520.25
  MAP_PROJECTION_ROTATION = 0.0
  MAP_PROJECTION_TYPE = SINUSOIDAL
  MAP_RESOLUTION = 2370.85521546667
  MAP_SCALE = 0.025
  MAXIMUM_LATITUDE = -36.5552
  MINIMUM_LATITUDE = -46.5292
  POSITIVE_LONGITUDE_DIRECTION = EAST
  REFERENCE_LATITUDE = "N/A"
  REFERENCE_LONGITUDE = "N/A"
  SAMPLE_FIRST_PIXEL = 1
  SAMPLE_LAST_PIXEL = 3845
  SAMPLE_PROJECTION_OFFSET = 2235.75
  SECOND_STANDARD_PARALLEL = "N/A"
  WESTERNMOST_LONGITUDE = 292.684
END_OBJECT = IMAGE_MAP_PROJECTION
/* The JPEG2000 image data file associated with this label. */
OBJECT = COMPRESSED_FILE
  FILE_NAME = "HC737_0000_S23.JP2"
  RECORD_TYPE = UNDEFINED
  FILE_RECORDS = UNK
  ENCODING_TYPE = "JP2"
  INTERCHANGE_FORMAT = BINARY
  UNCOMPRESSED_FILE_NAME = "HC737_0000_S23.IMG"
  REQUIRED_STORAGE_BYTES = "90642030"
  ^DESCRIPTION = "JP2INFO.TXT"
END_OBJECT = COMPRESSED_FILE
END
