PDS_VERSION_ID = PDS3
/* FILE DATA ELEMENTS */
RECORD_TYPE = STREAM
/* POINTERS TO DATA OBJECTS */
^COMPRESSED_FILE = "HC743_0000_GR3.JP2"
/* IDENTIFICATION DATA ELEMENTS */
DATA_SET_ID = "MEX-M-HRSC-5-REFDR-MAPPROJECTED-V3.0"
DATA_SET_NAME = "MARS EXPRESS HRSC MAP PROJECTED REFDR V3.0"
DETECTOR_ID = MEX_HRSC_GREEN
EVENT_TYPE = "MARS-REGIONAL-MAPPING-Vo-Im-Fl"
INSTRUMENT_HOST_ID = MEX
INSTRUMENT_HOST_NAME = "MARS EXPRESS"
INSTRUMENT_ID = HRSC
INSTRUMENT_NAME = "HIGH RESOLUTION STEREO CAMERA"
MISSION_NAME = "MARS EXPRESS"
MISSION_PHASE_NAME = ME_Phase_29
PROCESSING_LEVEL_ID = 3
PRODUCT_CREATION_TIME = 2016-10-29T02:00:08.000Z
PRODUCT_ID = "HC743_0000_GR3.JP2"
RELEASE_ID = 0121
REVISION_ID = 0000
/* QUALITY DATA ELEMENTS */
DATA_QUALITY_ID = 1
DATA_QUALITY_DESC = "Data calculated based on original SPICE kernels"
/* TIME DATA ELEMENTS */
SPACECRAFT_CLOCK_START_COUNT = "1/0337517534.09048"
SPACECRAFT_CLOCK_STOP_COUNT = "1/0337517752.05328"
START_TIME = 2014-01-11T10:52:59.045Z
STOP_TIME = 2014-01-11T10:55:15.264Z
/* ORBITAL DATA ELEMENTS */
ASCENDING_NODE_LONGITUDE = 334.53
MAXIMUM_RESOLUTION = 60.6
FOOTPRINT_POINT_LATITUDE = (-43.7055,-43.7002,-43.6944,-43.6879, -43.6808,-43.6688,-43.6681,-43.5046, -43.3413,-43.1779,-42.9342,-42.7716, -42.6084,-42.4451,-42.2824,-42.12, -41.9576,-41.7954,-41.6333,-41.3092, -40.9857,-40.6626,-40.4151,-40.2496, -40.0013,-39.836,-39.6711,-39.5062, -39.3392,-39.0862,-38.9174,-38.7488, -38.5803,-38.3277,-38.0689,-37.8966, -37.6396,-37.4679,-37.2964,-37.0328, -36.8565,-36.594,-36.4192,-36.2427, -36.0638,-35.7956,-35.6173,-35.4391, -35.2371,-35.2414,-35.2453,-35.2517, -35.2554,-35.2578,-35.2605,-35.4416, -35.6205,-35.7994,-35.9785,-36.1578, -36.3368,-36.5119,-36.6874,-36.8633, -37.0391,-37.2151,-37.3896,-37.5621, -37.7335,-37.9055,-38.0796,-38.2533, -38.4248,-38.592,-38.8457,-39.0154, -39.1841,-39.3536,-39.5217,-39.6871, -39.8526,-40.0181,-40.1837,-40.3495, -40.5154,-40.6811,-41.006,-41.1686, -41.4122,-41.736,-41.8983,-42.1426, -42.3056,-42.5503,-42.7135,-42.8767, -43.0401,-43.2852,-43.449,-43.7055)
FOOTPRINT_POINT_LONGITUDE = (40.1803,39.9156,39.6485,39.379,39.1073 ,38.6948,38.4191,38.4294,38.4391, 38.4495,38.4582,38.466,38.4772,38.4892, 38.4983,38.5062,38.5151,38.5231,38.5308 ,38.547,38.5627,38.5773,38.5885,38.5958 ,38.6077,38.6147,38.6207,38.627,38.6326 ,38.6406,38.6466,38.6527,38.6587, 38.6678,38.6776,38.6838,38.687,38.6917, 38.6962,38.7048,38.7134,38.7182,38.7217 ,38.7275,38.7314,38.738,38.7409,38.7445 ,38.8961,39.1369,39.3756,39.83,40.1723, 40.458,40.6945,40.6873,40.6802,40.673, 40.6657,40.6583,40.6509,40.6436,40.6362 ,40.6287,40.6212,40.6135,40.6059, 40.5982,40.5907,40.583,40.5749,40.5668, 40.5588,40.5513,40.5392,40.531,40.523, 40.5147,40.5064,40.4982,40.49,40.4816, 40.4732,40.4647,40.4562,40.4475,40.43, 40.4211,40.4077,40.3902,40.3813,40.3674 ,40.3581,40.3439,40.3344,40.3248, 40.3151,40.3004,40.2904,40.1803)
ORBIT_NUMBER = 12743
ORBITAL_ECCENTRICITY = 0.577
ORBITAL_INCLINATION = 86.89
ORBITAL_SEMIMAJOR_AXIS = 8782.2
PERIAPSIS_ALTITUDE = 330.27
PERIAPSIS_ARGUMENT_ANGLE = 300.45
PERIAPSIS_TIME = 2014-01-11T10:48:51.000Z
SPACECRAFT_ORIENTATION = (0.0,1.0,0.0)
^MEX_ORIENTATION_DESC = "MEX_ORIENTATION_DESC.TXT"
SPACECRAFT_POINTING_MODE = ACROSSTRACK
^MEX_POINTING_DESC = "MEX_POINTING_DESC.TXT"
RIGHT_ASCENSION = -1e+32
DECLINATION = -1e+32
OFFSET_ANGLE = 0.8
SPACECRAFT_SOLAR_DISTANCE = 2.49186e+08
TARGET_NAME = MARS
/* CAMERA DATA ELEMENTS */
DETECTOR_TEMPERATURE = 18.7783
FOCAL_PLANE_TEMPERATURE = 8.5833
INST_CMPRS_NAME = "DISCRETE COSINE TRANSFORMATION (DCT)"
INST_CMPRS_RATIO = 9.76682
INST_CMPRS_QUALITY = 0
INST_CMPRS_QUANTZ_TBL_ID = 0
INSTRUMENT_TEMPERATURE = 11.8457
LENS_TEMPERATURE = 8.1755
MACROPIXEL_SIZE = 4
MISSING_FRAMES = 0
PIXEL_SUBSAMPLING_FLAG = N
SIGNAL_CHAIN_ID = 2
/* RADIOMETRIC DATA ELEMENTS */
BANDWIDTH = 88.0
CENTER_FILTER_WAVELENGTH = 538.0
RADIANCE_OFFSET = 0.126288
RADIANCE_SCALING_FACTOR = 0.00453976
REFLECTANCE_SCALING_FACTOR = 0.000242701
MEX:REFLECTANCE_OFFSET = 0.00675149
/* IMAGE OBJECT DEFINITIONS */
OBJECT = IMAGE
  INTERCHANGE_FORMAT = BINARY
  LINES = 10079
  LINE_SAMPLES = 2081
  SAMPLE_TYPE = UNSIGNED_INTEGER
  SAMPLE_BITS = 8
  BANDS = 1
  BAND_STORAGE_TYPE = BAND_SEQUENTIAL
  MAXIMUM = 255
  MEAN = 116.907
  MINIMUM = 1
  STANDARD_DEVIATION = 31.351
END_OBJECT = IMAGE
/* MAP OBJECT DEFINITIONS */
OBJECT = IMAGE_MAP_PROJECTION
  ^DATA_SET_MAP_PROJECTION_CATALOG= "DSMAP.CAT"
  A_AXIS_RADIUS = 3396.0
  B_AXIS_RADIUS = 3396.0
  C_AXIS_RADIUS = 3396.0
  CENTER_LATITUDE = 0.0
  CENTER_LONGITUDE = 40.0
  COORDINATE_SYSTEM_NAME = PLANETOGRAPHIC
  COORDINATE_SYSTEM_TYPE = "BODY-FIXED ROTATING"
  EASTERNMOST_LONGITUDE = 40.6945
  FIRST_STANDARD_PARALLEL = "N/A"
  LINE_FIRST_PIXEL = 1
  LINE_LAST_PIXEL = 10079
  LINE_PROJECTION_OFFSET = -41770.125
  MAP_PROJECTION_ROTATION = 0.0
  MAP_PROJECTION_TYPE = SINUSOIDAL
  MAP_RESOLUTION = 1185.42760773333
  MAP_SCALE = 0.05
  MAXIMUM_LATITUDE = -35.2371
  MINIMUM_LATITUDE = -43.7055
  POSITIVE_LONGITUDE_DIRECTION = EAST
  REFERENCE_LATITUDE = "N/A"
  REFERENCE_LONGITUDE = "N/A"
  SAMPLE_FIRST_PIXEL = 1
  SAMPLE_LAST_PIXEL = 2081
  SAMPLE_PROJECTION_OFFSET = 1417.875
  SECOND_STANDARD_PARALLEL = "N/A"
  WESTERNMOST_LONGITUDE = 38.4191
END_OBJECT = IMAGE_MAP_PROJECTION
/* The JPEG2000 image data file associated with this label. */
OBJECT = COMPRESSED_FILE
  FILE_NAME = "HC743_0000_GR3.JP2"
  RECORD_TYPE = UNDEFINED
  FILE_RECORDS = UNK
  ENCODING_TYPE = "JP2"
  INTERCHANGE_FORMAT = BINARY
  UNCOMPRESSED_FILE_NAME = "HC743_0000_GR3.IMG"
  REQUIRED_STORAGE_BYTES = "20995209"
  ^DESCRIPTION = "JP2INFO.TXT"
END_OBJECT = COMPRESSED_FILE
END
